Workbook

Sheet Instructions
A1: Double click to open the instructions

Sheet PlotMetadata
A1: Plot Metadata Form
A2: Site: | F2: Ownership: | I2: Establishment Date:
A3: Plot ID: | I3: Visit Date:
A4: Evaluator(s):
A5: GPS Coordinate System: | E5: Datum: | H5: Zone (if applicable): | J5: Elevation:
A8: Transect | B8: Azimuth | C8: Length | E8: Latitude/Northing | H8: Longitude/Easting | J8: Slope (%)
A9: 1 | D9: Start
A10: 2 | D10: Start | J10: Aspect (°)
A11: 3 | D11: Start
A12: Directions to the Plot:
A26: Population: | G26: Home Range Name:
A27: Land Cover Type: | G27: Ecological Site:
A28: Associated Leks: | G28: Area (ha/ac) or Distance (km/mi) Sampled:
A29: Site Info: | C29: Arid Site | E29: Mesic Site | G29: Seasonal Habitat:
A30: PFC Status (riparian areas only):
A31: Comments: | H31: Plot Photos:
H32: Photo | I32: Description

Sheet PtCover
A1: Line-Point Intercept Data Form | Z1: Line-Point Intercept Data Form
A2: Date: | C2: =PlotMetadata!J3 -> 0 | E2: Site: | F2: =PlotMetadata!B2 -> 0 | I2: Plot ID: | K2: =PlotMetadata!B3 -> 0 | P2: Transect: | U2: # of Pts. Read: | Z2: Date: | AA2: =C2 -> 0 | AB2: Site: | AD2: =F2 -> 0 | AG2: Plot ID: | AH2: =K2 -> 0 | AM2: Transect: | AN2: =$R$2 -> 0
A3: Evaluator(s): | D3: =PlotMetadata!C4 -> 0 | Z3: Evaluator(s): | AB3: =D3 -> 0
A4: Azimuth: | D4: =IF($R$2=1, PlotMetadata!$B$9, IF($R$2=2, PlotMetadata!$B$10, IF($R$2=3, PlotMetadata!$B$11))) -> FALSE | J4: Intercept (Point) Spacing: | S4: Height: | Z4: Azimuth: | AB4: =IF($R$2=1, PlotMetadata!$B$9, IF($R$2=2, PlotMetadata!$B$10, IF($R$2=3, PlotMetadata!$B$11))) -> FALSE
A5: Pt. | B5: Top Layer | D5: Lower Layers | J5: Soil Surface | L5: Pt. | M5: Top Layer | P5: Lower Layers | W5: Soil Surface
D6: Code 1 | G6: Code 2 | H6: Code 3 | P6: Code 1 | R6: Code 2 | U6: Code 3 | Z6: Codes | AA6: First Hit (%) | AC6: Any Hit (%) | AF6: Top layer codes: Species code, common name, or NONE (no cover). | AQ6: None | AR6: No Lower | AS6: S | AT6: N, NL, S | AU6: None | AV6: No Lower | AW6: S | AX6: N, NL, S | AZ6: TF | BA6: TF2 | BC6: None | BD6: No Lower | BE6: G | BF6: N, NL, G | BG6: None | BH6: No Lower | BI6: G | BJ6: N, NL, G | BL6: None | BM6: No Lower | BN6: R | BO6: N, NL, G | BP6: None | BQ6: No Lower | BR6: R | BS6: N, NL, G | BU6: None | BV6: No Lower | BW6: BR | BX6: N, NL, G | BY6: None | BZ6: No Lower | CA6: BR | CB6: N, NL, G | CD6: None | CE6: No Lower | CF6: EL | CG6: N, NL, G | CH6: None | CI6: No Lower | CJ6: EL | CK6: N, NL, G | CM6: None | CN6: No Lower | CO6: D | CP6: N, NL, G | CQ6: None | CR6: No Lower | CS6: D | CT6: N, NL, G | CV6: None | CW6: No Lower | CX6: M | CY6: N, NL, G | CZ6: None | DA6: No Lower | DB6: M | DC6: N, NL, G | DE6: None | DF6: No Lower | DG6: LC | DH6: N, NL, G | DI6: None | DJ6: No Lower | DK6: LC | DL6: N, NL, G | DN6: None | DO6: Code 1 - L | DP6: N, L | DQ6: None | DR6: Code 1 - L | DS6: N, L | DU6: None | DV6: Code 1 - WL | DW6: N, WL | DX6: None | DY6: Code 1 - WL | DZ6: N, WL | EB6: None | EC6: Code 1 - VL | ED6: N, VL | EE6: None | EF6: Code 1 - VL | EG6: N, VL
A7: 1 | L7: 51 | AQ7: =IF(B7="None", 1, 0) -> 0 | AR7: =COUNTIF(D7:I7, "") -> 6 | AS7: =IF(J7="S", 1, 0) -> 0 | AT7: =IF(SUM(AQ7:AS7)=8, 1, 0) -> 0 | AU7: =IF(M7="None", 1, 0) -> 0 | AV7: =COUNTIF(P7:V7, "") -> 7 | AW7: =IF(W7="S", 1, 0) -> 0 | AX7: =IF(SUM(AU7:AW7)=9, 1, 0) -> 0 | AZ7: =IF(OR(B7="None", B7=""), 0, 1) -> 0 | BA7: =IF(OR(M7="None", M7=""), 0, 1) -> 0 | BC7: =IF($B7="None", 1, 0) -> 0 | BD7: =COUNTIF($D7:$I7, "") -> 6 | BE7: =IF($J7="G", 1, 0) -> 0 | BF7: =IF(SUM(BC7:BE7)=8, 1, 0) -> 0 | BG7: =IF($M7="None", 1, 0) -> 0 | BH7: =COUNTIF($P7:$V7, "") -> 7 | BI7: =IF($W7="G", 1, 0) -> 0 | BJ7: =IF(SUM(BG7:BI7)=9, 1, 0) -> 0 | BL7: =IF($B7="None", 1, 0) -> 0 | BM7: =COUNTIF($D7:$I7, "") -> 6 | BN7: =IF($J7="R", 1, 0) -> 0 | BO7: =IF(SUM(BL7:BN7)=8, 1, 0) -> 0 | BP7: =IF($M7="None", 1, 0) -> 0 | BQ7: =COUNTIF($P7:$V7, "") -> 7 | BR7: =IF($W7="R", 1, 0) -> 0 | BS7: =IF(SUM(BP7:BR7)=9, 1, 0) -> 0 | BU7: =IF($B7="None", 1, 0) -> 0 | BV7: =COUNTIF($D7:$I7, "") -> 6 | BW7: =IF($J7="BR", 1, 0) -> 0 | BX7: =IF(SUM(BU7:BW7)=8, 1, 0) -> 0 | BY7: =IF($M7="None", 1, 0) -> 0 | BZ7: =COUNTIF($P7:$V7, "") -> 7 | CA7: =IF($W7="BR", 1, 0) -> 0 | CB7: =IF(SUM(BY7:CA7)=9, 1, 0) -> 0 | CD7: =IF($B7="None", 1, 0) -> 0 | CE7: =COUNTIF($D7:$I7, "") -> 6 | CF7: =IF($J7="EL", 1, 0) -> 0 | CG7: =IF(SUM(CD7:CF7)=8, 1, 0) -> 0 | CH7: =IF($M7="None", 1, 0) -> 0 | CI7: =COUNTIF($P7:$V7, "") -> 7 | CJ7: =IF($W7="EL", 1, 0) -> 0 | CK7: =IF(SUM(CH7:CJ7)=9, 1, 0) -> 0 | CM7: =IF($B7="None", 1, 0) -> 0 | CN7: =COUNTIF($D7:$I7, "") -> 6 | CO7: =IF($J7="D", 1, 0) -> 0 | CP7: =IF(SUM(CM7:CO7)=8, 1, 0) -> 0 | CQ7: =IF($M7="None", 1, 0) -> 0 | CR7: =COUNTIF($P7:$V7, "") -> 7 | CS7: =IF($W7="D", 1, 0) -> 0 | CT7: =IF(SUM(CQ7:CS7)=9, 1, 0) -> 0 | CV7: =IF($B7="None", 1, 0) -> 0 | CW7: =COUNTIF($D7:$I7, "") -> 6 | CX7: =IF($J7="M", 1, 0) -> 0 | CY7: =IF(SUM(CV7:CX7)=8, 1, 0) -> 0 | CZ7: =IF($M7="None", 1, 0) -> 0 | DA7: =COUNTIF($P7:$V7, "") -> 7 | DB7: =IF($W7="M", 1, 0) -> 0 | DC7: =IF(SUM(CZ7:DB7)=9, 1, 0) -> 0 | DE7: =IF($B7="None", 1, 0) -> 0 | DF7: =COUNTIF($D7:$I7, "") -> 6 | DG7: =IF($J7="LC", 1, 0) -> 0 | DH7: =IF(SUM(DE7:DG7)=8, 1, 0) -> 0 | DI7: =IF($M7="None", 1, 0) -> 0 | DJ7: =COUNTIF($P7:$V7, "") -> 7 | DK7: =IF($W7="LC", 1, 0) -> 0 | DL7: =IF(SUM(DI7:DK7)=9, 1, 0) -> 0 | DN7: =IF($B7="None", 1, 0) -> 0 | DO7: =IF($D7="L", 1, 0) -> 0 | DP7: =IF(SUM(DN7:DO7)=2, 1, 0) -> 0 | DQ7: =IF($M7="None", 1, 0) -> 0 | DR7: =IF($P7="L", 1, 0) -> 0 | DS7: =IF(SUM(DQ7:DR7)=2, 1, 0) -> 0 | DU7: =IF($B7="None", 1, 0) -> 0 | DV7: =IF($D7="WL", 1, 0) -> 0 | DW7: =IF(SUM(DU7:DV7)=2, 1, 0) -> 0 | DX7: =IF($M7="None", 1, 0) -> 0 | DY7: =IF($P7="WL", 1, 0) -> 0 | DZ7: =IF(SUM(DX7:DY7)=2, 1, 0) -> 0 | EB7: =IF($B7="None", 1, 0) -> 0 | EC7: =IF($D7="VL", 1, 0) -> 0 | ED7: =IF(SUM(EB7:EC7)=2, 1, 0) -> 0 | EE7: =IF($M7="None", 1, 0) -> 0 | EF7: =IF($P7="VL", 1, 0) -> 0 | EG7: =IF(SUM(EE7:EF7)=2, 1, 0) -> 0
A8: 2 | L8: 52 | Z8: G | AA8: =(BF57+BJ57)/X2 -> #DIV/0! | AC8: =AG137/$X$2 -> #DIV/0! | AQ8: =IF(B8="None", 1, 0) -> 0 | AR8: =COUNTIF(D8:I8, "") -> 6 | AS8: =IF(J8="S", 1, 0) -> 0 | AT8: =IF(SUM(AQ8:AS8)=8, 1, 0) -> 0 | AU8: =IF(M8="None", 1, 0) -> 0 | AV8: =COUNTIF(P8:V8, "") -> 7 | AW8: =IF(W8="S", 1, 0) -> 0 | AX8: =IF(SUM(AU8:AW8)=9, 1, 0) -> 0 | AZ8: =IF(OR(B8="None", B8=""), 0, 1) -> 0 | BA8: =IF(OR(M8="None", M8=""), 0, 1) -> 0 | BC8: =IF($B8="None", 1, 0) -> 0 | BD8: =COUNTIF($D8:$I8, "") -> 6 | BE8: =IF($J8="G", 1, 0) -> 0 | BF8: =IF(SUM(BC8:BE8)=8, 1, 0) -> 0 | BG8: =IF($M8="None", 1, 0) -> 0 | BH8: =COUNTIF($P8:$V8, "") -> 7 | BI8: =IF($W8="G", 1, 0) -> 0 | BJ8: =IF(SUM(BG8:BI8)=9, 1, 0) -> 0 | BL8: =IF($B8="None", 1, 0) -> 0 | BM8: =COUNTIF($D8:$I8, "") -> 6 | BN8: =IF($J8="R", 1, 0) -> 0 | BO8: =IF(SUM(BL8:BN8)=8, 1, 0) -> 0 | BP8: =IF($M8="None", 1, 0) -> 0 | BQ8: =COUNTIF($P8:$V8, "") -> 7 | BR8: =IF($W8="R", 1, 0) -> 0 | BS8: =IF(SUM(BP8:BR8)=9, 1, 0) -> 0 | BU8: =IF($B8="None", 1, 0) -> 0 | BV8: =COUNTIF($D8:$I8, "") -> 6 | BW8: =IF($J8="BR", 1, 0) -> 0 | BX8: =IF(SUM(BU8:BW8)=8, 1, 0) -> 0 | BY8: =IF($M8="None", 1, 0) -> 0 | BZ8: =COUNTIF($P8:$V8, "") -> 7 | CA8: =IF($W8="BR", 1, 0) -> 0 | CB8: =IF(SUM(BY8:CA8)=9, 1, 0) -> 0 | CD8: =IF($B8="None", 1, 0) -> 0 | CE8: =COUNTIF($D8:$I8, "") -> 6 | CF8: =IF($J8="EL", 1, 0) -> 0 | CG8: =IF(SUM(CD8:CF8)=8, 1, 0) -> 0 | CH8: =IF($M8="None", 1, 0) -> 0 | CI8: =COUNTIF($P8:$V8, "") -> 7 | CJ8: =IF($W8="EL", 1, 0) -> 0 | CK8: =IF(SUM(CH8:CJ8)=9, 1, 0) -> 0 | CM8: =IF($B8="None", 1, 0) -> 0 | CN8: =COUNTIF($D8:$I8, "") -> 6 | CO8: =IF($J8="D", 1, 0) -> 0 | CP8: =IF(SUM(CM8:CO8)=8, 1, 0) -> 0 | CQ8: =IF($M8="None", 1, 0) -> 0 | CR8: =COUNTIF($P8:$V8, "") -> 7 | CS8: =IF($W8="D", 1, 0) -> 0 | CT8: =IF(SUM(CQ8:CS8)=9, 1, 0) -> 0 | CV8: =IF($B8="None", 1, 0) -> 0 | CW8: =COUNTIF($D8:$I8, "") -> 6 | CX8: =IF($J8="M", 1, 0) -> 0 | CY8: =IF(SUM(CV8:CX8)=8, 1, 0) -> 0 | CZ8: =IF($M8="None", 1, 0) -> 0 | DA8: =COUNTIF($P8:$V8, "") -> 7 | DB8: =IF($W8="M", 1, 0) -> 0 | DC8: =IF(SUM(CZ8:DB8)=9, 1, 0) -> 0 | DE8: =IF($B8="None", 1, 0) -> 0 | DF8: =COUNTIF($D8:$I8, "") -> 6 | DG8: =IF($J8="LC", 1, 0) -> 0 | DH8: =IF(SUM(DE8:DG8)=8, 1, 0) -> 0 | DI8: =IF($M8="None", 1, 0) -> 0 | DJ8: =COUNTIF($P8:$V8, "") -> 7 | DK8: =IF($W8="LC", 1, 0) -> 0 | DL8: =IF(SUM(DI8:DK8)=9, 1, 0) -> 0 | DN8: =IF($B8="None", 1, 0) -> 0 | DO8: =IF($D8="L", 1, 0) -> 0 | DP8: =IF(SUM(DN8:DO8)=2, 1, 0) -> 0 | DQ8: =IF($M8="None", 1, 0) -> 0 | DR8: =IF($P8="L", 1, 0) -> 0 | DS8: =IF(SUM(DQ8:DR8)=2, 1, 0) -> 0 | DU8: =IF($B8="None", 1, 0) -> 0 | DV8: =IF($D8="WL", 1, 0) -> 0 | DW8: =IF(SUM(DU8:DV8)=2, 1, 0) -> 0 | DX8: =IF($M8="None", 1, 0) -> 0 | DY8: =IF($P8="WL", 1, 0) -> 0 | DZ8: =IF(SUM(DX8:DY8)=2, 1, 0) -> 0 | EB8: =IF($B8="None", 1, 0) -> 0 | EC8: =IF($D8="VL", 1, 0) -> 0 | ED8: =IF(SUM(EB8:EC8)=2, 1, 0) -> 0 | EE8: =IF($M8="None", 1, 0) -> 0 | EF8: =IF($P8="VL", 1, 0) -> 0 | EG8: =IF(SUM(EE8:EF8)=2, 1, 0) -> 0
A9: 3 | L9: 53 | Z9: R | AA9: =(BO57+BS57)/X2 -> #DIV/0! | AC9: =AG138/$X$2 -> #DIV/0! | AQ9: =IF(B9="None", 1, 0) -> 0 | AR9: =COUNTIF(D9:I9, "") -> 6 | AS9: =IF(J9="S", 1, 0) -> 0 | AT9: =IF(SUM(AQ9:AS9)=8, 1, 0) -> 0 | AU9: =IF(M9="None", 1, 0) -> 0 | AV9: =COUNTIF(P9:V9, "") -> 7 | AW9: =IF(W9="S", 1, 0) -> 0 | AX9: =IF(SUM(AU9:AW9)=9, 1, 0) -> 0 | AZ9: =IF(OR(B9="None", B9=""), 0, 1) -> 0 | BA9: =IF(OR(M9="None", M9=""), 0, 1) -> 0 | BC9: =IF($B9="None", 1, 0) -> 0 | BD9: =COUNTIF($D9:$I9, "") -> 6 | BE9: =IF($J9="G", 1, 0) -> 0 | BF9: =IF(SUM(BC9:BE9)=8, 1, 0) -> 0 | BG9: =IF($M9="None", 1, 0) -> 0 | BH9: =COUNTIF($P9:$V9, "") -> 7 | BI9: =IF($W9="G", 1, 0) -> 0 | BJ9: =IF(SUM(BG9:BI9)=9, 1, 0) -> 0 | BL9: =IF($B9="None", 1, 0) -> 0 | BM9: =COUNTIF($D9:$I9, "") -> 6 | BN9: =IF($J9="R", 1, 0) -> 0 | BO9: =IF(SUM(BL9:BN9)=8, 1, 0) -> 0 | BP9: =IF($M9="None", 1, 0) -> 0 | BQ9: =COUNTIF($P9:$V9, "") -> 7 | BR9: =IF($W9="R", 1, 0) -> 0 | BS9: =IF(SUM(BP9:BR9)=9, 1, 0) -> 0 | BU9: =IF($B9="None", 1, 0) -> 0 | BV9: =COUNTIF($D9:$I9, "") -> 6 | BW9: =IF($J9="BR", 1, 0) -> 0 | BX9: =IF(SUM(BU9:BW9)=8, 1, 0) -> 0 | BY9: =IF($M9="None", 1, 0) -> 0 | BZ9: =COUNTIF($P9:$V9, "") -> 7 | CA9: =IF($W9="BR", 1, 0) -> 0 | CB9: =IF(SUM(BY9:CA9)=9, 1, 0) -> 0 | CD9: =IF($B9="None", 1, 0) -> 0 | CE9: =COUNTIF($D9:$I9, "") -> 6 | CF9: =IF($J9="EL", 1, 0) -> 0 | CG9: =IF(SUM(CD9:CF9)=8, 1, 0) -> 0 | CH9: =IF($M9="None", 1, 0) -> 0 | CI9: =COUNTIF($P9:$V9, "") -> 7 | CJ9: =IF($W9="EL", 1, 0) -> 0 | CK9: =IF(SUM(CH9:CJ9)=9, 1, 0) -> 0 | CM9: =IF($B9="None", 1, 0) -> 0 | CN9: =COUNTIF($D9:$I9, "") -> 6 | CO9: =IF($J9="D", 1, 0) -> 0 | CP9: =IF(SUM(CM9:CO9)=8, 1, 0) -> 0 | CQ9: =IF($M9="None", 1, 0) -> 0 | CR9: =COUNTIF($P9:$V9, "") -> 7 | CS9: =IF($W9="D", 1, 0) -> 0 | CT9: =IF(SUM(CQ9:CS9)=9, 1, 0) -> 0 | CV9: =IF($B9="None", 1, 0) -> 0 | CW9: =COUNTIF($D9:$I9, "") -> 6 | CX9: =IF($J9="M", 1, 0) -> 0 | CY9: =IF(SUM(CV9:CX9)=8, 1, 0) -> 0 | CZ9: =IF($M9="None", 1, 0) -> 0 | DA9: =COUNTIF($P9:$V9, "") -> 7 | DB9: =IF($W9="M", 1, 0) -> 0 | DC9: =IF(SUM(CZ9:DB9)=9, 1, 0) -> 0 | DE9: =IF($B9="None", 1, 0) -> 0 | DF9: =COUNTIF($D9:$I9, "") -> 6 | DG9: =IF($J9="LC", 1, 0) -> 0 | DH9: =IF(SUM(DE9:DG9)=8, 1, 0) -> 0 | DI9: =IF($M9="None", 1, 0) -> 0 | DJ9: =COUNTIF($P9:$V9, "") -> 7 | DK9: =IF($W9="LC", 1, 0) -> 0 | DL9: =IF(SUM(DI9:DK9)=9, 1, 0) -> 0 | DN9: =IF($B9="None", 1, 0) -> 0 | DO9: =IF($D9="L", 1, 0) -> 0 | DP9: =IF(SUM(DN9:DO9)=2, 1, 0) -> 0 | DQ9: =IF($M9="None", 1, 0) -> 0 | DR9: =IF($P9="L", 1, 0) -> 0 | DS9: =IF(SUM(DQ9:DR9)=2, 1, 0) -> 0 | DU9: =IF($B9="None", 1, 0) -> 0 | DV9: =IF($D9="WL", 1, 0) -> 0 | DW9: =IF(SUM(DU9:DV9)=2, 1, 0) -> 0 | DX9: =IF($M9="None", 1, 0) -> 0 | DY9: =IF($P9="WL", 1, 0) -> 0 | DZ9: =IF(SUM(DX9:DY9)=2, 1, 0) -> 0 | EB9: =IF($B9="None", 1, 0) -> 0 | EC9: =IF($D9="VL", 1, 0) -> 0 | ED9: =IF(SUM(EB9:EC9)=2, 1, 0) -> 0 | EE9: =IF($M9="None", 1, 0) -> 0 | EF9: =IF($P9="VL", 1, 0) -> 0 | EG9: =IF(SUM(EE9:EF9)=2, 1, 0) -> 0
A10: 4 | L10: 54 | Z10: BR | AA10: =(BX57+CB57)/X2 -> #DIV/0! | AC10: =AG139/$X$2 -> #DIV/0! | AQ10: =IF(B10="None", 1, 0) -> 0 | AR10: =COUNTIF(D10:I10, "") -> 6 | AS10: =IF(J10="S", 1, 0) -> 0 | AT10: =IF(SUM(AQ10:AS10)=8, 1, 0) -> 0 | AU10: =IF(M10="None", 1, 0) -> 0 | AV10: =COUNTIF(P10:V10, "") -> 7 | AW10: =IF(W10="S", 1, 0) -> 0 | AX10: =IF(SUM(AU10:AW10)=9, 1, 0) -> 0 | AZ10: =IF(OR(B10="None", B10=""), 0, 1) -> 0 | BA10: =IF(OR(M10="None", M10=""), 0, 1) -> 0 | BC10: =IF($B10="None", 1, 0) -> 0 | BD10: =COUNTIF($D10:$I10, "") -> 6 | BE10: =IF($J10="G", 1, 0) -> 0 | BF10: =IF(SUM(BC10:BE10)=8, 1, 0) -> 0 | BG10: =IF($M10="None", 1, 0) -> 0 | BH10: =COUNTIF($P10:$V10, "") -> 7 | BI10: =IF($W10="G", 1, 0) -> 0 | BJ10: =IF(SUM(BG10:BI10)=9, 1, 0) -> 0 | BL10: =IF($B10="None", 1, 0) -> 0 | BM10: =COUNTIF($D10:$I10, "") -> 6 | BN10: =IF($J10="R", 1, 0) -> 0 | BO10: =IF(SUM(BL10:BN10)=8, 1, 0) -> 0 | BP10: =IF($M10="None", 1, 0) -> 0 | BQ10: =COUNTIF($P10:$V10, "") -> 7 | BR10: =IF($W10="R", 1, 0) -> 0 | BS10: =IF(SUM(BP10:BR10)=9, 1, 0) -> 0 | BU10: =IF($B10="None", 1, 0) -> 0 | BV10: =COUNTIF($D10:$I10, "") -> 6 | BW10: =IF($J10="BR", 1, 0) -> 0 | BX10: =IF(SUM(BU10:BW10)=8, 1, 0) -> 0 | BY10: =IF($M10="None", 1, 0) -> 0 | BZ10: =COUNTIF($P10:$V10, "") -> 7 | CA10: =IF($W10="BR", 1, 0) -> 0 | CB10: =IF(SUM(BY10:CA10)=9, 1, 0) -> 0 | CD10: =IF($B10="None", 1, 0) -> 0 | CE10: =COUNTIF($D10:$I10, "") -> 6 | CF10: =IF($J10="EL", 1, 0) -> 0 | CG10: =IF(SUM(CD10:CF10)=8, 1, 0) -> 0 | CH10: =IF($M10="None", 1, 0) -> 0 | CI10: =COUNTIF($P10:$V10, "") -> 7 | CJ10: =IF($W10="EL", 1, 0) -> 0 | CK10: =IF(SUM(CH10:CJ10)=9, 1, 0) -> 0 | CM10: =IF($B10="None", 1, 0) -> 0 | CN10: =COUNTIF($D10:$I10, "") -> 6 | CO10: =IF($J10="D", 1, 0) -> 0 | CP10: =IF(SUM(CM10:CO10)=8, 1, 0) -> 0 | CQ10: =IF($M10="None", 1, 0) -> 0 | CR10: =COUNTIF($P10:$V10, "") -> 7 | CS10: =IF($W10="D", 1, 0) -> 0 | CT10: =IF(SUM(CQ10:CS10)=9, 1, 0) -> 0 | CV10: =IF($B10="None", 1, 0) -> 0 | CW10: =COUNTIF($D10:$I10, "") -> 6 | CX10: =IF($J10="M", 1, 0) -> 0 | CY10: =IF(SUM(CV10:CX10)=8, 1, 0) -> 0 | CZ10: =IF($M10="None", 1, 0) -> 0 | DA10: =COUNTIF($P10:$V10, "") -> 7 | DB10: =IF($W10="M", 1, 0) -> 0 | DC10: =IF(SUM(CZ10:DB10)=9, 1, 0) -> 0 | DE10: =IF($B10="None", 1, 0) -> 0 | DF10: =COUNTIF($D10:$I10, "") -> 6 | DG10: =IF($J10="LC", 1, 0) -> 0 | DH10: =IF(SUM(DE10:DG10)=8, 1, 0) -> 0 | DI10: =IF($M10="None", 1, 0) -> 0 | DJ10: =COUNTIF($P10:$V10, "") -> 7 | DK10: =IF($W10="LC", 1, 0) -> 0 | DL10: =IF(SUM(DI10:DK10)=9, 1, 0) -> 0 | DN10: =IF($B10="None", 1, 0) -> 0 | DO10: =IF($D10="L", 1, 0) -> 0 | DP10: =IF(SUM(DN10:DO10)=2, 1, 0) -> 0 | DQ10: =IF($M10="None", 1, 0) -> 0 | DR10: =IF($P10="L", 1, 0) -> 0 | DS10: =IF(SUM(DQ10:DR10)=2, 1, 0) -> 0 | DU10: =IF($B10="None", 1, 0) -> 0 | DV10: =IF($D10="WL", 1, 0) -> 0 | DW10: =IF(SUM(DU10:DV10)=2, 1, 0) -> 0 | DX10: =IF($M10="None", 1, 0) -> 0 | DY10: =IF($P10="WL", 1, 0) -> 0 | DZ10: =IF(SUM(DX10:DY10)=2, 1, 0) -> 0 | EB10: =IF($B10="None", 1, 0) -> 0 | EC10: =IF($D10="VL", 1, 0) -> 0 | ED10: =IF(SUM(EB10:EC10)=2, 1, 0) -> 0 | EE10: =IF($M10="None", 1, 0) -> 0 | EF10: =IF($P10="VL", 1, 0) -> 0 | EG10: =IF(SUM(EE10:EF10)=2, 1, 0) -> 0
A11: 5 | L11: 55 | Z11: EL | AA11: =(CG57+CK57)/X2 -> #DIV/0! | AC11: =AG140/$X$2 -> #DIV/0! | AF11: Lower layers codes: Species code, common name, L (herbaceous litter), WL (woody litter, >5 mm (~1/4 inch) diameter), VL (vagrant lichen). | AQ11: =IF(B11="None", 1, 0) -> 0 | AR11: =COUNTIF(D11:I11, "") -> 6 | AS11: =IF(J11="S", 1, 0) -> 0 | AT11: =IF(SUM(AQ11:AS11)=8, 1, 0) -> 0 | AU11: =IF(M11="None", 1, 0) -> 0 | AV11: =COUNTIF(P11:V11, "") -> 7 | AW11: =IF(W11="S", 1, 0) -> 0 | AX11: =IF(SUM(AU11:AW11)=9, 1, 0) -> 0 | AZ11: =IF(OR(B11="None", B11=""), 0, 1) -> 0 | BA11: =IF(OR(M11="None", M11=""), 0, 1) -> 0 | BC11: =IF($B11="None", 1, 0) -> 0 | BD11: =COUNTIF($D11:$I11, "") -> 6 | BE11: =IF($J11="G", 1, 0) -> 0 | BF11: =IF(SUM(BC11:BE11)=8, 1, 0) -> 0 | BG11: =IF($M11="None", 1, 0) -> 0 | BH11: =COUNTIF($P11:$V11, "") -> 7 | BI11: =IF($W11="G", 1, 0) -> 0 | BJ11: =IF(SUM(BG11:BI11)=9, 1, 0) -> 0 | BL11: =IF($B11="None", 1, 0) -> 0 | BM11: =COUNTIF($D11:$I11, "") -> 6 | BN11: =IF($J11="R", 1, 0) -> 0 | BO11: =IF(SUM(BL11:BN11)=8, 1, 0) -> 0 | BP11: =IF($M11="None", 1, 0) -> 0 | BQ11: =COUNTIF($P11:$V11, "") -> 7 | BR11: =IF($W11="R", 1, 0) -> 0 | BS11: =IF(SUM(BP11:BR11)=9, 1, 0) -> 0 | BU11: =IF($B11="None", 1, 0) -> 0 | BV11: =COUNTIF($D11:$I11, "") -> 6 | BW11: =IF($J11="BR", 1, 0) -> 0 | BX11: =IF(SUM(BU11:BW11)=8, 1, 0) -> 0 | BY11: =IF($M11="None", 1, 0) -> 0 | BZ11: =COUNTIF($P11:$V11, "") -> 7 | CA11: =IF($W11="BR", 1, 0) -> 0 | CB11: =IF(SUM(BY11:CA11)=9, 1, 0) -> 0 | CD11: =IF($B11="None", 1, 0) -> 0 | CE11: =COUNTIF($D11:$I11, "") -> 6 | CF11: =IF($J11="EL", 1, 0) -> 0 | CG11: =IF(SUM(CD11:CF11)=8, 1, 0) -> 0 | CH11: =IF($M11="None", 1, 0) -> 0 | CI11: =COUNTIF($P11:$V11, "") -> 7 | CJ11: =IF($W11="EL", 1, 0) -> 0 | CK11: =IF(SUM(CH11:CJ11)=9, 1, 0) -> 0 | CM11: =IF($B11="None", 1, 0) -> 0 | CN11: =COUNTIF($D11:$I11, "") -> 6 | CO11: =IF($J11="D", 1, 0) -> 0 | CP11: =IF(SUM(CM11:CO11)=8, 1, 0) -> 0 | CQ11: =IF($M11="None", 1, 0) -> 0 | CR11: =COUNTIF($P11:$V11, "") -> 7 | CS11: =IF($W11="D", 1, 0) -> 0 | CT11: =IF(SUM(CQ11:CS11)=9, 1, 0) -> 0 | CV11: =IF($B11="None", 1, 0) -> 0 | CW11: =COUNTIF($D11:$I11, "") -> 6 | CX11: =IF($J11="M", 1, 0) -> 0 | CY11: =IF(SUM(CV11:CX11)=8, 1, 0) -> 0 | CZ11: =IF($M11="None", 1, 0) -> 0 | DA11: =COUNTIF($P11:$V11, "") -> 7 | DB11: =IF($W11="M", 1, 0) -> 0 | DC11: =IF(SUM(CZ11:DB11)=9, 1, 0) -> 0 | DE11: =IF($B11="None", 1, 0) -> 0 | DF11: =COUNTIF($D11:$I11, "") -> 6 | DG11: =IF($J11="LC", 1, 0) -> 0 | DH11: =IF(SUM(DE11:DG11)=8, 1, 0) -> 0 | DI11: =IF($M11="None", 1, 0) -> 0 | DJ11: =COUNTIF($P11:$V11, "") -> 7 | DK11: =IF($W11="LC", 1, 0) -> 0 | DL11: =IF(SUM(DI11:DK11)=9, 1, 0) -> 0 | DN11: =IF($B11="None", 1, 0) -> 0 | DO11: =IF($D11="L", 1, 0) -> 0 | DP11: =IF(SUM(DN11:DO11)=2, 1, 0) -> 0 | DQ11: =IF($M11="None", 1, 0) -> 0 | DR11: =IF($P11="L", 1, 0) -> 0 | DS11: =IF(SUM(DQ11:DR11)=2, 1, 0) -> 0 | DU11: =IF($B11="None", 1, 0) -> 0 | DV11: =IF($D11="WL", 1, 0) -> 0 | DW11: =IF(SUM(DU11:DV11)=2, 1, 0) -> 0 | DX11: =IF($M11="None", 1, 0) -> 0 | DY11: =IF($P11="WL", 1, 0) -> 0 | DZ11: =IF(SUM(DX11:DY11)=2, 1, 0) -> 0 | EB11: =IF($B11="None", 1, 0) -> 0 | EC11: =IF($D11="VL", 1, 0) -> 0 | ED11: =IF(SUM(EB11:EC11)=2, 1, 0) -> 0 | EE11: =IF($M11="None", 1, 0) -> 0 | EF11: =IF($P11="VL", 1, 0) -> 0 | EG11: =IF(SUM(EE11:EF11)=2, 1, 0) -> 0
A12: 6 | L12: 56 | Z12: D | AA12: =(CP57+CT57)/X2 -> #DIV/0! | AC12: =AG141/$X$2 -> #DIV/0! | AQ12: =IF(B12="None", 1, 0) -> 0 | AR12: =COUNTIF(D12:I12, "") -> 6 | AS12: =IF(J12="S", 1, 0) -> 0 | AT12: =IF(SUM(AQ12:AS12)=8, 1, 0) -> 0 | AU12: =IF(M12="None", 1, 0) -> 0 | AV12: =COUNTIF(P12:V12, "") -> 7 | AW12: =IF(W12="S", 1, 0) -> 0 | AX12: =IF(SUM(AU12:AW12)=9, 1, 0) -> 0 | AZ12: =IF(OR(B12="None", B12=""), 0, 1) -> 0 | BA12: =IF(OR(M12="None", M12=""), 0, 1) -> 0 | BC12: =IF($B12="None", 1, 0) -> 0 | BD12: =COUNTIF($D12:$I12, "") -> 6 | BE12: =IF($J12="G", 1, 0) -> 0 | BF12: =IF(SUM(BC12:BE12)=8, 1, 0) -> 0 | BG12: =IF($M12="None", 1, 0) -> 0 | BH12: =COUNTIF($P12:$V12, "") -> 7 | BI12: =IF($W12="G", 1, 0) -> 0 | BJ12: =IF(SUM(BG12:BI12)=9, 1, 0) -> 0 | BL12: =IF($B12="None", 1, 0) -> 0 | BM12: =COUNTIF($D12:$I12, "") -> 6 | BN12: =IF($J12="R", 1, 0) -> 0 | BO12: =IF(SUM(BL12:BN12)=8, 1, 0) -> 0 | BP12: =IF($M12="None", 1, 0) -> 0 | BQ12: =COUNTIF($P12:$V12, "") -> 7 | BR12: =IF($W12="R", 1, 0) -> 0 | BS12: =IF(SUM(BP12:BR12)=9, 1, 0) -> 0 | BU12: =IF($B12="None", 1, 0) -> 0 | BV12: =COUNTIF($D12:$I12, "") -> 6 | BW12: =IF($J12="BR", 1, 0) -> 0 | BX12: =IF(SUM(BU12:BW12)=8, 1, 0) -> 0 | BY12: =IF($M12="None", 1, 0) -> 0 | BZ12: =COUNTIF($P12:$V12, "") -> 7 | CA12: =IF($W12="BR", 1, 0) -> 0 | CB12: =IF(SUM(BY12:CA12)=9, 1, 0) -> 0 | CD12: =IF($B12="None", 1, 0) -> 0 | CE12: =COUNTIF($D12:$I12, "") -> 6 | CF12: =IF($J12="EL", 1, 0) -> 0 | CG12: =IF(SUM(CD12:CF12)=8, 1, 0) -> 0 | CH12: =IF($M12="None", 1, 0) -> 0 | CI12: =COUNTIF($P12:$V12, "") -> 7 | CJ12: =IF($W12="EL", 1, 0) -> 0 | CK12: =IF(SUM(CH12:CJ12)=9, 1, 0) -> 0 | CM12: =IF($B12="None", 1, 0) -> 0 | CN12: =COUNTIF($D12:$I12, "") -> 6 | CO12: =IF($J12="D", 1, 0) -> 0 | CP12: =IF(SUM(CM12:CO12)=8, 1, 0) -> 0 | CQ12: =IF($M12="None", 1, 0) -> 0 | CR12: =COUNTIF($P12:$V12, "") -> 7 | CS12: =IF($W12="D", 1, 0) -> 0 | CT12: =IF(SUM(CQ12:CS12)=9, 1, 0) -> 0 | CV12: =IF($B12="None", 1, 0) -> 0 | CW12: =COUNTIF($D12:$I12, "") -> 6 | CX12: =IF($J12="M", 1, 0) -> 0 | CY12: =IF(SUM(CV12:CX12)=8, 1, 0) -> 0 | CZ12: =IF($M12="None", 1, 0) -> 0 | DA12: =COUNTIF($P12:$V12, "") -> 7 | DB12: =IF($W12="M", 1, 0) -> 0 | DC12: =IF(SUM(CZ12:DB12)=9, 1, 0) -> 0 | DE12: =IF($B12="None", 1, 0) -> 0 | DF12: =COUNTIF($D12:$I12, "") -> 6 | DG12: =IF($J12="LC", 1, 0) -> 0 | DH12: =IF(SUM(DE12:DG12)=8, 1, 0) -> 0 | DI12: =IF($M12="None", 1, 0) -> 0 | DJ12: =COUNTIF($P12:$V12, "") -> 7 | DK12: =IF($W12="LC", 1, 0) -> 0 | DL12: =IF(SUM(DI12:DK12)=9, 1, 0) -> 0 | DN12: =IF($B12="None", 1, 0) -> 0 | DO12: =IF($D12="L", 1, 0) -> 0 | DP12: =IF(SUM(DN12:DO12)=2, 1, 0) -> 0 | DQ12: =IF($M12="None", 1, 0) -> 0 | DR12: =IF($P12="L", 1, 0) -> 0 | DS12: =IF(SUM(DQ12:DR12)=2, 1, 0) -> 0 | DU12: =IF($B12="None", 1, 0) -> 0 | DV12: =IF($D12="WL", 1, 0) -> 0 | DW12: =IF(SUM(DU12:DV12)=2, 1, 0) -> 0 | DX12: =IF($M12="None", 1, 0) -> 0 | DY12: =IF($P12="WL", 1, 0) -> 0 | DZ12: =IF(SUM(DX12:DY12)=2, 1, 0) -> 0 | EB12: =IF($B12="None", 1, 0) -> 0 | EC12: =IF($D12="VL", 1, 0) -> 0 | ED12: =IF(SUM(EB12:EC12)=2, 1, 0) -> 0 | EE12: =IF($M12="None", 1, 0) -> 0 | EF12: =IF($P12="VL", 1, 0) -> 0 | EG12: =IF(SUM(EE12:EF12)=2, 1, 0) -> 0
A13: 7 | L13: 57 | Z13: M | AA13: =(CY57+DC57)/X2 -> #DIV/0! | AC13: =AG142/$X$2 -> #DIV/0! | AQ13: =IF(B13="None", 1, 0) -> 0 | AR13: =COUNTIF(D13:I13, "") -> 6 | AS13: =IF(J13="S", 1, 0) -> 0 | AT13: =IF(SUM(AQ13:AS13)=8, 1, 0) -> 0 | AU13: =IF(M13="None", 1, 0) -> 0 | AV13: =COUNTIF(P13:V13, "") -> 7 | AW13: =IF(W13="S", 1, 0) -> 0 | AX13: =IF(SUM(AU13:AW13)=9, 1, 0) -> 0 | AZ13: =IF(OR(B13="None", B13=""), 0, 1) -> 0 | BA13: =IF(OR(M13="None", M13=""), 0, 1) -> 0 | BC13: =IF($B13="None", 1, 0) -> 0 | BD13: =COUNTIF($D13:$I13, "") -> 6 | BE13: =IF($J13="G", 1, 0) -> 0 | BF13: =IF(SUM(BC13:BE13)=8, 1, 0) -> 0 | BG13: =IF($M13="None", 1, 0) -> 0 | BH13: =COUNTIF($P13:$V13, "") -> 7 | BI13: =IF($W13="G", 1, 0) -> 0 | BJ13: =IF(SUM(BG13:BI13)=9, 1, 0) -> 0 | BL13: =IF($B13="None", 1, 0) -> 0 | BM13: =COUNTIF($D13:$I13, "") -> 6 | BN13: =IF($J13="R", 1, 0) -> 0 | BO13: =IF(SUM(BL13:BN13)=8, 1, 0) -> 0 | BP13: =IF($M13="None", 1, 0) -> 0 | BQ13: =COUNTIF($P13:$V13, "") -> 7 | BR13: =IF($W13="R", 1, 0) -> 0 | BS13: =IF(SUM(BP13:BR13)=9, 1, 0) -> 0 | BU13: =IF($B13="None", 1, 0) -> 0 | BV13: =COUNTIF($D13:$I13, "") -> 6 | BW13: =IF($J13="BR", 1, 0) -> 0 | BX13: =IF(SUM(BU13:BW13)=8, 1, 0) -> 0 | BY13: =IF($M13="None", 1, 0) -> 0 | BZ13: =COUNTIF($P13:$V13, "") -> 7 | CA13: =IF($W13="BR", 1, 0) -> 0 | CB13: =IF(SUM(BY13:CA13)=9, 1, 0) -> 0 | CD13: =IF($B13="None", 1, 0) -> 0 | CE13: =COUNTIF($D13:$I13, "") -> 6 | CF13: =IF($J13="EL", 1, 0) -> 0 | CG13: =IF(SUM(CD13:CF13)=8, 1, 0) -> 0 | CH13: =IF($M13="None", 1, 0) -> 0 | CI13: =COUNTIF($P13:$V13, "") -> 7 | CJ13: =IF($W13="EL", 1, 0) -> 0 | CK13: =IF(SUM(CH13:CJ13)=9, 1, 0) -> 0 | CM13: =IF($B13="None", 1, 0) -> 0 | CN13: =COUNTIF($D13:$I13, "") -> 6 | CO13: =IF($J13="D", 1, 0) -> 0 | CP13: =IF(SUM(CM13:CO13)=8, 1, 0) -> 0 | CQ13: =IF($M13="None", 1, 0) -> 0 | CR13: =COUNTIF($P13:$V13, "") -> 7 | CS13: =IF($W13="D", 1, 0) -> 0 | CT13: =IF(SUM(CQ13:CS13)=9, 1, 0) -> 0 | CV13: =IF($B13="None", 1, 0) -> 0 | CW13: =COUNTIF($D13:$I13, "") -> 6 | CX13: =IF($J13="M", 1, 0) -> 0 | CY13: =IF(SUM(CV13:CX13)=8, 1, 0) -> 0 | CZ13: =IF($M13="None", 1, 0) -> 0 | DA13: =COUNTIF($P13:$V13, "") -> 7 | DB13: =IF($W13="M", 1, 0) -> 0 | DC13: =IF(SUM(CZ13:DB13)=9, 1, 0) -> 0 | DE13: =IF($B13="None", 1, 0) -> 0 | DF13: =COUNTIF($D13:$I13, "") -> 6 | DG13: =IF($J13="LC", 1, 0) -> 0 | DH13: =IF(SUM(DE13:DG13)=8, 1, 0) -> 0 | DI13: =IF($M13="None", 1, 0) -> 0 | DJ13: =COUNTIF($P13:$V13, "") -> 7 | DK13: =IF($W13="LC", 1, 0) -> 0 | DL13: =IF(SUM(DI13:DK13)=9, 1, 0) -> 0 | DN13: =IF($B13="None", 1, 0) -> 0 | DO13: =IF($D13="L", 1, 0) -> 0 | DP13: =IF(SUM(DN13:DO13)=2, 1, 0) -> 0 | DQ13: =IF($M13="None", 1, 0) -> 0 | DR13: =IF($P13="L", 1, 0) -> 0 | DS13: =IF(SUM(DQ13:DR13)=2, 1, 0) -> 0 | DU13: =IF($B13="None", 1, 0) -> 0 | DV13: =IF($D13="WL", 1, 0) -> 0 | DW13: =IF(SUM(DU13:DV13)=2, 1, 0) -> 0 | DX13: =IF($M13="None", 1, 0) -> 0 | DY13: =IF($P13="WL", 1, 0) -> 0 | DZ13: =IF(SUM(DX13:DY13)=2, 1, 0) -> 0 | EB13: =IF($B13="None", 1, 0) -> 0 | EC13: =IF($D13="VL", 1, 0) -> 0 | ED13: =IF(SUM(EB13:EC13)=2, 1, 0) -> 0 | EE13: =IF($M13="None", 1, 0) -> 0 | EF13: =IF($P13="VL", 1, 0) -> 0 | EG13: =IF(SUM(EE13:EF13)=2, 1, 0) -> 0
A14: 8 | L14: 58 | Z14: LC | AA14: =(DH57+DL57)/X2 -> #DIV/0! | AC14: =AG143/$X$2 -> #DIV/0! | AQ14: =IF(B14="None", 1, 0) -> 0 | AR14: =COUNTIF(D14:I14, "") -> 6 | AS14: =IF(J14="S", 1, 0) -> 0 | AT14: =IF(SUM(AQ14:AS14)=8, 1, 0) -> 0 | AU14: =IF(M14="None", 1, 0) -> 0 | AV14: =COUNTIF(P14:V14, "") -> 7 | AW14: =IF(W14="S", 1, 0) -> 0 | AX14: =IF(SUM(AU14:AW14)=9, 1, 0) -> 0 | AZ14: =IF(OR(B14="None", B14=""), 0, 1) -> 0 | BA14: =IF(OR(M14="None", M14=""), 0, 1) -> 0 | BC14: =IF($B14="None", 1, 0) -> 0 | BD14: =COUNTIF($D14:$I14, "") -> 6 | BE14: =IF($J14="G", 1, 0) -> 0 | BF14: =IF(SUM(BC14:BE14)=8, 1, 0) -> 0 | BG14: =IF($M14="None", 1, 0) -> 0 | BH14: =COUNTIF($P14:$V14, "") -> 7 | BI14: =IF($W14="G", 1, 0) -> 0 | BJ14: =IF(SUM(BG14:BI14)=9, 1, 0) -> 0 | BL14: =IF($B14="None", 1, 0) -> 0 | BM14: =COUNTIF($D14:$I14, "") -> 6 | BN14: =IF($J14="R", 1, 0) -> 0 | BO14: =IF(SUM(BL14:BN14)=8, 1, 0) -> 0 | BP14: =IF($M14="None", 1, 0) -> 0 | BQ14: =COUNTIF($P14:$V14, "") -> 7 | BR14: =IF($W14="R", 1, 0) -> 0 | BS14: =IF(SUM(BP14:BR14)=9, 1, 0) -> 0 | BU14: =IF($B14="None", 1, 0) -> 0 | BV14: =COUNTIF($D14:$I14, "") -> 6 | BW14: =IF($J14="BR", 1, 0) -> 0 | BX14: =IF(SUM(BU14:BW14)=8, 1, 0) -> 0 | BY14: =IF($M14="None", 1, 0) -> 0 | BZ14: =COUNTIF($P14:$V14, "") -> 7 | CA14: =IF($W14="BR", 1, 0) -> 0 | CB14: =IF(SUM(BY14:CA14)=9, 1, 0) -> 0 | CD14: =IF($B14="None", 1, 0) -> 0 | CE14: =COUNTIF($D14:$I14, "") -> 6 | CF14: =IF($J14="EL", 1, 0) -> 0 | CG14: =IF(SUM(CD14:CF14)=8, 1, 0) -> 0 | CH14: =IF($M14="None", 1, 0) -> 0 | CI14: =COUNTIF($P14:$V14, "") -> 7 | CJ14: =IF($W14="EL", 1, 0) -> 0 | CK14: =IF(SUM(CH14:CJ14)=9, 1, 0) -> 0 | CM14: =IF($B14="None", 1, 0) -> 0 | CN14: =COUNTIF($D14:$I14, "") -> 6 | CO14: =IF($J14="D", 1, 0) -> 0 | CP14: =IF(SUM(CM14:CO14)=8, 1, 0) -> 0 | CQ14: =IF($M14="None", 1, 0) -> 0 | CR14: =COUNTIF($P14:$V14, "") -> 7 | CS14: =IF($W14="D", 1, 0) -> 0 | CT14: =IF(SUM(CQ14:CS14)=9, 1, 0) -> 0 | CV14: =IF($B14="None", 1, 0) -> 0 | CW14: =COUNTIF($D14:$I14, "") -> 6 | CX14: =IF($J14="M", 1, 0) -> 0 | CY14: =IF(SUM(CV14:CX14)=8, 1, 0) -> 0 | CZ14: =IF($M14="None", 1, 0) -> 0 | DA14: =COUNTIF($P14:$V14, "") -> 7 | DB14: =IF($W14="M", 1, 0) -> 0 | DC14: =IF(SUM(CZ14:DB14)=9, 1, 0) -> 0 | DE14: =IF($B14="None", 1, 0) -> 0 | DF14: =COUNTIF($D14:$I14, "") -> 6 | DG14: =IF($J14="LC", 1, 0) -> 0 | DH14: =IF(SUM(DE14:DG14)=8, 1, 0) -> 0 | DI14: =IF($M14="None", 1, 0) -> 0 | DJ14: =COUNTIF($P14:$V14, "") -> 7 | DK14: =IF($W14="LC", 1, 0) -> 0 | DL14: =IF(SUM(DI14:DK14)=9, 1, 0) -> 0 | DN14: =IF($B14="None", 1, 0) -> 0 | DO14: =IF($D14="L", 1, 0) -> 0 | DP14: =IF(SUM(DN14:DO14)=2, 1, 0) -> 0 | DQ14: =IF($M14="None", 1, 0) -> 0 | DR14: =IF($P14="L", 1, 0) -> 0 | DS14: =IF(SUM(DQ14:DR14)=2, 1, 0) -> 0 | DU14: =IF($B14="None", 1, 0) -> 0 | DV14: =IF($D14="WL", 1, 0) -> 0 | DW14: =IF(SUM(DU14:DV14)=2, 1, 0) -> 0 | DX14: =IF($M14="None", 1, 0) -> 0 | DY14: =IF($P14="WL", 1, 0) -> 0 | DZ14: =IF(SUM(DX14:DY14)=2, 1, 0) -> 0 | EB14: =IF($B14="None", 1, 0) -> 0 | EC14: =IF($D14="VL", 1, 0) -> 0 | ED14: =IF(SUM(EB14:EC14)=2, 1, 0) -> 0 | EE14: =IF($M14="None", 1, 0) -> 0 | EF14: =IF($P14="VL", 1, 0) -> 0 | EG14: =IF(SUM(EE14:EF14)=2, 1, 0) -> 0
A15: 9 | L15: 59 | Z15: S | AA15: =(AT57+AX57)/X2 -> #DIV/0! | AC15: =AG144/$X$2 -> #DIV/0! | AQ15: =IF(B15="None", 1, 0) -> 0 | AR15: =COUNTIF(D15:I15, "") -> 6 | AS15: =IF(J15="S", 1, 0) -> 0 | AT15: =IF(SUM(AQ15:AS15)=8, 1, 0) -> 0 | AU15: =IF(M15="None", 1, 0) -> 0 | AV15: =COUNTIF(P15:V15, "") -> 7 | AW15: =IF(W15="S", 1, 0) -> 0 | AX15: =IF(SUM(AU15:AW15)=9, 1, 0) -> 0 | AZ15: =IF(OR(B15="None", B15=""), 0, 1) -> 0 | BA15: =IF(OR(M15="None", M15=""), 0, 1) -> 0 | BC15: =IF($B15="None", 1, 0) -> 0 | BD15: =COUNTIF($D15:$I15, "") -> 6 | BE15: =IF($J15="G", 1, 0) -> 0 | BF15: =IF(SUM(BC15:BE15)=8, 1, 0) -> 0 | BG15: =IF($M15="None", 1, 0) -> 0 | BH15: =COUNTIF($P15:$V15, "") -> 7 | BI15: =IF($W15="G", 1, 0) -> 0 | BJ15: =IF(SUM(BG15:BI15)=9, 1, 0) -> 0 | BL15: =IF($B15="None", 1, 0) -> 0 | BM15: =COUNTIF($D15:$I15, "") -> 6 | BN15: =IF($J15="R", 1, 0) -> 0 | BO15: =IF(SUM(BL15:BN15)=8, 1, 0) -> 0 | BP15: =IF($M15="None", 1, 0) -> 0 | BQ15: =COUNTIF($P15:$V15, "") -> 7 | BR15: =IF($W15="R", 1, 0) -> 0 | BS15: =IF(SUM(BP15:BR15)=9, 1, 0) -> 0 | BU15: =IF($B15="None", 1, 0) -> 0 | BV15: =COUNTIF($D15:$I15, "") -> 6 | BW15: =IF($J15="BR", 1, 0) -> 0 | BX15: =IF(SUM(BU15:BW15)=8, 1, 0) -> 0 | BY15: =IF($M15="None", 1, 0) -> 0 | BZ15: =COUNTIF($P15:$V15, "") -> 7 | CA15: =IF($W15="BR", 1, 0) -> 0 | CB15: =IF(SUM(BY15:CA15)=9, 1, 0) -> 0 | CD15: =IF($B15="None", 1, 0) -> 0 | CE15: =COUNTIF($D15:$I15, "") -> 6 | CF15: =IF($J15="EL", 1, 0) -> 0 | CG15: =IF(SUM(CD15:CF15)=8, 1, 0) -> 0 | CH15: =IF($M15="None", 1, 0) -> 0 | CI15: =COUNTIF($P15:$V15, "") -> 7 | CJ15: =IF($W15="EL", 1, 0) -> 0 | CK15: =IF(SUM(CH15:CJ15)=9, 1, 0) -> 0 | CM15: =IF($B15="None", 1, 0) -> 0 | CN15: =COUNTIF($D15:$I15, "") -> 6 | CO15: =IF($J15="D", 1, 0) -> 0 | CP15: =IF(SUM(CM15:CO15)=8, 1, 0) -> 0 | CQ15: =IF($M15="None", 1, 0) -> 0 | CR15: =COUNTIF($P15:$V15, "") -> 7 | CS15: =IF($W15="D", 1, 0) -> 0 | CT15: =IF(SUM(CQ15:CS15)=9, 1, 0) -> 0 | CV15: =IF($B15="None", 1, 0) -> 0 | CW15: =COUNTIF($D15:$I15, "") -> 6 | CX15: =IF($J15="M", 1, 0) -> 0 | CY15: =IF(SUM(CV15:CX15)=8, 1, 0) -> 0 | CZ15: =IF($M15="None", 1, 0) -> 0 | DA15: =COUNTIF($P15:$V15, "") -> 7 | DB15: =IF($W15="M", 1, 0) -> 0 | DC15: =IF(SUM(CZ15:DB15)=9, 1, 0) -> 0 | DE15: =IF($B15="None", 1, 0) -> 0 | DF15: =COUNTIF($D15:$I15, "") -> 6 | DG15: =IF($J15="LC", 1, 0) -> 0 | DH15: =IF(SUM(DE15:DG15)=8, 1, 0) -> 0 | DI15: =IF($M15="None", 1, 0) -> 0 | DJ15: =COUNTIF($P15:$V15, "") -> 7 | DK15: =IF($W15="LC", 1, 0) -> 0 | DL15: =IF(SUM(DI15:DK15)=9, 1, 0) -> 0 | DN15: =IF($B15="None", 1, 0) -> 0 | DO15: =IF($D15="L", 1, 0) -> 0 | DP15: =IF(SUM(DN15:DO15)=2, 1, 0) -> 0 | DQ15: =IF($M15="None", 1, 0) -> 0 | DR15: =IF($P15="L", 1, 0) -> 0 | DS15: =IF(SUM(DQ15:DR15)=2, 1, 0) -> 0 | DU15: =IF($B15="None", 1, 0) -> 0 | DV15: =IF($D15="WL", 1, 0) -> 0 | DW15: =IF(SUM(DU15:DV15)=2, 1, 0) -> 0 | DX15: =IF($M15="None", 1, 0) -> 0 | DY15: =IF($P15="WL", 1, 0) -> 0 | DZ15: =IF(SUM(DX15:DY15)=2, 1, 0) -> 0 | EB15: =IF($B15="None", 1, 0) -> 0 | EC15: =IF($D15="VL", 1, 0) -> 0 | ED15: =IF(SUM(EB15:EC15)=2, 1, 0) -> 0 | EE15: =IF($M15="None", 1, 0) -> 0 | EF15: =IF($P15="VL", 1, 0) -> 0 | EG15: =IF(SUM(EE15:EF15)=2, 1, 0) -> 0
A16: 10 | L16: 60 | Z16: VL | AA16: =(ED57+EG57)/X2 -> #DIV/0! | AC16: =AG146/$X$2 -> #DIV/0! | AK16: Soil Surface (do not use litter): | AQ16: =IF(B16="None", 1, 0) -> 0 | AR16: =COUNTIF(D16:I16, "") -> 6 | AS16: =IF(J16="S", 1, 0) -> 0 | AT16: =IF(SUM(AQ16:AS16)=8, 1, 0) -> 0 | AU16: =IF(M16="None", 1, 0) -> 0 | AV16: =COUNTIF(P16:V16, "") -> 7 | AW16: =IF(W16="S", 1, 0) -> 0 | AX16: =IF(SUM(AU16:AW16)=9, 1, 0) -> 0 | AZ16: =IF(OR(B16="None", B16=""), 0, 1) -> 0 | BA16: =IF(OR(M16="None", M16=""), 0, 1) -> 0 | BC16: =IF($B16="None", 1, 0) -> 0 | BD16: =COUNTIF($D16:$I16, "") -> 6 | BE16: =IF($J16="G", 1, 0) -> 0 | BF16: =IF(SUM(BC16:BE16)=8, 1, 0) -> 0 | BG16: =IF($M16="None", 1, 0) -> 0 | BH16: =COUNTIF($P16:$V16, "") -> 7 | BI16: =IF($W16="G", 1, 0) -> 0 | BJ16: =IF(SUM(BG16:BI16)=9, 1, 0) -> 0 | BL16: =IF($B16="None", 1, 0) -> 0 | BM16: =COUNTIF($D16:$I16, "") -> 6 | BN16: =IF($J16="R", 1, 0) -> 0 | BO16: =IF(SUM(BL16:BN16)=8, 1, 0) -> 0 | BP16: =IF($M16="None", 1, 0) -> 0 | BQ16: =COUNTIF($P16:$V16, "") -> 7 | BR16: =IF($W16="R", 1, 0) -> 0 | BS16: =IF(SUM(BP16:BR16)=9, 1, 0) -> 0 | BU16: =IF($B16="None", 1, 0) -> 0 | BV16: =COUNTIF($D16:$I16, "") -> 6 | BW16: =IF($J16="BR", 1, 0) -> 0 | BX16: =IF(SUM(BU16:BW16)=8, 1, 0) -> 0 | BY16: =IF($M16="None", 1, 0) -> 0 | BZ16: =COUNTIF($P16:$V16, "") -> 7 | CA16: =IF($W16="BR", 1, 0) -> 0 | CB16: =IF(SUM(BY16:CA16)=9, 1, 0) -> 0 | CD16: =IF($B16="None", 1, 0) -> 0 | CE16: =COUNTIF($D16:$I16, "") -> 6 | CF16: =IF($J16="EL", 1, 0) -> 0 | CG16: =IF(SUM(CD16:CF16)=8, 1, 0) -> 0 | CH16: =IF($M16="None", 1, 0) -> 0 | CI16: =COUNTIF($P16:$V16, "") -> 7 | CJ16: =IF($W16="EL", 1, 0) -> 0 | CK16: =IF(SUM(CH16:CJ16)=9, 1, 0) -> 0 | CM16: =IF($B16="None", 1, 0) -> 0 | CN16: =COUNTIF($D16:$I16, "") -> 6 | CO16: =IF($J16="D", 1, 0) -> 0 | CP16: =IF(SUM(CM16:CO16)=8, 1, 0) -> 0 | CQ16: =IF($M16="None", 1, 0) -> 0 | CR16: =COUNTIF($P16:$V16, "") -> 7 | CS16: =IF($W16="D", 1, 0) -> 0 | CT16: =IF(SUM(CQ16:CS16)=9, 1, 0) -> 0 | CV16: =IF($B16="None", 1, 0) -> 0 | CW16: =COUNTIF($D16:$I16, "") -> 6 | CX16: =IF($J16="M", 1, 0) -> 0 | CY16: =IF(SUM(CV16:CX16)=8, 1, 0) -> 0 | CZ16: =IF($M16="None", 1, 0) -> 0 | DA16: =COUNTIF($P16:$V16, "") -> 7 | DB16: =IF($W16="M", 1, 0) -> 0 | DC16: =IF(SUM(CZ16:DB16)=9, 1, 0) -> 0 | DE16: =IF($B16="None", 1, 0) -> 0 | DF16: =COUNTIF($D16:$I16, "") -> 6 | DG16: =IF($J16="LC", 1, 0) -> 0 | DH16: =IF(SUM(DE16:DG16)=8, 1, 0) -> 0 | DI16: =IF($M16="None", 1, 0) -> 0 | DJ16: =COUNTIF($P16:$V16, "") -> 7 | DK16: =IF($W16="LC", 1, 0) -> 0 | DL16: =IF(SUM(DI16:DK16)=9, 1, 0) -> 0 | DN16: =IF($B16="None", 1, 0) -> 0 | DO16: =IF($D16="L", 1, 0) -> 0 | DP16: =IF(SUM(DN16:DO16)=2, 1, 0) -> 0 | DQ16: =IF($M16="None", 1, 0) -> 0 | DR16: =IF($P16="L", 1, 0) -> 0 | DS16: =IF(SUM(DQ16:DR16)=2, 1, 0) -> 0 | DU16: =IF($B16="None", 1, 0) -> 0 | DV16: =IF($D16="WL", 1, 0) -> 0 | DW16: =IF(SUM(DU16:DV16)=2, 1, 0) -> 0 | DX16: =IF($M16="None", 1, 0) -> 0 | DY16: =IF($P16="WL", 1, 0) -> 0 | DZ16: =IF(SUM(DX16:DY16)=2, 1, 0) -> 0 | EB16: =IF($B16="None", 1, 0) -> 0 | EC16: =IF($D16="VL", 1, 0) -> 0 | ED16: =IF(SUM(EB16:EC16)=2, 1, 0) -> 0 | EE16: =IF($M16="None", 1, 0) -> 0 | EF16: =IF($P16="VL", 1, 0) -> 0 | EG16: =IF(SUM(EE16:EF16)=2, 1, 0) -> 0
A17: 11 | L17: 61 | Z17: WL | AA17: =(DW57+DZ57)/X2 -> #DIV/0! | AC17: =AG145/$X$2 -> #DIV/0! | AF17: Unknown Species Codes: | AK17: G = | AL17: gravel (≤5 mm or ~1/4 in) | AQ17: =IF(B17="None", 1, 0) -> 0 | AR17: =COUNTIF(D17:I17, "") -> 6 | AS17: =IF(J17="S", 1, 0) -> 0 | AT17: =IF(SUM(AQ17:AS17)=8, 1, 0) -> 0 | AU17: =IF(M17="None", 1, 0) -> 0 | AV17: =COUNTIF(P17:V17, "") -> 7 | AW17: =IF(W17="S", 1, 0) -> 0 | AX17: =IF(SUM(AU17:AW17)=9, 1, 0) -> 0 | AZ17: =IF(OR(B17="None", B17=""), 0, 1) -> 0 | BA17: =IF(OR(M17="None", M17=""), 0, 1) -> 0 | BC17: =IF($B17="None", 1, 0) -> 0 | BD17: =COUNTIF($D17:$I17, "") -> 6 | BE17: =IF($J17="G", 1, 0) -> 0 | BF17: =IF(SUM(BC17:BE17)=8, 1, 0) -> 0 | BG17: =IF($M17="None", 1, 0) -> 0 | BH17: =COUNTIF($P17:$V17, "") -> 7 | BI17: =IF($W17="G", 1, 0) -> 0 | BJ17: =IF(SUM(BG17:BI17)=9, 1, 0) -> 0 | BL17: =IF($B17="None", 1, 0) -> 0 | BM17: =COUNTIF($D17:$I17, "") -> 6 | BN17: =IF($J17="R", 1, 0) -> 0 | BO17: =IF(SUM(BL17:BN17)=8, 1, 0) -> 0 | BP17: =IF($M17="None", 1, 0) -> 0 | BQ17: =COUNTIF($P17:$V17, "") -> 7 | BR17: =IF($W17="R", 1, 0) -> 0 | BS17: =IF(SUM(BP17:BR17)=9, 1, 0) -> 0 | BU17: =IF($B17="None", 1, 0) -> 0 | BV17: =COUNTIF($D17:$I17, "") -> 6 | BW17: =IF($J17="BR", 1, 0) -> 0 | BX17: =IF(SUM(BU17:BW17)=8, 1, 0) -> 0 | BY17: =IF($M17="None", 1, 0) -> 0 | BZ17: =COUNTIF($P17:$V17, "") -> 7 | CA17: =IF($W17="BR", 1, 0) -> 0 | CB17: =IF(SUM(BY17:CA17)=9, 1, 0) -> 0 | CD17: =IF($B17="None", 1, 0) -> 0 | CE17: =COUNTIF($D17:$I17, "") -> 6 | CF17: =IF($J17="EL", 1, 0) -> 0 | CG17: =IF(SUM(CD17:CF17)=8, 1, 0) -> 0 | CH17: =IF($M17="None", 1, 0) -> 0 | CI17: =COUNTIF($P17:$V17, "") -> 7 | CJ17: =IF($W17="EL", 1, 0) -> 0 | CK17: =IF(SUM(CH17:CJ17)=9, 1, 0) -> 0 | CM17: =IF($B17="None", 1, 0) -> 0 | CN17: =COUNTIF($D17:$I17, "") -> 6 | CO17: =IF($J17="D", 1, 0) -> 0 | CP17: =IF(SUM(CM17:CO17)=8, 1, 0) -> 0 | CQ17: =IF($M17="None", 1, 0) -> 0 | CR17: =COUNTIF($P17:$V17, "") -> 7 | CS17: =IF($W17="D", 1, 0) -> 0 | CT17: =IF(SUM(CQ17:CS17)=9, 1, 0) -> 0 | CV17: =IF($B17="None", 1, 0) -> 0 | CW17: =COUNTIF($D17:$I17, "") -> 6 | CX17: =IF($J17="M", 1, 0) -> 0 | CY17: =IF(SUM(CV17:CX17)=8, 1, 0) -> 0 | CZ17: =IF($M17="None", 1, 0) -> 0 | DA17: =COUNTIF($P17:$V17, "") -> 7 | DB17: =IF($W17="M", 1, 0) -> 0 | DC17: =IF(SUM(CZ17:DB17)=9, 1, 0) -> 0 | DE17: =IF($B17="None", 1, 0) -> 0 | DF17: =COUNTIF($D17:$I17, "") -> 6 | DG17: =IF($J17="LC", 1, 0) -> 0 | DH17: =IF(SUM(DE17:DG17)=8, 1, 0) -> 0 | DI17: =IF($M17="None", 1, 0) -> 0 | DJ17: =COUNTIF($P17:$V17, "") -> 7 | DK17: =IF($W17="LC", 1, 0) -> 0 | DL17: =IF(SUM(DI17:DK17)=9, 1, 0) -> 0 | DN17: =IF($B17="None", 1, 0) -> 0 | DO17: =IF($D17="L", 1, 0) -> 0 | DP17: =IF(SUM(DN17:DO17)=2, 1, 0) -> 0 | DQ17: =IF($M17="None", 1, 0) -> 0 | DR17: =IF($P17="L", 1, 0) -> 0 | DS17: =IF(SUM(DQ17:DR17)=2, 1, 0) -> 0 | DU17: =IF($B17="None", 1, 0) -> 0 | DV17: =IF($D17="WL", 1, 0) -> 0 | DW17: =IF(SUM(DU17:DV17)=2, 1, 0) -> 0 | DX17: =IF($M17="None", 1, 0) -> 0 | DY17: =IF($P17="WL", 1, 0) -> 0 | DZ17: =IF(SUM(DX17:DY17)=2, 1, 0) -> 0 | EB17: =IF($B17="None", 1, 0) -> 0 | EC17: =IF($D17="VL", 1, 0) -> 0 | ED17: =IF(SUM(EB17:EC17)=2, 1, 0) -> 0 | EE17: =IF($M17="None", 1, 0) -> 0 | EF17: =IF($P17="VL", 1, 0) -> 0 | EG17: =IF(SUM(EE17:EF17)=2, 1, 0) -> 0
A18: 12 | L18: 62 | Z18: L | AA18: =(DP57+DS57)/X2 -> #DIV/0! | AC18: =AG147/$X$2 -> #DIV/0! | AF18: AF# = | AG18: annual forb | AK18: R = | AL18: rock (>5 mm or ~1/4 in) | AQ18: =IF(B18="None", 1, 0) -> 0 | AR18: =COUNTIF(D18:I18, "") -> 6 | AS18: =IF(J18="S", 1, 0) -> 0 | AT18: =IF(SUM(AQ18:AS18)=8, 1, 0) -> 0 | AU18: =IF(M18="None", 1, 0) -> 0 | AV18: =COUNTIF(P18:V18, "") -> 7 | AW18: =IF(W18="S", 1, 0) -> 0 | AX18: =IF(SUM(AU18:AW18)=9, 1, 0) -> 0 | AZ18: =IF(OR(B18="None", B18=""), 0, 1) -> 0 | BA18: =IF(OR(M18="None", M18=""), 0, 1) -> 0 | BC18: =IF($B18="None", 1, 0) -> 0 | BD18: =COUNTIF($D18:$I18, "") -> 6 | BE18: =IF($J18="G", 1, 0) -> 0 | BF18: =IF(SUM(BC18:BE18)=8, 1, 0) -> 0 | BG18: =IF($M18="None", 1, 0) -> 0 | BH18: =COUNTIF($P18:$V18, "") -> 7 | BI18: =IF($W18="G", 1, 0) -> 0 | BJ18: =IF(SUM(BG18:BI18)=9, 1, 0) -> 0 | BL18: =IF($B18="None", 1, 0) -> 0 | BM18: =COUNTIF($D18:$I18, "") -> 6 | BN18: =IF($J18="R", 1, 0) -> 0 | BO18: =IF(SUM(BL18:BN18)=8, 1, 0) -> 0 | BP18: =IF($M18="None", 1, 0) -> 0 | BQ18: =COUNTIF($P18:$V18, "") -> 7 | BR18: =IF($W18="R", 1, 0) -> 0 | BS18: =IF(SUM(BP18:BR18)=9, 1, 0) -> 0 | BU18: =IF($B18="None", 1, 0) -> 0 | BV18: =COUNTIF($D18:$I18, "") -> 6 | BW18: =IF($J18="BR", 1, 0) -> 0 | BX18: =IF(SUM(BU18:BW18)=8, 1, 0) -> 0 | BY18: =IF($M18="None", 1, 0) -> 0 | BZ18: =COUNTIF($P18:$V18, "") -> 7 | CA18: =IF($W18="BR", 1, 0) -> 0 | CB18: =IF(SUM(BY18:CA18)=9, 1, 0) -> 0 | CD18: =IF($B18="None", 1, 0) -> 0 | CE18: =COUNTIF($D18:$I18, "") -> 6 | CF18: =IF($J18="EL", 1, 0) -> 0 | CG18: =IF(SUM(CD18:CF18)=8, 1, 0) -> 0 | CH18: =IF($M18="None", 1, 0) -> 0 | CI18: =COUNTIF($P18:$V18, "") -> 7 | CJ18: =IF($W18="EL", 1, 0) -> 0 | CK18: =IF(SUM(CH18:CJ18)=9, 1, 0) -> 0 | CM18: =IF($B18="None", 1, 0) -> 0 | CN18: =COUNTIF($D18:$I18, "") -> 6 | CO18: =IF($J18="D", 1, 0) -> 0 | CP18: =IF(SUM(CM18:CO18)=8, 1, 0) -> 0 | CQ18: =IF($M18="None", 1, 0) -> 0 | CR18: =COUNTIF($P18:$V18, "") -> 7 | CS18: =IF($W18="D", 1, 0) -> 0 | CT18: =IF(SUM(CQ18:CS18)=9, 1, 0) -> 0 | CV18: =IF($B18="None", 1, 0) -> 0 | CW18: =COUNTIF($D18:$I18, "") -> 6 | CX18: =IF($J18="M", 1, 0) -> 0 | CY18: =IF(SUM(CV18:CX18)=8, 1, 0) -> 0 | CZ18: =IF($M18="None", 1, 0) -> 0 | DA18: =COUNTIF($P18:$V18, "") -> 7 | DB18: =IF($W18="M", 1, 0) -> 0 | DC18: =IF(SUM(CZ18:DB18)=9, 1, 0) -> 0 | DE18: =IF($B18="None", 1, 0) -> 0 | DF18: =COUNTIF($D18:$I18, "") -> 6 | DG18: =IF($J18="LC", 1, 0) -> 0 | DH18: =IF(SUM(DE18:DG18)=8, 1, 0) -> 0 | DI18: =IF($M18="None", 1, 0) -> 0 | DJ18: =COUNTIF($P18:$V18, "") -> 7 | DK18: =IF($W18="LC", 1, 0) -> 0 | DL18: =IF(SUM(DI18:DK18)=9, 1, 0) -> 0 | DN18: =IF($B18="None", 1, 0) -> 0 | DO18: =IF($D18="L", 1, 0) -> 0 | DP18: =IF(SUM(DN18:DO18)=2, 1, 0) -> 0 | DQ18: =IF($M18="None", 1, 0) -> 0 | DR18: =IF($P18="L", 1, 0) -> 0 | DS18: =IF(SUM(DQ18:DR18)=2, 1, 0) -> 0 | DU18: =IF($B18="None", 1, 0) -> 0 | DV18: =IF($D18="WL", 1, 0) -> 0 | DW18: =IF(SUM(DU18:DV18)=2, 1, 0) -> 0 | DX18: =IF($M18="None", 1, 0) -> 0 | DY18: =IF($P18="WL", 1, 0) -> 0 | DZ18: =IF(SUM(DX18:DY18)=2, 1, 0) -> 0 | EB18: =IF($B18="None", 1, 0) -> 0 | EC18: =IF($D18="VL", 1, 0) -> 0 | ED18: =IF(SUM(EB18:EC18)=2, 1, 0) -> 0 | EE18: =IF($M18="None", 1, 0) -> 0 | EF18: =IF($P18="VL", 1, 0) -> 0 | EG18: =IF(SUM(EE18:EF18)=2, 1, 0) -> 0
A19: 13 | L19: 63 | Z19: AF | AA19: =SUM(AE89:AE99)/$X$2 -> #DIV/0! | AC19: =SUM(AG89:AH99)/$X$2 -> #DIV/0! | AF19: PF# = | AG19: perennial forb | AK19: BR = | AL19: bedrock | AQ19: =IF(B19="None", 1, 0) -> 0 | AR19: =COUNTIF(D19:I19, "") -> 6 | AS19: =IF(J19="S", 1, 0) -> 0 | AT19: =IF(SUM(AQ19:AS19)=8, 1, 0) -> 0 | AU19: =IF(M19="None", 1, 0) -> 0 | AV19: =COUNTIF(P19:V19, "") -> 7 | AW19: =IF(W19="S", 1, 0) -> 0 | AX19: =IF(SUM(AU19:AW19)=9, 1, 0) -> 0 | AZ19: =IF(OR(B19="None", B19=""), 0, 1) -> 0 | BA19: =IF(OR(M19="None", M19=""), 0, 1) -> 0 | BC19: =IF($B19="None", 1, 0) -> 0 | BD19: =COUNTIF($D19:$I19, "") -> 6 | BE19: =IF($J19="G", 1, 0) -> 0 | BF19: =IF(SUM(BC19:BE19)=8, 1, 0) -> 0 | BG19: =IF($M19="None", 1, 0) -> 0 | BH19: =COUNTIF($P19:$V19, "") -> 7 | BI19: =IF($W19="G", 1, 0) -> 0 | BJ19: =IF(SUM(BG19:BI19)=9, 1, 0) -> 0 | BL19: =IF($B19="None", 1, 0) -> 0 | BM19: =COUNTIF($D19:$I19, "") -> 6 | BN19: =IF($J19="R", 1, 0) -> 0 | BO19: =IF(SUM(BL19:BN19)=8, 1, 0) -> 0 | BP19: =IF($M19="None", 1, 0) -> 0 | BQ19: =COUNTIF($P19:$V19, "") -> 7 | BR19: =IF($W19="R", 1, 0) -> 0 | BS19: =IF(SUM(BP19:BR19)=9, 1, 0) -> 0 | BU19: =IF($B19="None", 1, 0) -> 0 | BV19: =COUNTIF($D19:$I19, "") -> 6 | BW19: =IF($J19="BR", 1, 0) -> 0 | BX19: =IF(SUM(BU19:BW19)=8, 1, 0) -> 0 | BY19: =IF($M19="None", 1, 0) -> 0 | BZ19: =COUNTIF($P19:$V19, "") -> 7 | CA19: =IF($W19="BR", 1, 0) -> 0 | CB19: =IF(SUM(BY19:CA19)=9, 1, 0) -> 0 | CD19: =IF($B19="None", 1, 0) -> 0 | CE19: =COUNTIF($D19:$I19, "") -> 6 | CF19: =IF($J19="EL", 1, 0) -> 0 | CG19: =IF(SUM(CD19:CF19)=8, 1, 0) -> 0 | CH19: =IF($M19="None", 1, 0) -> 0 | CI19: =COUNTIF($P19:$V19, "") -> 7 | CJ19: =IF($W19="EL", 1, 0) -> 0 | CK19: =IF(SUM(CH19:CJ19)=9, 1, 0) -> 0 | CM19: =IF($B19="None", 1, 0) -> 0 | CN19: =COUNTIF($D19:$I19, "") -> 6 | CO19: =IF($J19="D", 1, 0) -> 0 | CP19: =IF(SUM(CM19:CO19)=8, 1, 0) -> 0 | CQ19: =IF($M19="None", 1, 0) -> 0 | CR19: =COUNTIF($P19:$V19, "") -> 7 | CS19: =IF($W19="D", 1, 0) -> 0 | CT19: =IF(SUM(CQ19:CS19)=9, 1, 0) -> 0 | CV19: =IF($B19="None", 1, 0) -> 0 | CW19: =COUNTIF($D19:$I19, "") -> 6 | CX19: =IF($J19="M", 1, 0) -> 0 | CY19: =IF(SUM(CV19:CX19)=8, 1, 0) -> 0 | CZ19: =IF($M19="None", 1, 0) -> 0 | DA19: =COUNTIF($P19:$V19, "") -> 7 | DB19: =IF($W19="M", 1, 0) -> 0 | DC19: =IF(SUM(CZ19:DB19)=9, 1, 0) -> 0 | DE19: =IF($B19="None", 1, 0) -> 0 | DF19: =COUNTIF($D19:$I19, "") -> 6 | DG19: =IF($J19="LC", 1, 0) -> 0 | DH19: =IF(SUM(DE19:DG19)=8, 1, 0) -> 0 | DI19: =IF($M19="None", 1, 0) -> 0 | DJ19: =COUNTIF($P19:$V19, "") -> 7 | DK19: =IF($W19="LC", 1, 0) -> 0 | DL19: =IF(SUM(DI19:DK19)=9, 1, 0) -> 0 | DN19: =IF($B19="None", 1, 0) -> 0 | DO19: =IF($D19="L", 1, 0) -> 0 | DP19: =IF(SUM(DN19:DO19)=2, 1, 0) -> 0 | DQ19: =IF($M19="None", 1, 0) -> 0 | DR19: =IF($P19="L", 1, 0) -> 0 | DS19: =IF(SUM(DQ19:DR19)=2, 1, 0) -> 0 | DU19: =IF($B19="None", 1, 0) -> 0 | DV19: =IF($D19="WL", 1, 0) -> 0 | DW19: =IF(SUM(DU19:DV19)=2, 1, 0) -> 0 | DX19: =IF($M19="None", 1, 0) -> 0 | DY19: =IF($P19="WL", 1, 0) -> 0 | DZ19: =IF(SUM(DX19:DY19)=2, 1, 0) -> 0 | EB19: =IF($B19="None", 1, 0) -> 0 | EC19: =IF($D19="VL", 1, 0) -> 0 | ED19: =IF(SUM(EB19:EC19)=2, 1, 0) -> 0 | EE19: =IF($M19="None", 1, 0) -> 0 | EF19: =IF($P19="VL", 1, 0) -> 0 | EG19: =IF(SUM(EE19:EF19)=2, 1, 0) -> 0
A20: 14 | L20: 64 | Z20: PF | AA20: =SUM(AE101:AF111)/$X$2 -> #DIV/0! | AC20: =SUM(AG101:AH111)/$X$2 -> #DIV/0! | AF20: AG# = | AG20: annual grass | AK20: EL = | AL20: embedded litter | AQ20: =IF(B20="None", 1, 0) -> 0 | AR20: =COUNTIF(D20:I20, "") -> 6 | AS20: =IF(J20="S", 1, 0) -> 0 | AT20: =IF(SUM(AQ20:AS20)=8, 1, 0) -> 0 | AU20: =IF(M20="None", 1, 0) -> 0 | AV20: =COUNTIF(P20:V20, "") -> 7 | AW20: =IF(W20="S", 1, 0) -> 0 | AX20: =IF(SUM(AU20:AW20)=9, 1, 0) -> 0 | AZ20: =IF(OR(B20="None", B20=""), 0, 1) -> 0 | BA20: =IF(OR(M20="None", M20=""), 0, 1) -> 0 | BC20: =IF($B20="None", 1, 0) -> 0 | BD20: =COUNTIF($D20:$I20, "") -> 6 | BE20: =IF($J20="G", 1, 0) -> 0 | BF20: =IF(SUM(BC20:BE20)=8, 1, 0) -> 0 | BG20: =IF($M20="None", 1, 0) -> 0 | BH20: =COUNTIF($P20:$V20, "") -> 7 | BI20: =IF($W20="G", 1, 0) -> 0 | BJ20: =IF(SUM(BG20:BI20)=9, 1, 0) -> 0 | BL20: =IF($B20="None", 1, 0) -> 0 | BM20: =COUNTIF($D20:$I20, "") -> 6 | BN20: =IF($J20="R", 1, 0) -> 0 | BO20: =IF(SUM(BL20:BN20)=8, 1, 0) -> 0 | BP20: =IF($M20="None", 1, 0) -> 0 | BQ20: =COUNTIF($P20:$V20, "") -> 7 | BR20: =IF($W20="R", 1, 0) -> 0 | BS20: =IF(SUM(BP20:BR20)=9, 1, 0) -> 0 | BU20: =IF($B20="None", 1, 0) -> 0 | BV20: =COUNTIF($D20:$I20, "") -> 6 | BW20: =IF($J20="BR", 1, 0) -> 0 | BX20: =IF(SUM(BU20:BW20)=8, 1, 0) -> 0 | BY20: =IF($M20="None", 1, 0) -> 0 | BZ20: =COUNTIF($P20:$V20, "") -> 7 | CA20: =IF($W20="BR", 1, 0) -> 0 | CB20: =IF(SUM(BY20:CA20)=9, 1, 0) -> 0 | CD20: =IF($B20="None", 1, 0) -> 0 | CE20: =COUNTIF($D20:$I20, "") -> 6 | CF20: =IF($J20="EL", 1, 0) -> 0 | CG20: =IF(SUM(CD20:CF20)=8, 1, 0) -> 0 | CH20: =IF($M20="None", 1, 0) -> 0 | CI20: =COUNTIF($P20:$V20, "") -> 7 | CJ20: =IF($W20="EL", 1, 0) -> 0 | CK20: =IF(SUM(CH20:CJ20)=9, 1, 0) -> 0 | CM20: =IF($B20="None", 1, 0) -> 0 | CN20: =COUNTIF($D20:$I20, "") -> 6 | CO20: =IF($J20="D", 1, 0) -> 0 | CP20: =IF(SUM(CM20:CO20)=8, 1, 0) -> 0 | CQ20: =IF($M20="None", 1, 0) -> 0 | CR20: =COUNTIF($P20:$V20, "") -> 7 | CS20: =IF($W20="D", 1, 0) -> 0 | CT20: =IF(SUM(CQ20:CS20)=9, 1, 0) -> 0 | CV20: =IF($B20="None", 1, 0) -> 0 | CW20: =COUNTIF($D20:$I20, "") -> 6 | CX20: =IF($J20="M", 1, 0) -> 0 | CY20: =IF(SUM(CV20:CX20)=8, 1, 0) -> 0 | CZ20: =IF($M20="None", 1, 0) -> 0 | DA20: =COUNTIF($P20:$V20, "") -> 7 | DB20: =IF($W20="M", 1, 0) -> 0 | DC20: =IF(SUM(CZ20:DB20)=9, 1, 0) -> 0 | DE20: =IF($B20="None", 1, 0) -> 0 | DF20: =COUNTIF($D20:$I20, "") -> 6 | DG20: =IF($J20="LC", 1, 0) -> 0 | DH20: =IF(SUM(DE20:DG20)=8, 1, 0) -> 0 | DI20: =IF($M20="None", 1, 0) -> 0 | DJ20: =COUNTIF($P20:$V20, "") -> 7 | DK20: =IF($W20="LC", 1, 0) -> 0 | DL20: =IF(SUM(DI20:DK20)=9, 1, 0) -> 0 | DN20: =IF($B20="None", 1, 0) -> 0 | DO20: =IF($D20="L", 1, 0) -> 0 | DP20: =IF(SUM(DN20:DO20)=2, 1, 0) -> 0 | DQ20: =IF($M20="None", 1, 0) -> 0 | DR20: =IF($P20="L", 1, 0) -> 0 | DS20: =IF(SUM(DQ20:DR20)=2, 1, 0) -> 0 | DU20: =IF($B20="None", 1, 0) -> 0 | DV20: =IF($D20="WL", 1, 0) -> 0 | DW20: =IF(SUM(DU20:DV20)=2, 1, 0) -> 0 | DX20: =IF($M20="None", 1, 0) -> 0 | DY20: =IF($P20="WL", 1, 0) -> 0 | DZ20: =IF(SUM(DX20:DY20)=2, 1, 0) -> 0 | EB20: =IF($B20="None", 1, 0) -> 0 | EC20: =IF($D20="VL", 1, 0) -> 0 | ED20: =IF(SUM(EB20:EC20)=2, 1, 0) -> 0 | EE20: =IF($M20="None", 1, 0) -> 0 | EF20: =IF($P20="VL", 1, 0) -> 0 | EG20: =IF(SUM(EE20:EF20)=2, 1, 0) -> 0
A21: 15 | L21: 65 | Z21: AG | AA21: =SUM(AE82:AF87)/$X$2 -> #DIV/0! | AC21: =SUM(AG82:AH87)/$X$2 -> #DIV/0! | AF21: PG# = | AG21: perennial grass | AK21: D = | AL21: duff | AQ21: =IF(B21="None", 1, 0) -> 0 | AR21: =COUNTIF(D21:I21, "") -> 6 | AS21: =IF(J21="S", 1, 0) -> 0 | AT21: =IF(SUM(AQ21:AS21)=8, 1, 0) -> 0 | AU21: =IF(M21="None", 1, 0) -> 0 | AV21: =COUNTIF(P21:V21, "") -> 7 | AW21: =IF(W21="S", 1, 0) -> 0 | AX21: =IF(SUM(AU21:AW21)=9, 1, 0) -> 0 | AZ21: =IF(OR(B21="None", B21=""), 0, 1) -> 0 | BA21: =IF(OR(M21="None", M21=""), 0, 1) -> 0 | BC21: =IF($B21="None", 1, 0) -> 0 | BD21: =COUNTIF($D21:$I21, "") -> 6 | BE21: =IF($J21="G", 1, 0) -> 0 | BF21: =IF(SUM(BC21:BE21)=8, 1, 0) -> 0 | BG21: =IF($M21="None", 1, 0) -> 0 | BH21: =COUNTIF($P21:$V21, "") -> 7 | BI21: =IF($W21="G", 1, 0) -> 0 | BJ21: =IF(SUM(BG21:BI21)=9, 1, 0) -> 0 | BL21: =IF($B21="None", 1, 0) -> 0 | BM21: =COUNTIF($D21:$I21, "") -> 6 | BN21: =IF($J21="R", 1, 0) -> 0 | BO21: =IF(SUM(BL21:BN21)=8, 1, 0) -> 0 | BP21: =IF($M21="None", 1, 0) -> 0 | BQ21: =COUNTIF($P21:$V21, "") -> 7 | BR21: =IF($W21="R", 1, 0) -> 0 | BS21: =IF(SUM(BP21:BR21)=9, 1, 0) -> 0 | BU21: =IF($B21="None", 1, 0) -> 0 | BV21: =COUNTIF($D21:$I21, "") -> 6 | BW21: =IF($J21="BR", 1, 0) -> 0 | BX21: =IF(SUM(BU21:BW21)=8, 1, 0) -> 0 | BY21: =IF($M21="None", 1, 0) -> 0 | BZ21: =COUNTIF($P21:$V21, "") -> 7 | CA21: =IF($W21="BR", 1, 0) -> 0 | CB21: =IF(SUM(BY21:CA21)=9, 1, 0) -> 0 | CD21: =IF($B21="None", 1, 0) -> 0 | CE21: =COUNTIF($D21:$I21, "") -> 6 | CF21: =IF($J21="EL", 1, 0) -> 0 | CG21: =IF(SUM(CD21:CF21)=8, 1, 0) -> 0 | CH21: =IF($M21="None", 1, 0) -> 0 | CI21: =COUNTIF($P21:$V21, "") -> 7 | CJ21: =IF($W21="EL", 1, 0) -> 0 | CK21: =IF(SUM(CH21:CJ21)=9, 1, 0) -> 0 | CM21: =IF($B21="None", 1, 0) -> 0 | CN21: =COUNTIF($D21:$I21, "") -> 6 | CO21: =IF($J21="D", 1, 0) -> 0 | CP21: =IF(SUM(CM21:CO21)=8, 1, 0) -> 0 | CQ21: =IF($M21="None", 1, 0) -> 0 | CR21: =COUNTIF($P21:$V21, "") -> 7 | CS21: =IF($W21="D", 1, 0) -> 0 | CT21: =IF(SUM(CQ21:CS21)=9, 1, 0) -> 0 | CV21: =IF($B21="None", 1, 0) -> 0 | CW21: =COUNTIF($D21:$I21, "") -> 6 | CX21: =IF($J21="M", 1, 0) -> 0 | CY21: =IF(SUM(CV21:CX21)=8, 1, 0) -> 0 | CZ21: =IF($M21="None", 1, 0) -> 0 | DA21: =COUNTIF($P21:$V21, "") -> 7 | DB21: =IF($W21="M", 1, 0) -> 0 | DC21: =IF(SUM(CZ21:DB21)=9, 1, 0) -> 0 | DE21: =IF($B21="None", 1, 0) -> 0 | DF21: =COUNTIF($D21:$I21, "") -> 6 | DG21: =IF($J21="LC", 1, 0) -> 0 | DH21: =IF(SUM(DE21:DG21)=8, 1, 0) -> 0 | DI21: =IF($M21="None", 1, 0) -> 0 | DJ21: =COUNTIF($P21:$V21, "") -> 7 | DK21: =IF($W21="LC", 1, 0) -> 0 | DL21: =IF(SUM(DI21:DK21)=9, 1, 0) -> 0 | DN21: =IF($B21="None", 1, 0) -> 0 | DO21: =IF($D21="L", 1, 0) -> 0 | DP21: =IF(SUM(DN21:DO21)=2, 1, 0) -> 0 | DQ21: =IF($M21="None", 1, 0) -> 0 | DR21: =IF($P21="L", 1, 0) -> 0 | DS21: =IF(SUM(DQ21:DR21)=2, 1, 0) -> 0 | DU21: =IF($B21="None", 1, 0) -> 0 | DV21: =IF($D21="WL", 1, 0) -> 0 | DW21: =IF(SUM(DU21:DV21)=2, 1, 0) -> 0 | DX21: =IF($M21="None", 1, 0) -> 0 | DY21: =IF($P21="WL", 1, 0) -> 0 | DZ21: =IF(SUM(DX21:DY21)=2, 1, 0) -> 0 | EB21: =IF($B21="None", 1, 0) -> 0 | EC21: =IF($D21="VL", 1, 0) -> 0 | ED21: =IF(SUM(EB21:EC21)=2, 1, 0) -> 0 | EE21: =IF($M21="None", 1, 0) -> 0 | EF21: =IF($P21="VL", 1, 0) -> 0 | EG21: =IF(SUM(EE21:EF21)=2, 1, 0) -> 0
A22: 16 | L22: 66 | Z22: PG | AA22: =SUM(AE64:AF80)/$X$2 -> #DIV/0! | AC22: =SUM(AG64:AH80)/$X$2 -> #DIV/0! | AF22: SH# = | AG22: shrub | AK22: M = | AL22: moss | AQ22: =IF(B22="None", 1, 0) -> 0 | AR22: =COUNTIF(D22:I22, "") -> 6 | AS22: =IF(J22="S", 1, 0) -> 0 | AT22: =IF(SUM(AQ22:AS22)=8, 1, 0) -> 0 | AU22: =IF(M22="None", 1, 0) -> 0 | AV22: =COUNTIF(P22:V22, "") -> 7 | AW22: =IF(W22="S", 1, 0) -> 0 | AX22: =IF(SUM(AU22:AW22)=9, 1, 0) -> 0 | AZ22: =IF(OR(B22="None", B22=""), 0, 1) -> 0 | BA22: =IF(OR(M22="None", M22=""), 0, 1) -> 0 | BC22: =IF($B22="None", 1, 0) -> 0 | BD22: =COUNTIF($D22:$I22, "") -> 6 | BE22: =IF($J22="G", 1, 0) -> 0 | BF22: =IF(SUM(BC22:BE22)=8, 1, 0) -> 0 | BG22: =IF($M22="None", 1, 0) -> 0 | BH22: =COUNTIF($P22:$V22, "") -> 7 | BI22: =IF($W22="G", 1, 0) -> 0 | BJ22: =IF(SUM(BG22:BI22)=9, 1, 0) -> 0 | BL22: =IF($B22="None", 1, 0) -> 0 | BM22: =COUNTIF($D22:$I22, "") -> 6 | BN22: =IF($J22="R", 1, 0) -> 0 | BO22: =IF(SUM(BL22:BN22)=8, 1, 0) -> 0 | BP22: =IF($M22="None", 1, 0) -> 0 | BQ22: =COUNTIF($P22:$V22, "") -> 7 | BR22: =IF($W22="R", 1, 0) -> 0 | BS22: =IF(SUM(BP22:BR22)=9, 1, 0) -> 0 | BU22: =IF($B22="None", 1, 0) -> 0 | BV22: =COUNTIF($D22:$I22, "") -> 6 | BW22: =IF($J22="BR", 1, 0) -> 0 | BX22: =IF(SUM(BU22:BW22)=8, 1, 0) -> 0 | BY22: =IF($M22="None", 1, 0) -> 0 | BZ22: =COUNTIF($P22:$V22, "") -> 7 | CA22: =IF($W22="BR", 1, 0) -> 0 | CB22: =IF(SUM(BY22:CA22)=9, 1, 0) -> 0 | CD22: =IF($B22="None", 1, 0) -> 0 | CE22: =COUNTIF($D22:$I22, "") -> 6 | CF22: =IF($J22="EL", 1, 0) -> 0 | CG22: =IF(SUM(CD22:CF22)=8, 1, 0) -> 0 | CH22: =IF($M22="None", 1, 0) -> 0 | CI22: =COUNTIF($P22:$V22, "") -> 7 | CJ22: =IF($W22="EL", 1, 0) -> 0 | CK22: =IF(SUM(CH22:CJ22)=9, 1, 0) -> 0 | CM22: =IF($B22="None", 1, 0) -> 0 | CN22: =COUNTIF($D22:$I22, "") -> 6 | CO22: =IF($J22="D", 1, 0) -> 0 | CP22: =IF(SUM(CM22:CO22)=8, 1, 0) -> 0 | CQ22: =IF($M22="None", 1, 0) -> 0 | CR22: =COUNTIF($P22:$V22, "") -> 7 | CS22: =IF($W22="D", 1, 0) -> 0 | CT22: =IF(SUM(CQ22:CS22)=9, 1, 0) -> 0 | CV22: =IF($B22="None", 1, 0) -> 0 | CW22: =COUNTIF($D22:$I22, "") -> 6 | CX22: =IF($J22="M", 1, 0) -> 0 | CY22: =IF(SUM(CV22:CX22)=8, 1, 0) -> 0 | CZ22: =IF($M22="None", 1, 0) -> 0 | DA22: =COUNTIF($P22:$V22, "") -> 7 | DB22: =IF($W22="M", 1, 0) -> 0 | DC22: =IF(SUM(CZ22:DB22)=9, 1, 0) -> 0 | DE22: =IF($B22="None", 1, 0) -> 0 | DF22: =COUNTIF($D22:$I22, "") -> 6 | DG22: =IF($J22="LC", 1, 0) -> 0 | DH22: =IF(SUM(DE22:DG22)=8, 1, 0) -> 0 | DI22: =IF($M22="None", 1, 0) -> 0 | DJ22: =COUNTIF($P22:$V22, "") -> 7 | DK22: =IF($W22="LC", 1, 0) -> 0 | DL22: =IF(SUM(DI22:DK22)=9, 1, 0) -> 0 | DN22: =IF($B22="None", 1, 0) -> 0 | DO22: =IF($D22="L", 1, 0) -> 0 | DP22: =IF(SUM(DN22:DO22)=2, 1, 0) -> 0 | DQ22: =IF($M22="None", 1, 0) -> 0 | DR22: =IF($P22="L", 1, 0) -> 0 | DS22: =IF(SUM(DQ22:DR22)=2, 1, 0) -> 0 | DU22: =IF($B22="None", 1, 0) -> 0 | DV22: =IF($D22="WL", 1, 0) -> 0 | DW22: =IF(SUM(DU22:DV22)=2, 1, 0) -> 0 | DX22: =IF($M22="None", 1, 0) -> 0 | DY22: =IF($P22="WL", 1, 0) -> 0 | DZ22: =IF(SUM(DX22:DY22)=2, 1, 0) -> 0 | EB22: =IF($B22="None", 1, 0) -> 0 | EC22: =IF($D22="VL", 1, 0) -> 0 | ED22: =IF(SUM(EB22:EC22)=2, 1, 0) -> 0 | EE22: =IF($M22="None", 1, 0) -> 0 | EF22: =IF($P22="VL", 1, 0) -> 0 | EG22: =IF(SUM(EE22:EF22)=2, 1, 0) -> 0
A23: 17 | L23: 67 | Z23: TR | AA23: =SUM(AE130:AF135)/$X$2 -> #DIV/0! | AC23: =SUM(AG130:AH135)/$X$2 -> #DIV/0! | AF23: TR# = | AG23: tree | AK23: LC = | AL23: visible lichen crust on soil | AQ23: =IF(B23="None", 1, 0) -> 0 | AR23: =COUNTIF(D23:I23, "") -> 6 | AS23: =IF(J23="S", 1, 0) -> 0 | AT23: =IF(SUM(AQ23:AS23)=8, 1, 0) -> 0 | AU23: =IF(M23="None", 1, 0) -> 0 | AV23: =COUNTIF(P23:V23, "") -> 7 | AW23: =IF(W23="S", 1, 0) -> 0 | AX23: =IF(SUM(AU23:AW23)=9, 1, 0) -> 0 | AZ23: =IF(OR(B23="None", B23=""), 0, 1) -> 0 | BA23: =IF(OR(M23="None", M23=""), 0, 1) -> 0 | BC23: =IF($B23="None", 1, 0) -> 0 | BD23: =COUNTIF($D23:$I23, "") -> 6 | BE23: =IF($J23="G", 1, 0) -> 0 | BF23: =IF(SUM(BC23:BE23)=8, 1, 0) -> 0 | BG23: =IF($M23="None", 1, 0) -> 0 | BH23: =COUNTIF($P23:$V23, "") -> 7 | BI23: =IF($W23="G", 1, 0) -> 0 | BJ23: =IF(SUM(BG23:BI23)=9, 1, 0) -> 0 | BL23: =IF($B23="None", 1, 0) -> 0 | BM23: =COUNTIF($D23:$I23, "") -> 6 | BN23: =IF($J23="R", 1, 0) -> 0 | BO23: =IF(SUM(BL23:BN23)=8, 1, 0) -> 0 | BP23: =IF($M23="None", 1, 0) -> 0 | BQ23: =COUNTIF($P23:$V23, "") -> 7 | BR23: =IF($W23="R", 1, 0) -> 0 | BS23: =IF(SUM(BP23:BR23)=9, 1, 0) -> 0 | BU23: =IF($B23="None", 1, 0) -> 0 | BV23: =COUNTIF($D23:$I23, "") -> 6 | BW23: =IF($J23="BR", 1, 0) -> 0 | BX23: =IF(SUM(BU23:BW23)=8, 1, 0) -> 0 | BY23: =IF($M23="None", 1, 0) -> 0 | BZ23: =COUNTIF($P23:$V23, "") -> 7 | CA23: =IF($W23="BR", 1, 0) -> 0 | CB23: =IF(SUM(BY23:CA23)=9, 1, 0) -> 0 | CD23: =IF($B23="None", 1, 0) -> 0 | CE23: =COUNTIF($D23:$I23, "") -> 6 | CF23: =IF($J23="EL", 1, 0) -> 0 | CG23: =IF(SUM(CD23:CF23)=8, 1, 0) -> 0 | CH23: =IF($M23="None", 1, 0) -> 0 | CI23: =COUNTIF($P23:$V23, "") -> 7 | CJ23: =IF($W23="EL", 1, 0) -> 0 | CK23: =IF(SUM(CH23:CJ23)=9, 1, 0) -> 0 | CM23: =IF($B23="None", 1, 0) -> 0 | CN23: =COUNTIF($D23:$I23, "") -> 6 | CO23: =IF($J23="D", 1, 0) -> 0 | CP23: =IF(SUM(CM23:CO23)=8, 1, 0) -> 0 | CQ23: =IF($M23="None", 1, 0) -> 0 | CR23: =COUNTIF($P23:$V23, "") -> 7 | CS23: =IF($W23="D", 1, 0) -> 0 | CT23: =IF(SUM(CQ23:CS23)=9, 1, 0) -> 0 | CV23: =IF($B23="None", 1, 0) -> 0 | CW23: =COUNTIF($D23:$I23, "") -> 6 | CX23: =IF($J23="M", 1, 0) -> 0 | CY23: =IF(SUM(CV23:CX23)=8, 1, 0) -> 0 | CZ23: =IF($M23="None", 1, 0) -> 0 | DA23: =COUNTIF($P23:$V23, "") -> 7 | DB23: =IF($W23="M", 1, 0) -> 0 | DC23: =IF(SUM(CZ23:DB23)=9, 1, 0) -> 0 | DE23: =IF($B23="None", 1, 0) -> 0 | DF23: =COUNTIF($D23:$I23, "") -> 6 | DG23: =IF($J23="LC", 1, 0) -> 0 | DH23: =IF(SUM(DE23:DG23)=8, 1, 0) -> 0 | DI23: =IF($M23="None", 1, 0) -> 0 | DJ23: =COUNTIF($P23:$V23, "") -> 7 | DK23: =IF($W23="LC", 1, 0) -> 0 | DL23: =IF(SUM(DI23:DK23)=9, 1, 0) -> 0 | DN23: =IF($B23="None", 1, 0) -> 0 | DO23: =IF($D23="L", 1, 0) -> 0 | DP23: =IF(SUM(DN23:DO23)=2, 1, 0) -> 0 | DQ23: =IF($M23="None", 1, 0) -> 0 | DR23: =IF($P23="L", 1, 0) -> 0 | DS23: =IF(SUM(DQ23:DR23)=2, 1, 0) -> 0 | DU23: =IF($B23="None", 1, 0) -> 0 | DV23: =IF($D23="WL", 1, 0) -> 0 | DW23: =IF(SUM(DU23:DV23)=2, 1, 0) -> 0 | DX23: =IF($M23="None", 1, 0) -> 0 | DY23: =IF($P23="WL", 1, 0) -> 0 | DZ23: =IF(SUM(DX23:DY23)=2, 1, 0) -> 0 | EB23: =IF($B23="None", 1, 0) -> 0 | EC23: =IF($D23="VL", 1, 0) -> 0 | ED23: =IF(SUM(EB23:EC23)=2, 1, 0) -> 0 | EE23: =IF($M23="None", 1, 0) -> 0 | EF23: =IF($P23="VL", 1, 0) -> 0 | EG23: =IF(SUM(EE23:EF23)=2, 1, 0) -> 0
A24: 18 | L24: 68 | Z24: SH | AA24: =SUM(AE113:AF128)/$X$2 -> #DIV/0! | AC24: =SUM(AG113:AH128)/$X$2 -> #DIV/0! | AK24: S = | AL24: soil | AQ24: =IF(B24="None", 1, 0) -> 0 | AR24: =COUNTIF(D24:I24, "") -> 6 | AS24: =IF(J24="S", 1, 0) -> 0 | AT24: =IF(SUM(AQ24:AS24)=8, 1, 0) -> 0 | AU24: =IF(M24="None", 1, 0) -> 0 | AV24: =COUNTIF(P24:V24, "") -> 7 | AW24: =IF(W24="S", 1, 0) -> 0 | AX24: =IF(SUM(AU24:AW24)=9, 1, 0) -> 0 | AZ24: =IF(OR(B24="None", B24=""), 0, 1) -> 0 | BA24: =IF(OR(M24="None", M24=""), 0, 1) -> 0 | BC24: =IF($B24="None", 1, 0) -> 0 | BD24: =COUNTIF($D24:$I24, "") -> 6 | BE24: =IF($J24="G", 1, 0) -> 0 | BF24: =IF(SUM(BC24:BE24)=8, 1, 0) -> 0 | BG24: =IF($M24="None", 1, 0) -> 0 | BH24: =COUNTIF($P24:$V24, "") -> 7 | BI24: =IF($W24="G", 1, 0) -> 0 | BJ24: =IF(SUM(BG24:BI24)=9, 1, 0) -> 0 | BL24: =IF($B24="None", 1, 0) -> 0 | BM24: =COUNTIF($D24:$I24, "") -> 6 | BN24: =IF($J24="R", 1, 0) -> 0 | BO24: =IF(SUM(BL24:BN24)=8, 1, 0) -> 0 | BP24: =IF($M24="None", 1, 0) -> 0 | BQ24: =COUNTIF($P24:$V24, "") -> 7 | BR24: =IF($W24="R", 1, 0) -> 0 | BS24: =IF(SUM(BP24:BR24)=9, 1, 0) -> 0 | BU24: =IF($B24="None", 1, 0) -> 0 | BV24: =COUNTIF($D24:$I24, "") -> 6 | BW24: =IF($J24="BR", 1, 0) -> 0 | BX24: =IF(SUM(BU24:BW24)=8, 1, 0) -> 0 | BY24: =IF($M24="None", 1, 0) -> 0 | BZ24: =COUNTIF($P24:$V24, "") -> 7 | CA24: =IF($W24="BR", 1, 0) -> 0 | CB24: =IF(SUM(BY24:CA24)=9, 1, 0) -> 0 | CD24: =IF($B24="None", 1, 0) -> 0 | CE24: =COUNTIF($D24:$I24, "") -> 6 | CF24: =IF($J24="EL", 1, 0) -> 0 | CG24: =IF(SUM(CD24:CF24)=8, 1, 0) -> 0 | CH24: =IF($M24="None", 1, 0) -> 0 | CI24: =COUNTIF($P24:$V24, "") -> 7 | CJ24: =IF($W24="EL", 1, 0) -> 0 | CK24: =IF(SUM(CH24:CJ24)=9, 1, 0) -> 0 | CM24: =IF($B24="None", 1, 0) -> 0 | CN24: =COUNTIF($D24:$I24, "") -> 6 | CO24: =IF($J24="D", 1, 0) -> 0 | CP24: =IF(SUM(CM24:CO24)=8, 1, 0) -> 0 | CQ24: =IF($M24="None", 1, 0) -> 0 | CR24: =COUNTIF($P24:$V24, "") -> 7 | CS24: =IF($W24="D", 1, 0) -> 0 | CT24: =IF(SUM(CQ24:CS24)=9, 1, 0) -> 0 | CV24: =IF($B24="None", 1, 0) -> 0 | CW24: =COUNTIF($D24:$I24, "") -> 6 | CX24: =IF($J24="M", 1, 0) -> 0 | CY24: =IF(SUM(CV24:CX24)=8, 1, 0) -> 0 | CZ24: =IF($M24="None", 1, 0) -> 0 | DA24: =COUNTIF($P24:$V24, "") -> 7 | DB24: =IF($W24="M", 1, 0) -> 0 | DC24: =IF(SUM(CZ24:DB24)=9, 1, 0) -> 0 | DE24: =IF($B24="None", 1, 0) -> 0 | DF24: =COUNTIF($D24:$I24, "") -> 6 | DG24: =IF($J24="LC", 1, 0) -> 0 | DH24: =IF(SUM(DE24:DG24)=8, 1, 0) -> 0 | DI24: =IF($M24="None", 1, 0) -> 0 | DJ24: =COUNTIF($P24:$V24, "") -> 7 | DK24: =IF($W24="LC", 1, 0) -> 0 | DL24: =IF(SUM(DI24:DK24)=9, 1, 0) -> 0 | DN24: =IF($B24="None", 1, 0) -> 0 | DO24: =IF($D24="L", 1, 0) -> 0 | DP24: =IF(SUM(DN24:DO24)=2, 1, 0) -> 0 | DQ24: =IF($M24="None", 1, 0) -> 0 | DR24: =IF($P24="L", 1, 0) -> 0 | DS24: =IF(SUM(DQ24:DR24)=2, 1, 0) -> 0 | DU24: =IF($B24="None", 1, 0) -> 0 | DV24: =IF($D24="WL", 1, 0) -> 0 | DW24: =IF(SUM(DU24:DV24)=2, 1, 0) -> 0 | DX24: =IF($M24="None", 1, 0) -> 0 | DY24: =IF($P24="WL", 1, 0) -> 0 | DZ24: =IF(SUM(DX24:DY24)=2, 1, 0) -> 0 | EB24: =IF($B24="None", 1, 0) -> 0 | EC24: =IF($D24="VL", 1, 0) -> 0 | ED24: =IF(SUM(EB24:EC24)=2, 1, 0) -> 0 | EE24: =IF($M24="None", 1, 0) -> 0 | EF24: =IF($P24="VL", 1, 0) -> 0 | EG24: =IF(SUM(EE24:EF24)=2, 1, 0) -> 0
A25: 19 | L25: 69 | Z25: Shrub Cover (%) | AQ25: =IF(B25="None", 1, 0) -> 0 | AR25: =COUNTIF(D25:I25, "") -> 6 | AS25: =IF(J25="S", 1, 0) -> 0 | AT25: =IF(SUM(AQ25:AS25)=8, 1, 0) -> 0 | AU25: =IF(M25="None", 1, 0) -> 0 | AV25: =COUNTIF(P25:V25, "") -> 7 | AW25: =IF(W25="S", 1, 0) -> 0 | AX25: =IF(SUM(AU25:AW25)=9, 1, 0) -> 0 | AZ25: =IF(OR(B25="None", B25=""), 0, 1) -> 0 | BA25: =IF(OR(M25="None", M25=""), 0, 1) -> 0 | BC25: =IF($B25="None", 1, 0) -> 0 | BD25: =COUNTIF($D25:$I25, "") -> 6 | BE25: =IF($J25="G", 1, 0) -> 0 | BF25: =IF(SUM(BC25:BE25)=8, 1, 0) -> 0 | BG25: =IF($M25="None", 1, 0) -> 0 | BH25: =COUNTIF($P25:$V25, "") -> 7 | BI25: =IF($W25="G", 1, 0) -> 0 | BJ25: =IF(SUM(BG25:BI25)=9, 1, 0) -> 0 | BL25: =IF($B25="None", 1, 0) -> 0 | BM25: =COUNTIF($D25:$I25, "") -> 6 | BN25: =IF($J25="R", 1, 0) -> 0 | BO25: =IF(SUM(BL25:BN25)=8, 1, 0) -> 0 | BP25: =IF($M25="None", 1, 0) -> 0 | BQ25: =COUNTIF($P25:$V25, "") -> 7 | BR25: =IF($W25="R", 1, 0) -> 0 | BS25: =IF(SUM(BP25:BR25)=9, 1, 0) -> 0 | BU25: =IF($B25="None", 1, 0) -> 0 | BV25: =COUNTIF($D25:$I25, "") -> 6 | BW25: =IF($J25="BR", 1, 0) -> 0 | BX25: =IF(SUM(BU25:BW25)=8, 1, 0) -> 0 | BY25: =IF($M25="None", 1, 0) -> 0 | BZ25: =COUNTIF($P25:$V25, "") -> 7 | CA25: =IF($W25="BR", 1, 0) -> 0 | CB25: =IF(SUM(BY25:CA25)=9, 1, 0) -> 0 | CD25: =IF($B25="None", 1, 0) -> 0 | CE25: =COUNTIF($D25:$I25, "") -> 6 | CF25: =IF($J25="EL", 1, 0) -> 0 | CG25: =IF(SUM(CD25:CF25)=8, 1, 0) -> 0 | CH25: =IF($M25="None", 1, 0) -> 0 | CI25: =COUNTIF($P25:$V25, "") -> 7 | CJ25: =IF($W25="EL", 1, 0) -> 0 | CK25: =IF(SUM(CH25:CJ25)=9, 1, 0) -> 0 | CM25: =IF($B25="None", 1, 0) -> 0 | CN25: =COUNTIF($D25:$I25, "") -> 6 | CO25: =IF($J25="D", 1, 0) -> 0 | CP25: =IF(SUM(CM25:CO25)=8, 1, 0) -> 0 | CQ25: =IF($M25="None", 1, 0) -> 0 | CR25: =COUNTIF($P25:$V25, "") -> 7 | CS25: =IF($W25="D", 1, 0) -> 0 | CT25: =IF(SUM(CQ25:CS25)=9, 1, 0) -> 0 | CV25: =IF($B25="None", 1, 0) -> 0 | CW25: =COUNTIF($D25:$I25, "") -> 6 | CX25: =IF($J25="M", 1, 0) -> 0 | CY25: =IF(SUM(CV25:CX25)=8, 1, 0) -> 0 | CZ25: =IF($M25="None", 1, 0) -> 0 | DA25: =COUNTIF($P25:$V25, "") -> 7 | DB25: =IF($W25="M", 1, 0) -> 0 | DC25: =IF(SUM(CZ25:DB25)=9, 1, 0) -> 0 | DE25: =IF($B25="None", 1, 0) -> 0 | DF25: =COUNTIF($D25:$I25, "") -> 6 | DG25: =IF($J25="LC", 1, 0) -> 0 | DH25: =IF(SUM(DE25:DG25)=8, 1, 0) -> 0 | DI25: =IF($M25="None", 1, 0) -> 0 | DJ25: =COUNTIF($P25:$V25, "") -> 7 | DK25: =IF($W25="LC", 1, 0) -> 0 | DL25: =IF(SUM(DI25:DK25)=9, 1, 0) -> 0 | DN25: =IF($B25="None", 1, 0) -> 0 | DO25: =IF($D25="L", 1, 0) -> 0 | DP25: =IF(SUM(DN25:DO25)=2, 1, 0) -> 0 | DQ25: =IF($M25="None", 1, 0) -> 0 | DR25: =IF($P25="L", 1, 0) -> 0 | DS25: =IF(SUM(DQ25:DR25)=2, 1, 0) -> 0 | DU25: =IF($B25="None", 1, 0) -> 0 | DV25: =IF($D25="WL", 1, 0) -> 0 | DW25: =IF(SUM(DU25:DV25)=2, 1, 0) -> 0 | DX25: =IF($M25="None", 1, 0) -> 0 | DY25: =IF($P25="WL", 1, 0) -> 0 | DZ25: =IF(SUM(DX25:DY25)=2, 1, 0) -> 0 | EB25: =IF($B25="None", 1, 0) -> 0 | EC25: =IF($D25="VL", 1, 0) -> 0 | ED25: =IF(SUM(EB25:EC25)=2, 1, 0) -> 0 | EE25: =IF($M25="None", 1, 0) -> 0 | EF25: =IF($P25="VL", 1, 0) -> 0 | EG25: =IF(SUM(EE25:EF25)=2, 1, 0) -> 0
A26: 20 | L26: 70 | Z26: Sage | AA26: =SUM(AE113:AF121)/$X$2 -> #DIV/0! | AC26: =SUM(AG113:AH121)/$X$2 -> #DIV/0! | AQ26: =IF(B26="None", 1, 0) -> 0 | AR26: =COUNTIF(D26:I26, "") -> 6 | AS26: =IF(J26="S", 1, 0) -> 0 | AT26: =IF(SUM(AQ26:AS26)=8, 1, 0) -> 0 | AU26: =IF(M26="None", 1, 0) -> 0 | AV26: =COUNTIF(P26:V26, "") -> 7 | AW26: =IF(W26="S", 1, 0) -> 0 | AX26: =IF(SUM(AU26:AW26)=9, 1, 0) -> 0 | AZ26: =IF(OR(B26="None", B26=""), 0, 1) -> 0 | BA26: =IF(OR(M26="None", M26=""), 0, 1) -> 0 | BC26: =IF($B26="None", 1, 0) -> 0 | BD26: =COUNTIF($D26:$I26, "") -> 6 | BE26: =IF($J26="G", 1, 0) -> 0 | BF26: =IF(SUM(BC26:BE26)=8, 1, 0) -> 0 | BG26: =IF($M26="None", 1, 0) -> 0 | BH26: =COUNTIF($P26:$V26, "") -> 7 | BI26: =IF($W26="G", 1, 0) -> 0 | BJ26: =IF(SUM(BG26:BI26)=9, 1, 0) -> 0 | BL26: =IF($B26="None", 1, 0) -> 0 | BM26: =COUNTIF($D26:$I26, "") -> 6 | BN26: =IF($J26="R", 1, 0) -> 0 | BO26: =IF(SUM(BL26:BN26)=8, 1, 0) -> 0 | BP26: =IF($M26="None", 1, 0) -> 0 | BQ26: =COUNTIF($P26:$V26, "") -> 7 | BR26: =IF($W26="R", 1, 0) -> 0 | BS26: =IF(SUM(BP26:BR26)=9, 1, 0) -> 0 | BU26: =IF($B26="None", 1, 0) -> 0 | BV26: =COUNTIF($D26:$I26, "") -> 6 | BW26: =IF($J26="BR", 1, 0) -> 0 | BX26: =IF(SUM(BU26:BW26)=8, 1, 0) -> 0 | BY26: =IF($M26="None", 1, 0) -> 0 | BZ26: =COUNTIF($P26:$V26, "") -> 7 | CA26: =IF($W26="BR", 1, 0) -> 0 | CB26: =IF(SUM(BY26:CA26)=9, 1, 0) -> 0 | CD26: =IF($B26="None", 1, 0) -> 0 | CE26: =COUNTIF($D26:$I26, "") -> 6 | CF26: =IF($J26="EL", 1, 0) -> 0 | CG26: =IF(SUM(CD26:CF26)=8, 1, 0) -> 0 | CH26: =IF($M26="None", 1, 0) -> 0 | CI26: =COUNTIF($P26:$V26, "") -> 7 | CJ26: =IF($W26="EL", 1, 0) -> 0 | CK26: =IF(SUM(CH26:CJ26)=9, 1, 0) -> 0 | CM26: =IF($B26="None", 1, 0) -> 0 | CN26: =COUNTIF($D26:$I26, "") -> 6 | CO26: =IF($J26="D", 1, 0) -> 0 | CP26: =IF(SUM(CM26:CO26)=8, 1, 0) -> 0 | CQ26: =IF($M26="None", 1, 0) -> 0 | CR26: =COUNTIF($P26:$V26, "") -> 7 | CS26: =IF($W26="D", 1, 0) -> 0 | CT26: =IF(SUM(CQ26:CS26)=9, 1, 0) -> 0 | CV26: =IF($B26="None", 1, 0) -> 0 | CW26: =COUNTIF($D26:$I26, "") -> 6 | CX26: =IF($J26="M", 1, 0) -> 0 | CY26: =IF(SUM(CV26:CX26)=8, 1, 0) -> 0 | CZ26: =IF($M26="None", 1, 0) -> 0 | DA26: =COUNTIF($P26:$V26, "") -> 7 | DB26: =IF($W26="M", 1, 0) -> 0 | DC26: =IF(SUM(CZ26:DB26)=9, 1, 0) -> 0 | DE26: =IF($B26="None", 1, 0) -> 0 | DF26: =COUNTIF($D26:$I26, "") -> 6 | DG26: =IF($J26="LC", 1, 0) -> 0 | DH26: =IF(SUM(DE26:DG26)=8, 1, 0) -> 0 | DI26: =IF($M26="None", 1, 0) -> 0 | DJ26: =COUNTIF($P26:$V26, "") -> 7 | DK26: =IF($W26="LC", 1, 0) -> 0 | DL26: =IF(SUM(DI26:DK26)=9, 1, 0) -> 0 | DN26: =IF($B26="None", 1, 0) -> 0 | DO26: =IF($D26="L", 1, 0) -> 0 | DP26: =IF(SUM(DN26:DO26)=2, 1, 0) -> 0 | DQ26: =IF($M26="None", 1, 0) -> 0 | DR26: =IF($P26="L", 1, 0) -> 0 | DS26: =IF(SUM(DQ26:DR26)=2, 1, 0) -> 0 | DU26: =IF($B26="None", 1, 0) -> 0 | DV26: =IF($D26="WL", 1, 0) -> 0 | DW26: =IF(SUM(DU26:DV26)=2, 1, 0) -> 0 | DX26: =IF($M26="None", 1, 0) -> 0 | DY26: =IF($P26="WL", 1, 0) -> 0 | DZ26: =IF(SUM(DX26:DY26)=2, 1, 0) -> 0 | EB26: =IF($B26="None", 1, 0) -> 0 | EC26: =IF($D26="VL", 1, 0) -> 0 | ED26: =IF(SUM(EB26:EC26)=2, 1, 0) -> 0 | EE26: =IF($M26="None", 1, 0) -> 0 | EF26: =IF($P26="VL", 1, 0) -> 0 | EG26: =IF(SUM(EE26:EF26)=2, 1, 0) -> 0
A27: 21 | L27: 71 | Z27: Other | AA27: =SUM(AE123:AF128)/$X$2 -> #DIV/0! | AC27: =SUM(AG123:AH128)/$X$2 -> #DIV/0! | AQ27: =IF(B27="None", 1, 0) -> 0 | AR27: =COUNTIF(D27:I27, "") -> 6 | AS27: =IF(J27="S", 1, 0) -> 0 | AT27: =IF(SUM(AQ27:AS27)=8, 1, 0) -> 0 | AU27: =IF(M27="None", 1, 0) -> 0 | AV27: =COUNTIF(P27:V27, "") -> 7 | AW27: =IF(W27="S", 1, 0) -> 0 | AX27: =IF(SUM(AU27:AW27)=9, 1, 0) -> 0 | AZ27: =IF(OR(B27="None", B27=""), 0, 1) -> 0 | BA27: =IF(OR(M27="None", M27=""), 0, 1) -> 0 | BC27: =IF($B27="None", 1, 0) -> 0 | BD27: =COUNTIF($D27:$I27, "") -> 6 | BE27: =IF($J27="G", 1, 0) -> 0 | BF27: =IF(SUM(BC27:BE27)=8, 1, 0) -> 0 | BG27: =IF($M27="None", 1, 0) -> 0 | BH27: =COUNTIF($P27:$V27, "") -> 7 | BI27: =IF($W27="G", 1, 0) -> 0 | BJ27: =IF(SUM(BG27:BI27)=9, 1, 0) -> 0 | BL27: =IF($B27="None", 1, 0) -> 0 | BM27: =COUNTIF($D27:$I27, "") -> 6 | BN27: =IF($J27="R", 1, 0) -> 0 | BO27: =IF(SUM(BL27:BN27)=8, 1, 0) -> 0 | BP27: =IF($M27="None", 1, 0) -> 0 | BQ27: =COUNTIF($P27:$V27, "") -> 7 | BR27: =IF($W27="R", 1, 0) -> 0 | BS27: =IF(SUM(BP27:BR27)=9, 1, 0) -> 0 | BU27: =IF($B27="None", 1, 0) -> 0 | BV27: =COUNTIF($D27:$I27, "") -> 6 | BW27: =IF($J27="BR", 1, 0) -> 0 | BX27: =IF(SUM(BU27:BW27)=8, 1, 0) -> 0 | BY27: =IF($M27="None", 1, 0) -> 0 | BZ27: =COUNTIF($P27:$V27, "") -> 7 | CA27: =IF($W27="BR", 1, 0) -> 0 | CB27: =IF(SUM(BY27:CA27)=9, 1, 0) -> 0 | CD27: =IF($B27="None", 1, 0) -> 0 | CE27: =COUNTIF($D27:$I27, "") -> 6 | CF27: =IF($J27="EL", 1, 0) -> 0 | CG27: =IF(SUM(CD27:CF27)=8, 1, 0) -> 0 | CH27: =IF($M27="None", 1, 0) -> 0 | CI27: =COUNTIF($P27:$V27, "") -> 7 | CJ27: =IF($W27="EL", 1, 0) -> 0 | CK27: =IF(SUM(CH27:CJ27)=9, 1, 0) -> 0 | CM27: =IF($B27="None", 1, 0) -> 0 | CN27: =COUNTIF($D27:$I27, "") -> 6 | CO27: =IF($J27="D", 1, 0) -> 0 | CP27: =IF(SUM(CM27:CO27)=8, 1, 0) -> 0 | CQ27: =IF($M27="None", 1, 0) -> 0 | CR27: =COUNTIF($P27:$V27, "") -> 7 | CS27: =IF($W27="D", 1, 0) -> 0 | CT27: =IF(SUM(CQ27:CS27)=9, 1, 0) -> 0 | CV27: =IF($B27="None", 1, 0) -> 0 | CW27: =COUNTIF($D27:$I27, "") -> 6 | CX27: =IF($J27="M", 1, 0) -> 0 | CY27: =IF(SUM(CV27:CX27)=8, 1, 0) -> 0 | CZ27: =IF($M27="None", 1, 0) -> 0 | DA27: =COUNTIF($P27:$V27, "") -> 7 | DB27: =IF($W27="M", 1, 0) -> 0 | DC27: =IF(SUM(CZ27:DB27)=9, 1, 0) -> 0 | DE27: =IF($B27="None", 1, 0) -> 0 | DF27: =COUNTIF($D27:$I27, "") -> 6 | DG27: =IF($J27="LC", 1, 0) -> 0 | DH27: =IF(SUM(DE27:DG27)=8, 1, 0) -> 0 | DI27: =IF($M27="None", 1, 0) -> 0 | DJ27: =COUNTIF($P27:$V27, "") -> 7 | DK27: =IF($W27="LC", 1, 0) -> 0 | DL27: =IF(SUM(DI27:DK27)=9, 1, 0) -> 0 | DN27: =IF($B27="None", 1, 0) -> 0 | DO27: =IF($D27="L", 1, 0) -> 0 | DP27: =IF(SUM(DN27:DO27)=2, 1, 0) -> 0 | DQ27: =IF($M27="None", 1, 0) -> 0 | DR27: =IF($P27="L", 1, 0) -> 0 | DS27: =IF(SUM(DQ27:DR27)=2, 1, 0) -> 0 | DU27: =IF($B27="None", 1, 0) -> 0 | DV27: =IF($D27="WL", 1, 0) -> 0 | DW27: =IF(SUM(DU27:DV27)=2, 1, 0) -> 0 | DX27: =IF($M27="None", 1, 0) -> 0 | DY27: =IF($P27="WL", 1, 0) -> 0 | DZ27: =IF(SUM(DX27:DY27)=2, 1, 0) -> 0 | EB27: =IF($B27="None", 1, 0) -> 0 | EC27: =IF($D27="VL", 1, 0) -> 0 | ED27: =IF(SUM(EB27:EC27)=2, 1, 0) -> 0 | EE27: =IF($M27="None", 1, 0) -> 0 | EF27: =IF($P27="VL", 1, 0) -> 0 | EG27: =IF(SUM(EE27:EF27)=2, 1, 0) -> 0
A28: 22 | L28: 72 | AQ28: =IF(B28="None", 1, 0) -> 0 | AR28: =COUNTIF(D28:I28, "") -> 6 | AS28: =IF(J28="S", 1, 0) -> 0 | AT28: =IF(SUM(AQ28:AS28)=8, 1, 0) -> 0 | AU28: =IF(M28="None", 1, 0) -> 0 | AV28: =COUNTIF(P28:V28, "") -> 7 | AW28: =IF(W28="S", 1, 0) -> 0 | AX28: =IF(SUM(AU28:AW28)=9, 1, 0) -> 0 | AZ28: =IF(OR(B28="None", B28=""), 0, 1) -> 0 | BA28: =IF(OR(M28="None", M28=""), 0, 1) -> 0 | BC28: =IF($B28="None", 1, 0) -> 0 | BD28: =COUNTIF($D28:$I28, "") -> 6 | BE28: =IF($J28="G", 1, 0) -> 0 | BF28: =IF(SUM(BC28:BE28)=8, 1, 0) -> 0 | BG28: =IF($M28="None", 1, 0) -> 0 | BH28: =COUNTIF($P28:$V28, "") -> 7 | BI28: =IF($W28="G", 1, 0) -> 0 | BJ28: =IF(SUM(BG28:BI28)=9, 1, 0) -> 0 | BL28: =IF($B28="None", 1, 0) -> 0 | BM28: =COUNTIF($D28:$I28, "") -> 6 | BN28: =IF($J28="R", 1, 0) -> 0 | BO28: =IF(SUM(BL28:BN28)=8, 1, 0) -> 0 | BP28: =IF($M28="None", 1, 0) -> 0 | BQ28: =COUNTIF($P28:$V28, "") -> 7 | BR28: =IF($W28="R", 1, 0) -> 0 | BS28: =IF(SUM(BP28:BR28)=9, 1, 0) -> 0 | BU28: =IF($B28="None", 1, 0) -> 0 | BV28: =COUNTIF($D28:$I28, "") -> 6 | BW28: =IF($J28="BR", 1, 0) -> 0 | BX28: =IF(SUM(BU28:BW28)=8, 1, 0) -> 0 | BY28: =IF($M28="None", 1, 0) -> 0 | BZ28: =COUNTIF($P28:$V28, "") -> 7 | CA28: =IF($W28="BR", 1, 0) -> 0 | CB28: =IF(SUM(BY28:CA28)=9, 1, 0) -> 0 | CD28: =IF($B28="None", 1, 0) -> 0 | CE28: =COUNTIF($D28:$I28, "") -> 6 | CF28: =IF($J28="EL", 1, 0) -> 0 | CG28: =IF(SUM(CD28:CF28)=8, 1, 0) -> 0 | CH28: =IF($M28="None", 1, 0) -> 0 | CI28: =COUNTIF($P28:$V28, "") -> 7 | CJ28: =IF($W28="EL", 1, 0) -> 0 | CK28: =IF(SUM(CH28:CJ28)=9, 1, 0) -> 0 | CM28: =IF($B28="None", 1, 0) -> 0 | CN28: =COUNTIF($D28:$I28, "") -> 6 | CO28: =IF($J28="D", 1, 0) -> 0 | CP28: =IF(SUM(CM28:CO28)=8, 1, 0) -> 0 | CQ28: =IF($M28="None", 1, 0) -> 0 | CR28: =COUNTIF($P28:$V28, "") -> 7 | CS28: =IF($W28="D", 1, 0) -> 0 | CT28: =IF(SUM(CQ28:CS28)=9, 1, 0) -> 0 | CV28: =IF($B28="None", 1, 0) -> 0 | CW28: =COUNTIF($D28:$I28, "") -> 6 | CX28: =IF($J28="M", 1, 0) -> 0 | CY28: =IF(SUM(CV28:CX28)=8, 1, 0) -> 0 | CZ28: =IF($M28="None", 1, 0) -> 0 | DA28: =COUNTIF($P28:$V28, "") -> 7 | DB28: =IF($W28="M", 1, 0) -> 0 | DC28: =IF(SUM(CZ28:DB28)=9, 1, 0) -> 0 | DE28: =IF($B28="None", 1, 0) -> 0 | DF28: =COUNTIF($D28:$I28, "") -> 6 | DG28: =IF($J28="LC", 1, 0) -> 0 | DH28: =IF(SUM(DE28:DG28)=8, 1, 0) -> 0 | DI28: =IF($M28="None", 1, 0) -> 0 | DJ28: =COUNTIF($P28:$V28, "") -> 7 | DK28: =IF($W28="LC", 1, 0) -> 0 | DL28: =IF(SUM(DI28:DK28)=9, 1, 0) -> 0 | DN28: =IF($B28="None", 1, 0) -> 0 | DO28: =IF($D28="L", 1, 0) -> 0 | DP28: =IF(SUM(DN28:DO28)=2, 1, 0) -> 0 | DQ28: =IF($M28="None", 1, 0) -> 0 | DR28: =IF($P28="L", 1, 0) -> 0 | DS28: =IF(SUM(DQ28:DR28)=2, 1, 0) -> 0 | DU28: =IF($B28="None", 1, 0) -> 0 | DV28: =IF($D28="WL", 1, 0) -> 0 | DW28: =IF(SUM(DU28:DV28)=2, 1, 0) -> 0 | DX28: =IF($M28="None", 1, 0) -> 0 | DY28: =IF($P28="WL", 1, 0) -> 0 | DZ28: =IF(SUM(DX28:DY28)=2, 1, 0) -> 0 | EB28: =IF($B28="None", 1, 0) -> 0 | EC28: =IF($D28="VL", 1, 0) -> 0 | ED28: =IF(SUM(EB28:EC28)=2, 1, 0) -> 0 | EE28: =IF($M28="None", 1, 0) -> 0 | EF28: =IF($P28="VL", 1, 0) -> 0 | EG28: =IF(SUM(EE28:EF28)=2, 1, 0) -> 0
A29: 23 | L29: 73 | AQ29: =IF(B29="None", 1, 0) -> 0 | AR29: =COUNTIF(D29:I29, "") -> 6 | AS29: =IF(J29="S", 1, 0) -> 0 | AT29: =IF(SUM(AQ29:AS29)=8, 1, 0) -> 0 | AU29: =IF(M29="None", 1, 0) -> 0 | AV29: =COUNTIF(P29:V29, "") -> 7 | AW29: =IF(W29="S", 1, 0) -> 0 | AX29: =IF(SUM(AU29:AW29)=9, 1, 0) -> 0 | AZ29: =IF(OR(B29="None", B29=""), 0, 1) -> 0 | BA29: =IF(OR(M29="None", M29=""), 0, 1) -> 0 | BC29: =IF($B29="None", 1, 0) -> 0 | BD29: =COUNTIF($D29:$I29, "") -> 6 | BE29: =IF($J29="G", 1, 0) -> 0 | BF29: =IF(SUM(BC29:BE29)=8, 1, 0) -> 0 | BG29: =IF($M29="None", 1, 0) -> 0 | BH29: =COUNTIF($P29:$V29, "") -> 7 | BI29: =IF($W29="G", 1, 0) -> 0 | BJ29: =IF(SUM(BG29:BI29)=9, 1, 0) -> 0 | BL29: =IF($B29="None", 1, 0) -> 0 | BM29: =COUNTIF($D29:$I29, "") -> 6 | BN29: =IF($J29="R", 1, 0) -> 0 | BO29: =IF(SUM(BL29:BN29)=8, 1, 0) -> 0 | BP29: =IF($M29="None", 1, 0) -> 0 | BQ29: =COUNTIF($P29:$V29, "") -> 7 | BR29: =IF($W29="R", 1, 0) -> 0 | BS29: =IF(SUM(BP29:BR29)=9, 1, 0) -> 0 | BU29: =IF($B29="None", 1, 0) -> 0 | BV29: =COUNTIF($D29:$I29, "") -> 6 | BW29: =IF($J29="BR", 1, 0) -> 0 | BX29: =IF(SUM(BU29:BW29)=8, 1, 0) -> 0 | BY29: =IF($M29="None", 1, 0) -> 0 | BZ29: =COUNTIF($P29:$V29, "") -> 7 | CA29: =IF($W29="BR", 1, 0) -> 0 | CB29: =IF(SUM(BY29:CA29)=9, 1, 0) -> 0 | CD29: =IF($B29="None", 1, 0) -> 0 | CE29: =COUNTIF($D29:$I29, "") -> 6 | CF29: =IF($J29="EL", 1, 0) -> 0 | CG29: =IF(SUM(CD29:CF29)=8, 1, 0) -> 0 | CH29: =IF($M29="None", 1, 0) -> 0 | CI29: =COUNTIF($P29:$V29, "") -> 7 | CJ29: =IF($W29="EL", 1, 0) -> 0 | CK29: =IF(SUM(CH29:CJ29)=9, 1, 0) -> 0 | CM29: =IF($B29="None", 1, 0) -> 0 | CN29: =COUNTIF($D29:$I29, "") -> 6 | CO29: =IF($J29="D", 1, 0) -> 0 | CP29: =IF(SUM(CM29:CO29)=8, 1, 0) -> 0 | CQ29: =IF($M29="None", 1, 0) -> 0 | CR29: =COUNTIF($P29:$V29, "") -> 7 | CS29: =IF($W29="D", 1, 0) -> 0 | CT29: =IF(SUM(CQ29:CS29)=9, 1, 0) -> 0 | CV29: =IF($B29="None", 1, 0) -> 0 | CW29: =COUNTIF($D29:$I29, "") -> 6 | CX29: =IF($J29="M", 1, 0) -> 0 | CY29: =IF(SUM(CV29:CX29)=8, 1, 0) -> 0 | CZ29: =IF($M29="None", 1, 0) -> 0 | DA29: =COUNTIF($P29:$V29, "") -> 7 | DB29: =IF($W29="M", 1, 0) -> 0 | DC29: =IF(SUM(CZ29:DB29)=9, 1, 0) -> 0 | DE29: =IF($B29="None", 1, 0) -> 0 | DF29: =COUNTIF($D29:$I29, "") -> 6 | DG29: =IF($J29="LC", 1, 0) -> 0 | DH29: =IF(SUM(DE29:DG29)=8, 1, 0) -> 0 | DI29: =IF($M29="None", 1, 0) -> 0 | DJ29: =COUNTIF($P29:$V29, "") -> 7 | DK29: =IF($W29="LC", 1, 0) -> 0 | DL29: =IF(SUM(DI29:DK29)=9, 1, 0) -> 0 | DN29: =IF($B29="None", 1, 0) -> 0 | DO29: =IF($D29="L", 1, 0) -> 0 | DP29: =IF(SUM(DN29:DO29)=2, 1, 0) -> 0 | DQ29: =IF($M29="None", 1, 0) -> 0 | DR29: =IF($P29="L", 1, 0) -> 0 | DS29: =IF(SUM(DQ29:DR29)=2, 1, 0) -> 0 | DU29: =IF($B29="None", 1, 0) -> 0 | DV29: =IF($D29="WL", 1, 0) -> 0 | DW29: =IF(SUM(DU29:DV29)=2, 1, 0) -> 0 | DX29: =IF($M29="None", 1, 0) -> 0 | DY29: =IF($P29="WL", 1, 0) -> 0 | DZ29: =IF(SUM(DX29:DY29)=2, 1, 0) -> 0 | EB29: =IF($B29="None", 1, 0) -> 0 | EC29: =IF($D29="VL", 1, 0) -> 0 | ED29: =IF(SUM(EB29:EC29)=2, 1, 0) -> 0 | EE29: =IF($M29="None", 1, 0) -> 0 | EF29: =IF($P29="VL", 1, 0) -> 0 | EG29: =IF(SUM(EE29:EF29)=2, 1, 0) -> 0
A30: 24 | L30: 74 | AQ30: =IF(B30="None", 1, 0) -> 0 | AR30: =COUNTIF(D30:I30, "") -> 6 | AS30: =IF(J30="S", 1, 0) -> 0 | AT30: =IF(SUM(AQ30:AS30)=8, 1, 0) -> 0 | AU30: =IF(M30="None", 1, 0) -> 0 | AV30: =COUNTIF(P30:V30, "") -> 7 | AW30: =IF(W30="S", 1, 0) -> 0 | AX30: =IF(SUM(AU30:AW30)=9, 1, 0) -> 0 | AZ30: =IF(OR(B30="None", B30=""), 0, 1) -> 0 | BA30: =IF(OR(M30="None", M30=""), 0, 1) -> 0 | BC30: =IF($B30="None", 1, 0) -> 0 | BD30: =COUNTIF($D30:$I30, "") -> 6 | BE30: =IF($J30="G", 1, 0) -> 0 | BF30: =IF(SUM(BC30:BE30)=8, 1, 0) -> 0 | BG30: =IF($M30="None", 1, 0) -> 0 | BH30: =COUNTIF($P30:$V30, "") -> 7 | BI30: =IF($W30="G", 1, 0) -> 0 | BJ30: =IF(SUM(BG30:BI30)=9, 1, 0) -> 0 | BL30: =IF($B30="None", 1, 0) -> 0 | BM30: =COUNTIF($D30:$I30, "") -> 6 | BN30: =IF($J30="R", 1, 0) -> 0 | BO30: =IF(SUM(BL30:BN30)=8, 1, 0) -> 0 | BP30: =IF($M30="None", 1, 0) -> 0 | BQ30: =COUNTIF($P30:$V30, "") -> 7 | BR30: =IF($W30="R", 1, 0) -> 0 | BS30: =IF(SUM(BP30:BR30)=9, 1, 0) -> 0 | BU30: =IF($B30="None", 1, 0) -> 0 | BV30: =COUNTIF($D30:$I30, "") -> 6 | BW30: =IF($J30="BR", 1, 0) -> 0 | BX30: =IF(SUM(BU30:BW30)=8, 1, 0) -> 0 | BY30: =IF($M30="None", 1, 0) -> 0 | BZ30: =COUNTIF($P30:$V30, "") -> 7 | CA30: =IF($W30="BR", 1, 0) -> 0 | CB30: =IF(SUM(BY30:CA30)=9, 1, 0) -> 0 | CD30: =IF($B30="None", 1, 0) -> 0 | CE30: =COUNTIF($D30:$I30, "") -> 6 | CF30: =IF($J30="EL", 1, 0) -> 0 | CG30: =IF(SUM(CD30:CF30)=8, 1, 0) -> 0 | CH30: =IF($M30="None", 1, 0) -> 0 | CI30: =COUNTIF($P30:$V30, "") -> 7 | CJ30: =IF($W30="EL", 1, 0) -> 0 | CK30: =IF(SUM(CH30:CJ30)=9, 1, 0) -> 0 | CM30: =IF($B30="None", 1, 0) -> 0 | CN30: =COUNTIF($D30:$I30, "") -> 6 | CO30: =IF($J30="D", 1, 0) -> 0 | CP30: =IF(SUM(CM30:CO30)=8, 1, 0) -> 0 | CQ30: =IF($M30="None", 1, 0) -> 0 | CR30: =COUNTIF($P30:$V30, "") -> 7 | CS30: =IF($W30="D", 1, 0) -> 0 | CT30: =IF(SUM(CQ30:CS30)=9, 1, 0) -> 0 | CV30: =IF($B30="None", 1, 0) -> 0 | CW30: =COUNTIF($D30:$I30, "") -> 6 | CX30: =IF($J30="M", 1, 0) -> 0 | CY30: =IF(SUM(CV30:CX30)=8, 1, 0) -> 0 | CZ30: =IF($M30="None", 1, 0) -> 0 | DA30: =COUNTIF($P30:$V30, "") -> 7 | DB30: =IF($W30="M", 1, 0) -> 0 | DC30: =IF(SUM(CZ30:DB30)=9, 1, 0) -> 0 | DE30: =IF($B30="None", 1, 0) -> 0 | DF30: =COUNTIF($D30:$I30, "") -> 6 | DG30: =IF($J30="LC", 1, 0) -> 0 | DH30: =IF(SUM(DE30:DG30)=8, 1, 0) -> 0 | DI30: =IF($M30="None", 1, 0) -> 0 | DJ30: =COUNTIF($P30:$V30, "") -> 7 | DK30: =IF($W30="LC", 1, 0) -> 0 | DL30: =IF(SUM(DI30:DK30)=9, 1, 0) -> 0 | DN30: =IF($B30="None", 1, 0) -> 0 | DO30: =IF($D30="L", 1, 0) -> 0 | DP30: =IF(SUM(DN30:DO30)=2, 1, 0) -> 0 | DQ30: =IF($M30="None", 1, 0) -> 0 | DR30: =IF($P30="L", 1, 0) -> 0 | DS30: =IF(SUM(DQ30:DR30)=2, 1, 0) -> 0 | DU30: =IF($B30="None", 1, 0) -> 0 | DV30: =IF($D30="WL", 1, 0) -> 0 | DW30: =IF(SUM(DU30:DV30)=2, 1, 0) -> 0 | DX30: =IF($M30="None", 1, 0) -> 0 | DY30: =IF($P30="WL", 1, 0) -> 0 | DZ30: =IF(SUM(DX30:DY30)=2, 1, 0) -> 0 | EB30: =IF($B30="None", 1, 0) -> 0 | EC30: =IF($D30="VL", 1, 0) -> 0 | ED30: =IF(SUM(EB30:EC30)=2, 1, 0) -> 0 | EE30: =IF($M30="None", 1, 0) -> 0 | EF30: =IF($P30="VL", 1, 0) -> 0 | EG30: =IF(SUM(EE30:EF30)=2, 1, 0) -> 0
A31: 25 | L31: 75 | AQ31: =IF(B31="None", 1, 0) -> 0 | AR31: =COUNTIF(D31:I31, "") -> 6 | AS31: =IF(J31="S", 1, 0) -> 0 | AT31: =IF(SUM(AQ31:AS31)=8, 1, 0) -> 0 | AU31: =IF(M31="None", 1, 0) -> 0 | AV31: =COUNTIF(P31:V31, "") -> 7 | AW31: =IF(W31="S", 1, 0) -> 0 | AX31: =IF(SUM(AU31:AW31)=9, 1, 0) -> 0 | AZ31: =IF(OR(B31="None", B31=""), 0, 1) -> 0 | BA31: =IF(OR(M31="None", M31=""), 0, 1) -> 0 | BC31: =IF($B31="None", 1, 0) -> 0 | BD31: =COUNTIF($D31:$I31, "") -> 6 | BE31: =IF($J31="G", 1, 0) -> 0 | BF31: =IF(SUM(BC31:BE31)=8, 1, 0) -> 0 | BG31: =IF($M31="None", 1, 0) -> 0 | BH31: =COUNTIF($P31:$V31, "") -> 7 | BI31: =IF($W31="G", 1, 0) -> 0 | BJ31: =IF(SUM(BG31:BI31)=9, 1, 0) -> 0 | BL31: =IF($B31="None", 1, 0) -> 0 | BM31: =COUNTIF($D31:$I31, "") -> 6 | BN31: =IF($J31="R", 1, 0) -> 0 | BO31: =IF(SUM(BL31:BN31)=8, 1, 0) -> 0 | BP31: =IF($M31="None", 1, 0) -> 0 | BQ31: =COUNTIF($P31:$V31, "") -> 7 | BR31: =IF($W31="R", 1, 0) -> 0 | BS31: =IF(SUM(BP31:BR31)=9, 1, 0) -> 0 | BU31: =IF($B31="None", 1, 0) -> 0 | BV31: =COUNTIF($D31:$I31, "") -> 6 | BW31: =IF($J31="BR", 1, 0) -> 0 | BX31: =IF(SUM(BU31:BW31)=8, 1, 0) -> 0 | BY31: =IF($M31="None", 1, 0) -> 0 | BZ31: =COUNTIF($P31:$V31, "") -> 7 | CA31: =IF($W31="BR", 1, 0) -> 0 | CB31: =IF(SUM(BY31:CA31)=9, 1, 0) -> 0 | CD31: =IF($B31="None", 1, 0) -> 0 | CE31: =COUNTIF($D31:$I31, "") -> 6 | CF31: =IF($J31="EL", 1, 0) -> 0 | CG31: =IF(SUM(CD31:CF31)=8, 1, 0) -> 0 | CH31: =IF($M31="None", 1, 0) -> 0 | CI31: =COUNTIF($P31:$V31, "") -> 7 | CJ31: =IF($W31="EL", 1, 0) -> 0 | CK31: =IF(SUM(CH31:CJ31)=9, 1, 0) -> 0 | CM31: =IF($B31="None", 1, 0) -> 0 | CN31: =COUNTIF($D31:$I31, "") -> 6 | CO31: =IF($J31="D", 1, 0) -> 0 | CP31: =IF(SUM(CM31:CO31)=8, 1, 0) -> 0 | CQ31: =IF($M31="None", 1, 0) -> 0 | CR31: =COUNTIF($P31:$V31, "") -> 7 | CS31: =IF($W31="D", 1, 0) -> 0 | CT31: =IF(SUM(CQ31:CS31)=9, 1, 0) -> 0 | CV31: =IF($B31="None", 1, 0) -> 0 | CW31: =COUNTIF($D31:$I31, "") -> 6 | CX31: =IF($J31="M", 1, 0) -> 0 | CY31: =IF(SUM(CV31:CX31)=8, 1, 0) -> 0 | CZ31: =IF($M31="None", 1, 0) -> 0 | DA31: =COUNTIF($P31:$V31, "") -> 7 | DB31: =IF($W31="M", 1, 0) -> 0 | DC31: =IF(SUM(CZ31:DB31)=9, 1, 0) -> 0 | DE31: =IF($B31="None", 1, 0) -> 0 | DF31: =COUNTIF($D31:$I31, "") -> 6 | DG31: =IF($J31="LC", 1, 0) -> 0 | DH31: =IF(SUM(DE31:DG31)=8, 1, 0) -> 0 | DI31: =IF($M31="None", 1, 0) -> 0 | DJ31: =COUNTIF($P31:$V31, "") -> 7 | DK31: =IF($W31="LC", 1, 0) -> 0 | DL31: =IF(SUM(DI31:DK31)=9, 1, 0) -> 0 | DN31: =IF($B31="None", 1, 0) -> 0 | DO31: =IF($D31="L", 1, 0) -> 0 | DP31: =IF(SUM(DN31:DO31)=2, 1, 0) -> 0 | DQ31: =IF($M31="None", 1, 0) -> 0 | DR31: =IF($P31="L", 1, 0) -> 0 | DS31: =IF(SUM(DQ31:DR31)=2, 1, 0) -> 0 | DU31: =IF($B31="None", 1, 0) -> 0 | DV31: =IF($D31="WL", 1, 0) -> 0 | DW31: =IF(SUM(DU31:DV31)=2, 1, 0) -> 0 | DX31: =IF($M31="None", 1, 0) -> 0 | DY31: =IF($P31="WL", 1, 0) -> 0 | DZ31: =IF(SUM(DX31:DY31)=2, 1, 0) -> 0 | EB31: =IF($B31="None", 1, 0) -> 0 | EC31: =IF($D31="VL", 1, 0) -> 0 | ED31: =IF(SUM(EB31:EC31)=2, 1, 0) -> 0 | EE31: =IF($M31="None", 1, 0) -> 0 | EF31: =IF($P31="VL", 1, 0) -> 0 | EG31: =IF(SUM(EE31:EF31)=2, 1, 0) -> 0
A32: 26 | L32: 76 | AQ32: =IF(B32="None", 1, 0) -> 0 | AR32: =COUNTIF(D32:I32, "") -> 6 | AS32: =IF(J32="S", 1, 0) -> 0 | AT32: =IF(SUM(AQ32:AS32)=8, 1, 0) -> 0 | AU32: =IF(M32="None", 1, 0) -> 0 | AV32: =COUNTIF(P32:V32, "") -> 7 | AW32: =IF(W32="S", 1, 0) -> 0 | AX32: =IF(SUM(AU32:AW32)=9, 1, 0) -> 0 | AZ32: =IF(OR(B32="None", B32=""), 0, 1) -> 0 | BA32: =IF(OR(M32="None", M32=""), 0, 1) -> 0 | BC32: =IF($B32="None", 1, 0) -> 0 | BD32: =COUNTIF($D32:$I32, "") -> 6 | BE32: =IF($J32="G", 1, 0) -> 0 | BF32: =IF(SUM(BC32:BE32)=8, 1, 0) -> 0 | BG32: =IF($M32="None", 1, 0) -> 0 | BH32: =COUNTIF($P32:$V32, "") -> 7 | BI32: =IF($W32="G", 1, 0) -> 0 | BJ32: =IF(SUM(BG32:BI32)=9, 1, 0) -> 0 | BL32: =IF($B32="None", 1, 0) -> 0 | BM32: =COUNTIF($D32:$I32, "") -> 6 | BN32: =IF($J32="R", 1, 0) -> 0 | BO32: =IF(SUM(BL32:BN32)=8, 1, 0) -> 0 | BP32: =IF($M32="None", 1, 0) -> 0 | BQ32: =COUNTIF($P32:$V32, "") -> 7 | BR32: =IF($W32="R", 1, 0) -> 0 | BS32: =IF(SUM(BP32:BR32)=9, 1, 0) -> 0 | BU32: =IF($B32="None", 1, 0) -> 0 | BV32: =COUNTIF($D32:$I32, "") -> 6 | BW32: =IF($J32="BR", 1, 0) -> 0 | BX32: =IF(SUM(BU32:BW32)=8, 1, 0) -> 0 | BY32: =IF($M32="None", 1, 0) -> 0 | BZ32: =COUNTIF($P32:$V32, "") -> 7 | CA32: =IF($W32="BR", 1, 0) -> 0 | CB32: =IF(SUM(BY32:CA32)=9, 1, 0) -> 0 | CD32: =IF($B32="None", 1, 0) -> 0 | CE32: =COUNTIF($D32:$I32, "") -> 6 | CF32: =IF($J32="EL", 1, 0) -> 0 | CG32: =IF(SUM(CD32:CF32)=8, 1, 0) -> 0 | CH32: =IF($M32="None", 1, 0) -> 0 | CI32: =COUNTIF($P32:$V32, "") -> 7 | CJ32: =IF($W32="EL", 1, 0) -> 0 | CK32: =IF(SUM(CH32:CJ32)=9, 1, 0) -> 0 | CM32: =IF($B32="None", 1, 0) -> 0 | CN32: =COUNTIF($D32:$I32, "") -> 6 | CO32: =IF($J32="D", 1, 0) -> 0 | CP32: =IF(SUM(CM32:CO32)=8, 1, 0) -> 0 | CQ32: =IF($M32="None", 1, 0) -> 0 | CR32: =COUNTIF($P32:$V32, "") -> 7 | CS32: =IF($W32="D", 1, 0) -> 0 | CT32: =IF(SUM(CQ32:CS32)=9, 1, 0) -> 0 | CV32: =IF($B32="None", 1, 0) -> 0 | CW32: =COUNTIF($D32:$I32, "") -> 6 | CX32: =IF($J32="M", 1, 0) -> 0 | CY32: =IF(SUM(CV32:CX32)=8, 1, 0) -> 0 | CZ32: =IF($M32="None", 1, 0) -> 0 | DA32: =COUNTIF($P32:$V32, "") -> 7 | DB32: =IF($W32="M", 1, 0) -> 0 | DC32: =IF(SUM(CZ32:DB32)=9, 1, 0) -> 0 | DE32: =IF($B32="None", 1, 0) -> 0 | DF32: =COUNTIF($D32:$I32, "") -> 6 | DG32: =IF($J32="LC", 1, 0) -> 0 | DH32: =IF(SUM(DE32:DG32)=8, 1, 0) -> 0 | DI32: =IF($M32="None", 1, 0) -> 0 | DJ32: =COUNTIF($P32:$V32, "") -> 7 | DK32: =IF($W32="LC", 1, 0) -> 0 | DL32: =IF(SUM(DI32:DK32)=9, 1, 0) -> 0 | DN32: =IF($B32="None", 1, 0) -> 0 | DO32: =IF($D32="L", 1, 0) -> 0 | DP32: =IF(SUM(DN32:DO32)=2, 1, 0) -> 0 | DQ32: =IF($M32="None", 1, 0) -> 0 | DR32: =IF($P32="L", 1, 0) -> 0 | DS32: =IF(SUM(DQ32:DR32)=2, 1, 0) -> 0 | DU32: =IF($B32="None", 1, 0) -> 0 | DV32: =IF($D32="WL", 1, 0) -> 0 | DW32: =IF(SUM(DU32:DV32)=2, 1, 0) -> 0 | DX32: =IF($M32="None", 1, 0) -> 0 | DY32: =IF($P32="WL", 1, 0) -> 0 | DZ32: =IF(SUM(DX32:DY32)=2, 1, 0) -> 0 | EB32: =IF($B32="None", 1, 0) -> 0 | EC32: =IF($D32="VL", 1, 0) -> 0 | ED32: =IF(SUM(EB32:EC32)=2, 1, 0) -> 0 | EE32: =IF($M32="None", 1, 0) -> 0 | EF32: =IF($P32="VL", 1, 0) -> 0 | EG32: =IF(SUM(EE32:EF32)=2, 1, 0) -> 0
A33: 27 | L33: 77 | AQ33: =IF(B33="None", 1, 0) -> 0 | AR33: =COUNTIF(D33:I33, "") -> 6 | AS33: =IF(J33="S", 1, 0) -> 0 | AT33: =IF(SUM(AQ33:AS33)=8, 1, 0) -> 0 | AU33: =IF(M33="None", 1, 0) -> 0 | AV33: =COUNTIF(P33:V33, "") -> 7 | AW33: =IF(W33="S", 1, 0) -> 0 | AX33: =IF(SUM(AU33:AW33)=9, 1, 0) -> 0 | AZ33: =IF(OR(B33="None", B33=""), 0, 1) -> 0 | BA33: =IF(OR(M33="None", M33=""), 0, 1) -> 0 | BC33: =IF($B33="None", 1, 0) -> 0 | BD33: =COUNTIF($D33:$I33, "") -> 6 | BE33: =IF($J33="G", 1, 0) -> 0 | BF33: =IF(SUM(BC33:BE33)=8, 1, 0) -> 0 | BG33: =IF($M33="None", 1, 0) -> 0 | BH33: =COUNTIF($P33:$V33, "") -> 7 | BI33: =IF($W33="G", 1, 0) -> 0 | BJ33: =IF(SUM(BG33:BI33)=9, 1, 0) -> 0 | BL33: =IF($B33="None", 1, 0) -> 0 | BM33: =COUNTIF($D33:$I33, "") -> 6 | BN33: =IF($J33="R", 1, 0) -> 0 | BO33: =IF(SUM(BL33:BN33)=8, 1, 0) -> 0 | BP33: =IF($M33="None", 1, 0) -> 0 | BQ33: =COUNTIF($P33:$V33, "") -> 7 | BR33: =IF($W33="R", 1, 0) -> 0 | BS33: =IF(SUM(BP33:BR33)=9, 1, 0) -> 0 | BU33: =IF($B33="None", 1, 0) -> 0 | BV33: =COUNTIF($D33:$I33, "") -> 6 | BW33: =IF($J33="BR", 1, 0) -> 0 | BX33: =IF(SUM(BU33:BW33)=8, 1, 0) -> 0 | BY33: =IF($M33="None", 1, 0) -> 0 | BZ33: =COUNTIF($P33:$V33, "") -> 7 | CA33: =IF($W33="BR", 1, 0) -> 0 | CB33: =IF(SUM(BY33:CA33)=9, 1, 0) -> 0 | CD33: =IF($B33="None", 1, 0) -> 0 | CE33: =COUNTIF($D33:$I33, "") -> 6 | CF33: =IF($J33="EL", 1, 0) -> 0 | CG33: =IF(SUM(CD33:CF33)=8, 1, 0) -> 0 | CH33: =IF($M33="None", 1, 0) -> 0 | CI33: =COUNTIF($P33:$V33, "") -> 7 | CJ33: =IF($W33="EL", 1, 0) -> 0 | CK33: =IF(SUM(CH33:CJ33)=9, 1, 0) -> 0 | CM33: =IF($B33="None", 1, 0) -> 0 | CN33: =COUNTIF($D33:$I33, "") -> 6 | CO33: =IF($J33="D", 1, 0) -> 0 | CP33: =IF(SUM(CM33:CO33)=8, 1, 0) -> 0 | CQ33: =IF($M33="None", 1, 0) -> 0 | CR33: =COUNTIF($P33:$V33, "") -> 7 | CS33: =IF($W33="D", 1, 0) -> 0 | CT33: =IF(SUM(CQ33:CS33)=9, 1, 0) -> 0 | CV33: =IF($B33="None", 1, 0) -> 0 | CW33: =COUNTIF($D33:$I33, "") -> 6 | CX33: =IF($J33="M", 1, 0) -> 0 | CY33: =IF(SUM(CV33:CX33)=8, 1, 0) -> 0 | CZ33: =IF($M33="None", 1, 0) -> 0 | DA33: =COUNTIF($P33:$V33, "") -> 7 | DB33: =IF($W33="M", 1, 0) -> 0 | DC33: =IF(SUM(CZ33:DB33)=9, 1, 0) -> 0 | DE33: =IF($B33="None", 1, 0) -> 0 | DF33: =COUNTIF($D33:$I33, "") -> 6 | DG33: =IF($J33="LC", 1, 0) -> 0 | DH33: =IF(SUM(DE33:DG33)=8, 1, 0) -> 0 | DI33: =IF($M33="None", 1, 0) -> 0 | DJ33: =COUNTIF($P33:$V33, "") -> 7 | DK33: =IF($W33="LC", 1, 0) -> 0 | DL33: =IF(SUM(DI33:DK33)=9, 1, 0) -> 0 | DN33: =IF($B33="None", 1, 0) -> 0 | DO33: =IF($D33="L", 1, 0) -> 0 | DP33: =IF(SUM(DN33:DO33)=2, 1, 0) -> 0 | DQ33: =IF($M33="None", 1, 0) -> 0 | DR33: =IF($P33="L", 1, 0) -> 0 | DS33: =IF(SUM(DQ33:DR33)=2, 1, 0) -> 0 | DU33: =IF($B33="None", 1, 0) -> 0 | DV33: =IF($D33="WL", 1, 0) -> 0 | DW33: =IF(SUM(DU33:DV33)=2, 1, 0) -> 0 | DX33: =IF($M33="None", 1, 0) -> 0 | DY33: =IF($P33="WL", 1, 0) -> 0 | DZ33: =IF(SUM(DX33:DY33)=2, 1, 0) -> 0 | EB33: =IF($B33="None", 1, 0) -> 0 | EC33: =IF($D33="VL", 1, 0) -> 0 | ED33: =IF(SUM(EB33:EC33)=2, 1, 0) -> 0 | EE33: =IF($M33="None", 1, 0) -> 0 | EF33: =IF($P33="VL", 1, 0) -> 0 | EG33: =IF(SUM(EE33:EF33)=2, 1, 0) -> 0
A34: 28 | L34: 78 | AQ34: =IF(B34="None", 1, 0) -> 0 | AR34: =COUNTIF(D34:I34, "") -> 6 | AS34: =IF(J34="S", 1, 0) -> 0 | AT34: =IF(SUM(AQ34:AS34)=8, 1, 0) -> 0 | AU34: =IF(M34="None", 1, 0) -> 0 | AV34: =COUNTIF(P34:V34, "") -> 7 | AW34: =IF(W34="S", 1, 0) -> 0 | AX34: =IF(SUM(AU34:AW34)=9, 1, 0) -> 0 | AZ34: =IF(OR(B34="None", B34=""), 0, 1) -> 0 | BA34: =IF(OR(M34="None", M34=""), 0, 1) -> 0 | BC34: =IF($B34="None", 1, 0) -> 0 | BD34: =COUNTIF($D34:$I34, "") -> 6 | BE34: =IF($J34="G", 1, 0) -> 0 | BF34: =IF(SUM(BC34:BE34)=8, 1, 0) -> 0 | BG34: =IF($M34="None", 1, 0) -> 0 | BH34: =COUNTIF($P34:$V34, "") -> 7 | BI34: =IF($W34="G", 1, 0) -> 0 | BJ34: =IF(SUM(BG34:BI34)=9, 1, 0) -> 0 | BL34: =IF($B34="None", 1, 0) -> 0 | BM34: =COUNTIF($D34:$I34, "") -> 6 | BN34: =IF($J34="R", 1, 0) -> 0 | BO34: =IF(SUM(BL34:BN34)=8, 1, 0) -> 0 | BP34: =IF($M34="None", 1, 0) -> 0 | BQ34: =COUNTIF($P34:$V34, "") -> 7 | BR34: =IF($W34="R", 1, 0) -> 0 | BS34: =IF(SUM(BP34:BR34)=9, 1, 0) -> 0 | BU34: =IF($B34="None", 1, 0) -> 0 | BV34: =COUNTIF($D34:$I34, "") -> 6 | BW34: =IF($J34="BR", 1, 0) -> 0 | BX34: =IF(SUM(BU34:BW34)=8, 1, 0) -> 0 | BY34: =IF($M34="None", 1, 0) -> 0 | BZ34: =COUNTIF($P34:$V34, "") -> 7 | CA34: =IF($W34="BR", 1, 0) -> 0 | CB34: =IF(SUM(BY34:CA34)=9, 1, 0) -> 0 | CD34: =IF($B34="None", 1, 0) -> 0 | CE34: =COUNTIF($D34:$I34, "") -> 6 | CF34: =IF($J34="EL", 1, 0) -> 0 | CG34: =IF(SUM(CD34:CF34)=8, 1, 0) -> 0 | CH34: =IF($M34="None", 1, 0) -> 0 | CI34: =COUNTIF($P34:$V34, "") -> 7 | CJ34: =IF($W34="EL", 1, 0) -> 0 | CK34: =IF(SUM(CH34:CJ34)=9, 1, 0) -> 0 | CM34: =IF($B34="None", 1, 0) -> 0 | CN34: =COUNTIF($D34:$I34, "") -> 6 | CO34: =IF($J34="D", 1, 0) -> 0 | CP34: =IF(SUM(CM34:CO34)=8, 1, 0) -> 0 | CQ34: =IF($M34="None", 1, 0) -> 0 | CR34: =COUNTIF($P34:$V34, "") -> 7 | CS34: =IF($W34="D", 1, 0) -> 0 | CT34: =IF(SUM(CQ34:CS34)=9, 1, 0) -> 0 | CV34: =IF($B34="None", 1, 0) -> 0 | CW34: =COUNTIF($D34:$I34, "") -> 6 | CX34: =IF($J34="M", 1, 0) -> 0 | CY34: =IF(SUM(CV34:CX34)=8, 1, 0) -> 0 | CZ34: =IF($M34="None", 1, 0) -> 0 | DA34: =COUNTIF($P34:$V34, "") -> 7 | DB34: =IF($W34="M", 1, 0) -> 0 | DC34: =IF(SUM(CZ34:DB34)=9, 1, 0) -> 0 | DE34: =IF($B34="None", 1, 0) -> 0 | DF34: =COUNTIF($D34:$I34, "") -> 6 | DG34: =IF($J34="LC", 1, 0) -> 0 | DH34: =IF(SUM(DE34:DG34)=8, 1, 0) -> 0 | DI34: =IF($M34="None", 1, 0) -> 0 | DJ34: =COUNTIF($P34:$V34, "") -> 7 | DK34: =IF($W34="LC", 1, 0) -> 0 | DL34: =IF(SUM(DI34:DK34)=9, 1, 0) -> 0 | DN34: =IF($B34="None", 1, 0) -> 0 | DO34: =IF($D34="L", 1, 0) -> 0 | DP34: =IF(SUM(DN34:DO34)=2, 1, 0) -> 0 | DQ34: =IF($M34="None", 1, 0) -> 0 | DR34: =IF($P34="L", 1, 0) -> 0 | DS34: =IF(SUM(DQ34:DR34)=2, 1, 0) -> 0 | DU34: =IF($B34="None", 1, 0) -> 0 | DV34: =IF($D34="WL", 1, 0) -> 0 | DW34: =IF(SUM(DU34:DV34)=2, 1, 0) -> 0 | DX34: =IF($M34="None", 1, 0) -> 0 | DY34: =IF($P34="WL", 1, 0) -> 0 | DZ34: =IF(SUM(DX34:DY34)=2, 1, 0) -> 0 | EB34: =IF($B34="None", 1, 0) -> 0 | EC34: =IF($D34="VL", 1, 0) -> 0 | ED34: =IF(SUM(EB34:EC34)=2, 1, 0) -> 0 | EE34: =IF($M34="None", 1, 0) -> 0 | EF34: =IF($P34="VL", 1, 0) -> 0 | EG34: =IF(SUM(EE34:EF34)=2, 1, 0) -> 0
A35: 29 | L35: 79 | AB35: % foliar cover = | AE35: =AZ57+BA57 -> 0 | AF35: top layer pts (1st col) x 2 = | AJ35: =AE35/X2 -> #DIV/0! | AQ35: =IF(B35="None", 1, 0) -> 0 | AR35: =COUNTIF(D35:I35, "") -> 6 | AS35: =IF(J35="S", 1, 0) -> 0 | AT35: =IF(SUM(AQ35:AS35)=8, 1, 0) -> 0 | AU35: =IF(M35="None", 1, 0) -> 0 | AV35: =COUNTIF(P35:V35, "") -> 7 | AW35: =IF(W35="S", 1, 0) -> 0 | AX35: =IF(SUM(AU35:AW35)=9, 1, 0) -> 0 | AZ35: =IF(OR(B35="None", B35=""), 0, 1) -> 0 | BA35: =IF(OR(M35="None", M35=""), 0, 1) -> 0 | BC35: =IF($B35="None", 1, 0) -> 0 | BD35: =COUNTIF($D35:$I35, "") -> 6 | BE35: =IF($J35="G", 1, 0) -> 0 | BF35: =IF(SUM(BC35:BE35)=8, 1, 0) -> 0 | BG35: =IF($M35="None", 1, 0) -> 0 | BH35: =COUNTIF($P35:$V35, "") -> 7 | BI35: =IF($W35="G", 1, 0) -> 0 | BJ35: =IF(SUM(BG35:BI35)=9, 1, 0) -> 0 | BL35: =IF($B35="None", 1, 0) -> 0 | BM35: =COUNTIF($D35:$I35, "") -> 6 | BN35: =IF($J35="R", 1, 0) -> 0 | BO35: =IF(SUM(BL35:BN35)=8, 1, 0) -> 0 | BP35: =IF($M35="None", 1, 0) -> 0 | BQ35: =COUNTIF($P35:$V35, "") -> 7 | BR35: =IF($W35="R", 1, 0) -> 0 | BS35: =IF(SUM(BP35:BR35)=9, 1, 0) -> 0 | BU35: =IF($B35="None", 1, 0) -> 0 | BV35: =COUNTIF($D35:$I35, "") -> 6 | BW35: =IF($J35="BR", 1, 0) -> 0 | BX35: =IF(SUM(BU35:BW35)=8, 1, 0) -> 0 | BY35: =IF($M35="None", 1, 0) -> 0 | BZ35: =COUNTIF($P35:$V35, "") -> 7 | CA35: =IF($W35="BR", 1, 0) -> 0 | CB35: =IF(SUM(BY35:CA35)=9, 1, 0) -> 0 | CD35: =IF($B35="None", 1, 0) -> 0 | CE35: =COUNTIF($D35:$I35, "") -> 6 | CF35: =IF($J35="EL", 1, 0) -> 0 | CG35: =IF(SUM(CD35:CF35)=8, 1, 0) -> 0 | CH35: =IF($M35="None", 1, 0) -> 0 | CI35: =COUNTIF($P35:$V35, "") -> 7 | CJ35: =IF($W35="EL", 1, 0) -> 0 | CK35: =IF(SUM(CH35:CJ35)=9, 1, 0) -> 0 | CM35: =IF($B35="None", 1, 0) -> 0 | CN35: =COUNTIF($D35:$I35, "") -> 6 | CO35: =IF($J35="D", 1, 0) -> 0 | CP35: =IF(SUM(CM35:CO35)=8, 1, 0) -> 0 | CQ35: =IF($M35="None", 1, 0) -> 0 | CR35: =COUNTIF($P35:$V35, "") -> 7 | CS35: =IF($W35="D", 1, 0) -> 0 | CT35: =IF(SUM(CQ35:CS35)=9, 1, 0) -> 0 | CV35: =IF($B35="None", 1, 0) -> 0 | CW35: =COUNTIF($D35:$I35, "") -> 6 | CX35: =IF($J35="M", 1, 0) -> 0 | CY35: =IF(SUM(CV35:CX35)=8, 1, 0) -> 0 | CZ35: =IF($M35="None", 1, 0) -> 0 | DA35: =COUNTIF($P35:$V35, "") -> 7 | DB35: =IF($W35="M", 1, 0) -> 0 | DC35: =IF(SUM(CZ35:DB35)=9, 1, 0) -> 0 | DE35: =IF($B35="None", 1, 0) -> 0 | DF35: =COUNTIF($D35:$I35, "") -> 6 | DG35: =IF($J35="LC", 1, 0) -> 0 | DH35: =IF(SUM(DE35:DG35)=8, 1, 0) -> 0 | DI35: =IF($M35="None", 1, 0) -> 0 | DJ35: =COUNTIF($P35:$V35, "") -> 7 | DK35: =IF($W35="LC", 1, 0) -> 0 | DL35: =IF(SUM(DI35:DK35)=9, 1, 0) -> 0 | DN35: =IF($B35="None", 1, 0) -> 0 | DO35: =IF($D35="L", 1, 0) -> 0 | DP35: =IF(SUM(DN35:DO35)=2, 1, 0) -> 0 | DQ35: =IF($M35="None", 1, 0) -> 0 | DR35: =IF($P35="L", 1, 0) -> 0 | DS35: =IF(SUM(DQ35:DR35)=2, 1, 0) -> 0 | DU35: =IF($B35="None", 1, 0) -> 0 | DV35: =IF($D35="WL", 1, 0) -> 0 | DW35: =IF(SUM(DU35:DV35)=2, 1, 0) -> 0 | DX35: =IF($M35="None", 1, 0) -> 0 | DY35: =IF($P35="WL", 1, 0) -> 0 | DZ35: =IF(SUM(DX35:DY35)=2, 1, 0) -> 0 | EB35: =IF($B35="None", 1, 0) -> 0 | EC35: =IF($D35="VL", 1, 0) -> 0 | ED35: =IF(SUM(EB35:EC35)=2, 1, 0) -> 0 | EE35: =IF($M35="None", 1, 0) -> 0 | EF35: =IF($P35="VL", 1, 0) -> 0 | EG35: =IF(SUM(EE35:EF35)=2, 1, 0) -> 0
A36: 30 | L36: 80 | AQ36: =IF(B36="None", 1, 0) -> 0 | AR36: =COUNTIF(D36:I36, "") -> 6 | AS36: =IF(J36="S", 1, 0) -> 0 | AT36: =IF(SUM(AQ36:AS36)=8, 1, 0) -> 0 | AU36: =IF(M36="None", 1, 0) -> 0 | AV36: =COUNTIF(P36:V36, "") -> 7 | AW36: =IF(W36="S", 1, 0) -> 0 | AX36: =IF(SUM(AU36:AW36)=9, 1, 0) -> 0 | AZ36: =IF(OR(B36="None", B36=""), 0, 1) -> 0 | BA36: =IF(OR(M36="None", M36=""), 0, 1) -> 0 | BC36: =IF($B36="None", 1, 0) -> 0 | BD36: =COUNTIF($D36:$I36, "") -> 6 | BE36: =IF($J36="G", 1, 0) -> 0 | BF36: =IF(SUM(BC36:BE36)=8, 1, 0) -> 0 | BG36: =IF($M36="None", 1, 0) -> 0 | BH36: =COUNTIF($P36:$V36, "") -> 7 | BI36: =IF($W36="G", 1, 0) -> 0 | BJ36: =IF(SUM(BG36:BI36)=9, 1, 0) -> 0 | BL36: =IF($B36="None", 1, 0) -> 0 | BM36: =COUNTIF($D36:$I36, "") -> 6 | BN36: =IF($J36="R", 1, 0) -> 0 | BO36: =IF(SUM(BL36:BN36)=8, 1, 0) -> 0 | BP36: =IF($M36="None", 1, 0) -> 0 | BQ36: =COUNTIF($P36:$V36, "") -> 7 | BR36: =IF($W36="R", 1, 0) -> 0 | BS36: =IF(SUM(BP36:BR36)=9, 1, 0) -> 0 | BU36: =IF($B36="None", 1, 0) -> 0 | BV36: =COUNTIF($D36:$I36, "") -> 6 | BW36: =IF($J36="BR", 1, 0) -> 0 | BX36: =IF(SUM(BU36:BW36)=8, 1, 0) -> 0 | BY36: =IF($M36="None", 1, 0) -> 0 | BZ36: =COUNTIF($P36:$V36, "") -> 7 | CA36: =IF($W36="BR", 1, 0) -> 0 | CB36: =IF(SUM(BY36:CA36)=9, 1, 0) -> 0 | CD36: =IF($B36="None", 1, 0) -> 0 | CE36: =COUNTIF($D36:$I36, "") -> 6 | CF36: =IF($J36="EL", 1, 0) -> 0 | CG36: =IF(SUM(CD36:CF36)=8, 1, 0) -> 0 | CH36: =IF($M36="None", 1, 0) -> 0 | CI36: =COUNTIF($P36:$V36, "") -> 7 | CJ36: =IF($W36="EL", 1, 0) -> 0 | CK36: =IF(SUM(CH36:CJ36)=9, 1, 0) -> 0 | CM36: =IF($B36="None", 1, 0) -> 0 | CN36: =COUNTIF($D36:$I36, "") -> 6 | CO36: =IF($J36="D", 1, 0) -> 0 | CP36: =IF(SUM(CM36:CO36)=8, 1, 0) -> 0 | CQ36: =IF($M36="None", 1, 0) -> 0 | CR36: =COUNTIF($P36:$V36, "") -> 7 | CS36: =IF($W36="D", 1, 0) -> 0 | CT36: =IF(SUM(CQ36:CS36)=9, 1, 0) -> 0 | CV36: =IF($B36="None", 1, 0) -> 0 | CW36: =COUNTIF($D36:$I36, "") -> 6 | CX36: =IF($J36="M", 1, 0) -> 0 | CY36: =IF(SUM(CV36:CX36)=8, 1, 0) -> 0 | CZ36: =IF($M36="None", 1, 0) -> 0 | DA36: =COUNTIF($P36:$V36, "") -> 7 | DB36: =IF($W36="M", 1, 0) -> 0 | DC36: =IF(SUM(CZ36:DB36)=9, 1, 0) -> 0 | DE36: =IF($B36="None", 1, 0) -> 0 | DF36: =COUNTIF($D36:$I36, "") -> 6 | DG36: =IF($J36="LC", 1, 0) -> 0 | DH36: =IF(SUM(DE36:DG36)=8, 1, 0) -> 0 | DI36: =IF($M36="None", 1, 0) -> 0 | DJ36: =COUNTIF($P36:$V36, "") -> 7 | DK36: =IF($W36="LC", 1, 0) -> 0 | DL36: =IF(SUM(DI36:DK36)=9, 1, 0) -> 0 | DN36: =IF($B36="None", 1, 0) -> 0 | DO36: =IF($D36="L", 1, 0) -> 0 | DP36: =IF(SUM(DN36:DO36)=2, 1, 0) -> 0 | DQ36: =IF($M36="None", 1, 0) -> 0 | DR36: =IF($P36="L", 1, 0) -> 0 | DS36: =IF(SUM(DQ36:DR36)=2, 1, 0) -> 0 | DU36: =IF($B36="None", 1, 0) -> 0 | DV36: =IF($D36="WL", 1, 0) -> 0 | DW36: =IF(SUM(DU36:DV36)=2, 1, 0) -> 0 | DX36: =IF($M36="None", 1, 0) -> 0 | DY36: =IF($P36="WL", 1, 0) -> 0 | DZ36: =IF(SUM(DX36:DY36)=2, 1, 0) -> 0 | EB36: =IF($B36="None", 1, 0) -> 0 | EC36: =IF($D36="VL", 1, 0) -> 0 | ED36: =IF(SUM(EB36:EC36)=2, 1, 0) -> 0 | EE36: =IF($M36="None", 1, 0) -> 0 | EF36: =IF($P36="VL", 1, 0) -> 0 | EG36: =IF(SUM(EE36:EF36)=2, 1, 0) -> 0
A37: 31 | L37: 81 | AB37: % bare ground = | AE37: =AT57+AX57 -> 0 | AF37: pts (w/ NONE over S) x 2 = | AJ37: =AE37/X2 -> #DIV/0! | AQ37: =IF(B37="None", 1, 0) -> 0 | AR37: =COUNTIF(D37:I37, "") -> 6 | AS37: =IF(J37="S", 1, 0) -> 0 | AT37: =IF(SUM(AQ37:AS37)=8, 1, 0) -> 0 | AU37: =IF(M37="None", 1, 0) -> 0 | AV37: =COUNTIF(P37:V37, "") -> 7 | AW37: =IF(W37="S", 1, 0) -> 0 | AX37: =IF(SUM(AU37:AW37)=9, 1, 0) -> 0 | AZ37: =IF(OR(B37="None", B37=""), 0, 1) -> 0 | BA37: =IF(OR(M37="None", M37=""), 0, 1) -> 0 | BC37: =IF($B37="None", 1, 0) -> 0 | BD37: =COUNTIF($D37:$I37, "") -> 6 | BE37: =IF($J37="G", 1, 0) -> 0 | BF37: =IF(SUM(BC37:BE37)=8, 1, 0) -> 0 | BG37: =IF($M37="None", 1, 0) -> 0 | BH37: =COUNTIF($P37:$V37, "") -> 7 | BI37: =IF($W37="G", 1, 0) -> 0 | BJ37: =IF(SUM(BG37:BI37)=9, 1, 0) -> 0 | BL37: =IF($B37="None", 1, 0) -> 0 | BM37: =COUNTIF($D37:$I37, "") -> 6 | BN37: =IF($J37="R", 1, 0) -> 0 | BO37: =IF(SUM(BL37:BN37)=8, 1, 0) -> 0 | BP37: =IF($M37="None", 1, 0) -> 0 | BQ37: =COUNTIF($P37:$V37, "") -> 7 | BR37: =IF($W37="R", 1, 0) -> 0 | BS37: =IF(SUM(BP37:BR37)=9, 1, 0) -> 0 | BU37: =IF($B37="None", 1, 0) -> 0 | BV37: =COUNTIF($D37:$I37, "") -> 6 | BW37: =IF($J37="BR", 1, 0) -> 0 | BX37: =IF(SUM(BU37:BW37)=8, 1, 0) -> 0 | BY37: =IF($M37="None", 1, 0) -> 0 | BZ37: =COUNTIF($P37:$V37, "") -> 7 | CA37: =IF($W37="BR", 1, 0) -> 0 | CB37: =IF(SUM(BY37:CA37)=9, 1, 0) -> 0 | CD37: =IF($B37="None", 1, 0) -> 0 | CE37: =COUNTIF($D37:$I37, "") -> 6 | CF37: =IF($J37="EL", 1, 0) -> 0 | CG37: =IF(SUM(CD37:CF37)=8, 1, 0) -> 0 | CH37: =IF($M37="None", 1, 0) -> 0 | CI37: =COUNTIF($P37:$V37, "") -> 7 | CJ37: =IF($W37="EL", 1, 0) -> 0 | CK37: =IF(SUM(CH37:CJ37)=9, 1, 0) -> 0 | CM37: =IF($B37="None", 1, 0) -> 0 | CN37: =COUNTIF($D37:$I37, "") -> 6 | CO37: =IF($J37="D", 1, 0) -> 0 | CP37: =IF(SUM(CM37:CO37)=8, 1, 0) -> 0 | CQ37: =IF($M37="None", 1, 0) -> 0 | CR37: =COUNTIF($P37:$V37, "") -> 7 | CS37: =IF($W37="D", 1, 0) -> 0 | CT37: =IF(SUM(CQ37:CS37)=9, 1, 0) -> 0 | CV37: =IF($B37="None", 1, 0) -> 0 | CW37: =COUNTIF($D37:$I37, "") -> 6 | CX37: =IF($J37="M", 1, 0) -> 0 | CY37: =IF(SUM(CV37:CX37)=8, 1, 0) -> 0 | CZ37: =IF($M37="None", 1, 0) -> 0 | DA37: =COUNTIF($P37:$V37, "") -> 7 | DB37: =IF($W37="M", 1, 0) -> 0 | DC37: =IF(SUM(CZ37:DB37)=9, 1, 0) -> 0 | DE37: =IF($B37="None", 1, 0) -> 0 | DF37: =COUNTIF($D37:$I37, "") -> 6 | DG37: =IF($J37="LC", 1, 0) -> 0 | DH37: =IF(SUM(DE37:DG37)=8, 1, 0) -> 0 | DI37: =IF($M37="None", 1, 0) -> 0 | DJ37: =COUNTIF($P37:$V37, "") -> 7 | DK37: =IF($W37="LC", 1, 0) -> 0 | DL37: =IF(SUM(DI37:DK37)=9, 1, 0) -> 0 | DN37: =IF($B37="None", 1, 0) -> 0 | DO37: =IF($D37="L", 1, 0) -> 0 | DP37: =IF(SUM(DN37:DO37)=2, 1, 0) -> 0 | DQ37: =IF($M37="None", 1, 0) -> 0 | DR37: =IF($P37="L", 1, 0) -> 0 | DS37: =IF(SUM(DQ37:DR37)=2, 1, 0) -> 0 | DU37: =IF($B37="None", 1, 0) -> 0 | DV37: =IF($D37="WL", 1, 0) -> 0 | DW37: =IF(SUM(DU37:DV37)=2, 1, 0) -> 0 | DX37: =IF($M37="None", 1, 0) -> 0 | DY37: =IF($P37="WL", 1, 0) -> 0 | DZ37: =IF(SUM(DX37:DY37)=2, 1, 0) -> 0 | EB37: =IF($B37="None", 1, 0) -> 0 | EC37: =IF($D37="VL", 1, 0) -> 0 | ED37: =IF(SUM(EB37:EC37)=2, 1, 0) -> 0 | EE37: =IF($M37="None", 1, 0) -> 0 | EF37: =IF($P37="VL", 1, 0) -> 0 | EG37: =IF(SUM(EE37:EF37)=2, 1, 0) -> 0
A38: 32 | L38: 82 | AQ38: =IF(B38="None", 1, 0) -> 0 | AR38: =COUNTIF(D38:I38, "") -> 6 | AS38: =IF(J38="S", 1, 0) -> 0 | AT38: =IF(SUM(AQ38:AS38)=8, 1, 0) -> 0 | AU38: =IF(M38="None", 1, 0) -> 0 | AV38: =COUNTIF(P38:V38, "") -> 7 | AW38: =IF(W38="S", 1, 0) -> 0 | AX38: =IF(SUM(AU38:AW38)=9, 1, 0) -> 0 | AZ38: =IF(OR(B38="None", B38=""), 0, 1) -> 0 | BA38: =IF(OR(M38="None", M38=""), 0, 1) -> 0 | BC38: =IF($B38="None", 1, 0) -> 0 | BD38: =COUNTIF($D38:$I38, "") -> 6 | BE38: =IF($J38="G", 1, 0) -> 0 | BF38: =IF(SUM(BC38:BE38)=8, 1, 0) -> 0 | BG38: =IF($M38="None", 1, 0) -> 0 | BH38: =COUNTIF($P38:$V38, "") -> 7 | BI38: =IF($W38="G", 1, 0) -> 0 | BJ38: =IF(SUM(BG38:BI38)=9, 1, 0) -> 0 | BL38: =IF($B38="None", 1, 0) -> 0 | BM38: =COUNTIF($D38:$I38, "") -> 6 | BN38: =IF($J38="R", 1, 0) -> 0 | BO38: =IF(SUM(BL38:BN38)=8, 1, 0) -> 0 | BP38: =IF($M38="None", 1, 0) -> 0 | BQ38: =COUNTIF($P38:$V38, "") -> 7 | BR38: =IF($W38="R", 1, 0) -> 0 | BS38: =IF(SUM(BP38:BR38)=9, 1, 0) -> 0 | BU38: =IF($B38="None", 1, 0) -> 0 | BV38: =COUNTIF($D38:$I38, "") -> 6 | BW38: =IF($J38="BR", 1, 0) -> 0 | BX38: =IF(SUM(BU38:BW38)=8, 1, 0) -> 0 | BY38: =IF($M38="None", 1, 0) -> 0 | BZ38: =COUNTIF($P38:$V38, "") -> 7 | CA38: =IF($W38="BR", 1, 0) -> 0 | CB38: =IF(SUM(BY38:CA38)=9, 1, 0) -> 0 | CD38: =IF($B38="None", 1, 0) -> 0 | CE38: =COUNTIF($D38:$I38, "") -> 6 | CF38: =IF($J38="EL", 1, 0) -> 0 | CG38: =IF(SUM(CD38:CF38)=8, 1, 0) -> 0 | CH38: =IF($M38="None", 1, 0) -> 0 | CI38: =COUNTIF($P38:$V38, "") -> 7 | CJ38: =IF($W38="EL", 1, 0) -> 0 | CK38: =IF(SUM(CH38:CJ38)=9, 1, 0) -> 0 | CM38: =IF($B38="None", 1, 0) -> 0 | CN38: =COUNTIF($D38:$I38, "") -> 6 | CO38: =IF($J38="D", 1, 0) -> 0 | CP38: =IF(SUM(CM38:CO38)=8, 1, 0) -> 0 | CQ38: =IF($M38="None", 1, 0) -> 0 | CR38: =COUNTIF($P38:$V38, "") -> 7 | CS38: =IF($W38="D", 1, 0) -> 0 | CT38: =IF(SUM(CQ38:CS38)=9, 1, 0) -> 0 | CV38: =IF($B38="None", 1, 0) -> 0 | CW38: =COUNTIF($D38:$I38, "") -> 6 | CX38: =IF($J38="M", 1, 0) -> 0 | CY38: =IF(SUM(CV38:CX38)=8, 1, 0) -> 0 | CZ38: =IF($M38="None", 1, 0) -> 0 | DA38: =COUNTIF($P38:$V38, "") -> 7 | DB38: =IF($W38="M", 1, 0) -> 0 | DC38: =IF(SUM(CZ38:DB38)=9, 1, 0) -> 0 | DE38: =IF($B38="None", 1, 0) -> 0 | DF38: =COUNTIF($D38:$I38, "") -> 6 | DG38: =IF($J38="LC", 1, 0) -> 0 | DH38: =IF(SUM(DE38:DG38)=8, 1, 0) -> 0 | DI38: =IF($M38="None", 1, 0) -> 0 | DJ38: =COUNTIF($P38:$V38, "") -> 7 | DK38: =IF($W38="LC", 1, 0) -> 0 | DL38: =IF(SUM(DI38:DK38)=9, 1, 0) -> 0 | DN38: =IF($B38="None", 1, 0) -> 0 | DO38: =IF($D38="L", 1, 0) -> 0 | DP38: =IF(SUM(DN38:DO38)=2, 1, 0) -> 0 | DQ38: =IF($M38="None", 1, 0) -> 0 | DR38: =IF($P38="L", 1, 0) -> 0 | DS38: =IF(SUM(DQ38:DR38)=2, 1, 0) -> 0 | DU38: =IF($B38="None", 1, 0) -> 0 | DV38: =IF($D38="WL", 1, 0) -> 0 | DW38: =IF(SUM(DU38:DV38)=2, 1, 0) -> 0 | DX38: =IF($M38="None", 1, 0) -> 0 | DY38: =IF($P38="WL", 1, 0) -> 0 | DZ38: =IF(SUM(DX38:DY38)=2, 1, 0) -> 0 | EB38: =IF($B38="None", 1, 0) -> 0 | EC38: =IF($D38="VL", 1, 0) -> 0 | ED38: =IF(SUM(EB38:EC38)=2, 1, 0) -> 0 | EE38: =IF($M38="None", 1, 0) -> 0 | EF38: =IF($P38="VL", 1, 0) -> 0 | EG38: =IF(SUM(EE38:EF38)=2, 1, 0) -> 0
A39: 33 | L39: 83 | AQ39: =IF(B39="None", 1, 0) -> 0 | AR39: =COUNTIF(D39:I39, "") -> 6 | AS39: =IF(J39="S", 1, 0) -> 0 | AT39: =IF(SUM(AQ39:AS39)=8, 1, 0) -> 0 | AU39: =IF(M39="None", 1, 0) -> 0 | AV39: =COUNTIF(P39:V39, "") -> 7 | AW39: =IF(W39="S", 1, 0) -> 0 | AX39: =IF(SUM(AU39:AW39)=9, 1, 0) -> 0 | AZ39: =IF(OR(B39="None", B39=""), 0, 1) -> 0 | BA39: =IF(OR(M39="None", M39=""), 0, 1) -> 0 | BC39: =IF($B39="None", 1, 0) -> 0 | BD39: =COUNTIF($D39:$I39, "") -> 6 | BE39: =IF($J39="G", 1, 0) -> 0 | BF39: =IF(SUM(BC39:BE39)=8, 1, 0) -> 0 | BG39: =IF($M39="None", 1, 0) -> 0 | BH39: =COUNTIF($P39:$V39, "") -> 7 | BI39: =IF($W39="G", 1, 0) -> 0 | BJ39: =IF(SUM(BG39:BI39)=9, 1, 0) -> 0 | BL39: =IF($B39="None", 1, 0) -> 0 | BM39: =COUNTIF($D39:$I39, "") -> 6 | BN39: =IF($J39="R", 1, 0) -> 0 | BO39: =IF(SUM(BL39:BN39)=8, 1, 0) -> 0 | BP39: =IF($M39="None", 1, 0) -> 0 | BQ39: =COUNTIF($P39:$V39, "") -> 7 | BR39: =IF($W39="R", 1, 0) -> 0 | BS39: =IF(SUM(BP39:BR39)=9, 1, 0) -> 0 | BU39: =IF($B39="None", 1, 0) -> 0 | BV39: =COUNTIF($D39:$I39, "") -> 6 | BW39: =IF($J39="BR", 1, 0) -> 0 | BX39: =IF(SUM(BU39:BW39)=8, 1, 0) -> 0 | BY39: =IF($M39="None", 1, 0) -> 0 | BZ39: =COUNTIF($P39:$V39, "") -> 7 | CA39: =IF($W39="BR", 1, 0) -> 0 | CB39: =IF(SUM(BY39:CA39)=9, 1, 0) -> 0 | CD39: =IF($B39="None", 1, 0) -> 0 | CE39: =COUNTIF($D39:$I39, "") -> 6 | CF39: =IF($J39="EL", 1, 0) -> 0 | CG39: =IF(SUM(CD39:CF39)=8, 1, 0) -> 0 | CH39: =IF($M39="None", 1, 0) -> 0 | CI39: =COUNTIF($P39:$V39, "") -> 7 | CJ39: =IF($W39="EL", 1, 0) -> 0 | CK39: =IF(SUM(CH39:CJ39)=9, 1, 0) -> 0 | CM39: =IF($B39="None", 1, 0) -> 0 | CN39: =COUNTIF($D39:$I39, "") -> 6 | CO39: =IF($J39="D", 1, 0) -> 0 | CP39: =IF(SUM(CM39:CO39)=8, 1, 0) -> 0 | CQ39: =IF($M39="None", 1, 0) -> 0 | CR39: =COUNTIF($P39:$V39, "") -> 7 | CS39: =IF($W39="D", 1, 0) -> 0 | CT39: =IF(SUM(CQ39:CS39)=9, 1, 0) -> 0 | CV39: =IF($B39="None", 1, 0) -> 0 | CW39: =COUNTIF($D39:$I39, "") -> 6 | CX39: =IF($J39="M", 1, 0) -> 0 | CY39: =IF(SUM(CV39:CX39)=8, 1, 0) -> 0 | CZ39: =IF($M39="None", 1, 0) -> 0 | DA39: =COUNTIF($P39:$V39, "") -> 7 | DB39: =IF($W39="M", 1, 0) -> 0 | DC39: =IF(SUM(CZ39:DB39)=9, 1, 0) -> 0 | DE39: =IF($B39="None", 1, 0) -> 0 | DF39: =COUNTIF($D39:$I39, "") -> 6 | DG39: =IF($J39="LC", 1, 0) -> 0 | DH39: =IF(SUM(DE39:DG39)=8, 1, 0) -> 0 | DI39: =IF($M39="None", 1, 0) -> 0 | DJ39: =COUNTIF($P39:$V39, "") -> 7 | DK39: =IF($W39="LC", 1, 0) -> 0 | DL39: =IF(SUM(DI39:DK39)=9, 1, 0) -> 0 | DN39: =IF($B39="None", 1, 0) -> 0 | DO39: =IF($D39="L", 1, 0) -> 0 | DP39: =IF(SUM(DN39:DO39)=2, 1, 0) -> 0 | DQ39: =IF($M39="None", 1, 0) -> 0 | DR39: =IF($P39="L", 1, 0) -> 0 | DS39: =IF(SUM(DQ39:DR39)=2, 1, 0) -> 0 | DU39: =IF($B39="None", 1, 0) -> 0 | DV39: =IF($D39="WL", 1, 0) -> 0 | DW39: =IF(SUM(DU39:DV39)=2, 1, 0) -> 0 | DX39: =IF($M39="None", 1, 0) -> 0 | DY39: =IF($P39="WL", 1, 0) -> 0 | DZ39: =IF(SUM(DX39:DY39)=2, 1, 0) -> 0 | EB39: =IF($B39="None", 1, 0) -> 0 | EC39: =IF($D39="VL", 1, 0) -> 0 | ED39: =IF(SUM(EB39:EC39)=2, 1, 0) -> 0 | EE39: =IF($M39="None", 1, 0) -> 0 | EF39: =IF($P39="VL", 1, 0) -> 0 | EG39: =IF(SUM(EE39:EF39)=2, 1, 0) -> 0
A40: 34 | L40: 84 | AQ40: =IF(B40="None", 1, 0) -> 0 | AR40: =COUNTIF(D40:I40, "") -> 6 | AS40: =IF(J40="S", 1, 0) -> 0 | AT40: =IF(SUM(AQ40:AS40)=8, 1, 0) -> 0 | AU40: =IF(M40="None", 1, 0) -> 0 | AV40: =COUNTIF(P40:V40, "") -> 7 | AW40: =IF(W40="S", 1, 0) -> 0 | AX40: =IF(SUM(AU40:AW40)=9, 1, 0) -> 0 | AZ40: =IF(OR(B40="None", B40=""), 0, 1) -> 0 | BA40: =IF(OR(M40="None", M40=""), 0, 1) -> 0 | BC40: =IF($B40="None", 1, 0) -> 0 | BD40: =COUNTIF($D40:$I40, "") -> 6 | BE40: =IF($J40="G", 1, 0) -> 0 | BF40: =IF(SUM(BC40:BE40)=8, 1, 0) -> 0 | BG40: =IF($M40="None", 1, 0) -> 0 | BH40: =COUNTIF($P40:$V40, "") -> 7 | BI40: =IF($W40="G", 1, 0) -> 0 | BJ40: =IF(SUM(BG40:BI40)=9, 1, 0) -> 0 | BL40: =IF($B40="None", 1, 0) -> 0 | BM40: =COUNTIF($D40:$I40, "") -> 6 | BN40: =IF($J40="R", 1, 0) -> 0 | BO40: =IF(SUM(BL40:BN40)=8, 1, 0) -> 0 | BP40: =IF($M40="None", 1, 0) -> 0 | BQ40: =COUNTIF($P40:$V40, "") -> 7 | BR40: =IF($W40="R", 1, 0) -> 0 | BS40: =IF(SUM(BP40:BR40)=9, 1, 0) -> 0 | BU40: =IF($B40="None", 1, 0) -> 0 | BV40: =COUNTIF($D40:$I40, "") -> 6 | BW40: =IF($J40="BR", 1, 0) -> 0 | BX40: =IF(SUM(BU40:BW40)=8, 1, 0) -> 0 | BY40: =IF($M40="None", 1, 0) -> 0 | BZ40: =COUNTIF($P40:$V40, "") -> 7 | CA40: =IF($W40="BR", 1, 0) -> 0 | CB40: =IF(SUM(BY40:CA40)=9, 1, 0) -> 0 | CD40: =IF($B40="None", 1, 0) -> 0 | CE40: =COUNTIF($D40:$I40, "") -> 6 | CF40: =IF($J40="EL", 1, 0) -> 0 | CG40: =IF(SUM(CD40:CF40)=8, 1, 0) -> 0 | CH40: =IF($M40="None", 1, 0) -> 0 | CI40: =COUNTIF($P40:$V40, "") -> 7 | CJ40: =IF($W40="EL", 1, 0) -> 0 | CK40: =IF(SUM(CH40:CJ40)=9, 1, 0) -> 0 | CM40: =IF($B40="None", 1, 0) -> 0 | CN40: =COUNTIF($D40:$I40, "") -> 6 | CO40: =IF($J40="D", 1, 0) -> 0 | CP40: =IF(SUM(CM40:CO40)=8, 1, 0) -> 0 | CQ40: =IF($M40="None", 1, 0) -> 0 | CR40: =COUNTIF($P40:$V40, "") -> 7 | CS40: =IF($W40="D", 1, 0) -> 0 | CT40: =IF(SUM(CQ40:CS40)=9, 1, 0) -> 0 | CV40: =IF($B40="None", 1, 0) -> 0 | CW40: =COUNTIF($D40:$I40, "") -> 6 | CX40: =IF($J40="M", 1, 0) -> 0 | CY40: =IF(SUM(CV40:CX40)=8, 1, 0) -> 0 | CZ40: =IF($M40="None", 1, 0) -> 0 | DA40: =COUNTIF($P40:$V40, "") -> 7 | DB40: =IF($W40="M", 1, 0) -> 0 | DC40: =IF(SUM(CZ40:DB40)=9, 1, 0) -> 0 | DE40: =IF($B40="None", 1, 0) -> 0 | DF40: =COUNTIF($D40:$I40, "") -> 6 | DG40: =IF($J40="LC", 1, 0) -> 0 | DH40: =IF(SUM(DE40:DG40)=8, 1, 0) -> 0 | DI40: =IF($M40="None", 1, 0) -> 0 | DJ40: =COUNTIF($P40:$V40, "") -> 7 | DK40: =IF($W40="LC", 1, 0) -> 0 | DL40: =IF(SUM(DI40:DK40)=9, 1, 0) -> 0 | DN40: =IF($B40="None", 1, 0) -> 0 | DO40: =IF($D40="L", 1, 0) -> 0 | DP40: =IF(SUM(DN40:DO40)=2, 1, 0) -> 0 | DQ40: =IF($M40="None", 1, 0) -> 0 | DR40: =IF($P40="L", 1, 0) -> 0 | DS40: =IF(SUM(DQ40:DR40)=2, 1, 0) -> 0 | DU40: =IF($B40="None", 1, 0) -> 0 | DV40: =IF($D40="WL", 1, 0) -> 0 | DW40: =IF(SUM(DU40:DV40)=2, 1, 0) -> 0 | DX40: =IF($M40="None", 1, 0) -> 0 | DY40: =IF($P40="WL", 1, 0) -> 0 | DZ40: =IF(SUM(DX40:DY40)=2, 1, 0) -> 0 | EB40: =IF($B40="None", 1, 0) -> 0 | EC40: =IF($D40="VL", 1, 0) -> 0 | ED40: =IF(SUM(EB40:EC40)=2, 1, 0) -> 0 | EE40: =IF($M40="None", 1, 0) -> 0 | EF40: =IF($P40="VL", 1, 0) -> 0 | EG40: =IF(SUM(EE40:EF40)=2, 1, 0) -> 0
A41: 35 | L41: 85 | AA41: First Hit % = when a species/code is "hit" first. For example, at a point the following is "hit": ARTR4, BRTE, L, S. This means that ARTR4 would be "first hit" while the other codes would be "any hits." All first hit percentages should add up to 100%. | AQ41: =IF(B41="None", 1, 0) -> 0 | AR41: =COUNTIF(D41:I41, "") -> 6 | AS41: =IF(J41="S", 1, 0) -> 0 | AT41: =IF(SUM(AQ41:AS41)=8, 1, 0) -> 0 | AU41: =IF(M41="None", 1, 0) -> 0 | AV41: =COUNTIF(P41:V41, "") -> 7 | AW41: =IF(W41="S", 1, 0) -> 0 | AX41: =IF(SUM(AU41:AW41)=9, 1, 0) -> 0 | AZ41: =IF(OR(B41="None", B41=""), 0, 1) -> 0 | BA41: =IF(OR(M41="None", M41=""), 0, 1) -> 0 | BC41: =IF($B41="None", 1, 0) -> 0 | BD41: =COUNTIF($D41:$I41, "") -> 6 | BE41: =IF($J41="G", 1, 0) -> 0 | BF41: =IF(SUM(BC41:BE41)=8, 1, 0) -> 0 | BG41: =IF($M41="None", 1, 0) -> 0 | BH41: =COUNTIF($P41:$V41, "") -> 7 | BI41: =IF($W41="G", 1, 0) -> 0 | BJ41: =IF(SUM(BG41:BI41)=9, 1, 0) -> 0 | BL41: =IF($B41="None", 1, 0) -> 0 | BM41: =COUNTIF($D41:$I41, "") -> 6 | BN41: =IF($J41="R", 1, 0) -> 0 | BO41: =IF(SUM(BL41:BN41)=8, 1, 0) -> 0 | BP41: =IF($M41="None", 1, 0) -> 0 | BQ41: =COUNTIF($P41:$V41, "") -> 7 | BR41: =IF($W41="R", 1, 0) -> 0 | BS41: =IF(SUM(BP41:BR41)=9, 1, 0) -> 0 | BU41: =IF($B41="None", 1, 0) -> 0 | BV41: =COUNTIF($D41:$I41, "") -> 6 | BW41: =IF($J41="BR", 1, 0) -> 0 | BX41: =IF(SUM(BU41:BW41)=8, 1, 0) -> 0 | BY41: =IF($M41="None", 1, 0) -> 0 | BZ41: =COUNTIF($P41:$V41, "") -> 7 | CA41: =IF($W41="BR", 1, 0) -> 0 | CB41: =IF(SUM(BY41:CA41)=9, 1, 0) -> 0 | CD41: =IF($B41="None", 1, 0) -> 0 | CE41: =COUNTIF($D41:$I41, "") -> 6 | CF41: =IF($J41="EL", 1, 0) -> 0 | CG41: =IF(SUM(CD41:CF41)=8, 1, 0) -> 0 | CH41: =IF($M41="None", 1, 0) -> 0 | CI41: =COUNTIF($P41:$V41, "") -> 7 | CJ41: =IF($W41="EL", 1, 0) -> 0 | CK41: =IF(SUM(CH41:CJ41)=9, 1, 0) -> 0 | CM41: =IF($B41="None", 1, 0) -> 0 | CN41: =COUNTIF($D41:$I41, "") -> 6 | CO41: =IF($J41="D", 1, 0) -> 0 | CP41: =IF(SUM(CM41:CO41)=8, 1, 0) -> 0 | CQ41: =IF($M41="None", 1, 0) -> 0 | CR41: =COUNTIF($P41:$V41, "") -> 7 | CS41: =IF($W41="D", 1, 0) -> 0 | CT41: =IF(SUM(CQ41:CS41)=9, 1, 0) -> 0 | CV41: =IF($B41="None", 1, 0) -> 0 | CW41: =COUNTIF($D41:$I41, "") -> 6 | CX41: =IF($J41="M", 1, 0) -> 0 | CY41: =IF(SUM(CV41:CX41)=8, 1, 0) -> 0 | CZ41: =IF($M41="None", 1, 0) -> 0 | DA41: =COUNTIF($P41:$V41, "") -> 7 | DB41: =IF($W41="M", 1, 0) -> 0 | DC41: =IF(SUM(CZ41:DB41)=9, 1, 0) -> 0 | DE41: =IF($B41="None", 1, 0) -> 0 | DF41: =COUNTIF($D41:$I41, "") -> 6 | DG41: =IF($J41="LC", 1, 0) -> 0 | DH41: =IF(SUM(DE41:DG41)=8, 1, 0) -> 0 | DI41: =IF($M41="None", 1, 0) -> 0 | DJ41: =COUNTIF($P41:$V41, "") -> 7 | DK41: =IF($W41="LC", 1, 0) -> 0 | DL41: =IF(SUM(DI41:DK41)=9, 1, 0) -> 0 | DN41: =IF($B41="None", 1, 0) -> 0 | DO41: =IF($D41="L", 1, 0) -> 0 | DP41: =IF(SUM(DN41:DO41)=2, 1, 0) -> 0 | DQ41: =IF($M41="None", 1, 0) -> 0 | DR41: =IF($P41="L", 1, 0) -> 0 | DS41: =IF(SUM(DQ41:DR41)=2, 1, 0) -> 0 | DU41: =IF($B41="None", 1, 0) -> 0 | DV41: =IF($D41="WL", 1, 0) -> 0 | DW41: =IF(SUM(DU41:DV41)=2, 1, 0) -> 0 | DX41: =IF($M41="None", 1, 0) -> 0 | DY41: =IF($P41="WL", 1, 0) -> 0 | DZ41: =IF(SUM(DX41:DY41)=2, 1, 0) -> 0 | EB41: =IF($B41="None", 1, 0) -> 0 | EC41: =IF($D41="VL", 1, 0) -> 0 | ED41: =IF(SUM(EB41:EC41)=2, 1, 0) -> 0 | EE41: =IF($M41="None", 1, 0) -> 0 | EF41: =IF($P41="VL", 1, 0) -> 0 | EG41: =IF(SUM(EE41:EF41)=2, 1, 0) -> 0
A42: 36 | L42: 86 | AQ42: =IF(B42="None", 1, 0) -> 0 | AR42: =COUNTIF(D42:I42, "") -> 6 | AS42: =IF(J42="S", 1, 0) -> 0 | AT42: =IF(SUM(AQ42:AS42)=8, 1, 0) -> 0 | AU42: =IF(M42="None", 1, 0) -> 0 | AV42: =COUNTIF(P42:V42, "") -> 7 | AW42: =IF(W42="S", 1, 0) -> 0 | AX42: =IF(SUM(AU42:AW42)=9, 1, 0) -> 0 | AZ42: =IF(OR(B42="None", B42=""), 0, 1) -> 0 | BA42: =IF(OR(M42="None", M42=""), 0, 1) -> 0 | BC42: =IF($B42="None", 1, 0) -> 0 | BD42: =COUNTIF($D42:$I42, "") -> 6 | BE42: =IF($J42="G", 1, 0) -> 0 | BF42: =IF(SUM(BC42:BE42)=8, 1, 0) -> 0 | BG42: =IF($M42="None", 1, 0) -> 0 | BH42: =COUNTIF($P42:$V42, "") -> 7 | BI42: =IF($W42="G", 1, 0) -> 0 | BJ42: =IF(SUM(BG42:BI42)=9, 1, 0) -> 0 | BL42: =IF($B42="None", 1, 0) -> 0 | BM42: =COUNTIF($D42:$I42, "") -> 6 | BN42: =IF($J42="R", 1, 0) -> 0 | BO42: =IF(SUM(BL42:BN42)=8, 1, 0) -> 0 | BP42: =IF($M42="None", 1, 0) -> 0 | BQ42: =COUNTIF($P42:$V42, "") -> 7 | BR42: =IF($W42="R", 1, 0) -> 0 | BS42: =IF(SUM(BP42:BR42)=9, 1, 0) -> 0 | BU42: =IF($B42="None", 1, 0) -> 0 | BV42: =COUNTIF($D42:$I42, "") -> 6 | BW42: =IF($J42="BR", 1, 0) -> 0 | BX42: =IF(SUM(BU42:BW42)=8, 1, 0) -> 0 | BY42: =IF($M42="None", 1, 0) -> 0 | BZ42: =COUNTIF($P42:$V42, "") -> 7 | CA42: =IF($W42="BR", 1, 0) -> 0 | CB42: =IF(SUM(BY42:CA42)=9, 1, 0) -> 0 | CD42: =IF($B42="None", 1, 0) -> 0 | CE42: =COUNTIF($D42:$I42, "") -> 6 | CF42: =IF($J42="EL", 1, 0) -> 0 | CG42: =IF(SUM(CD42:CF42)=8, 1, 0) -> 0 | CH42: =IF($M42="None", 1, 0) -> 0 | CI42: =COUNTIF($P42:$V42, "") -> 7 | CJ42: =IF($W42="EL", 1, 0) -> 0 | CK42: =IF(SUM(CH42:CJ42)=9, 1, 0) -> 0 | CM42: =IF($B42="None", 1, 0) -> 0 | CN42: =COUNTIF($D42:$I42, "") -> 6 | CO42: =IF($J42="D", 1, 0) -> 0 | CP42: =IF(SUM(CM42:CO42)=8, 1, 0) -> 0 | CQ42: =IF($M42="None", 1, 0) -> 0 | CR42: =COUNTIF($P42:$V42, "") -> 7 | CS42: =IF($W42="D", 1, 0) -> 0 | CT42: =IF(SUM(CQ42:CS42)=9, 1, 0) -> 0 | CV42: =IF($B42="None", 1, 0) -> 0 | CW42: =COUNTIF($D42:$I42, "") -> 6 | CX42: =IF($J42="M", 1, 0) -> 0 | CY42: =IF(SUM(CV42:CX42)=8, 1, 0) -> 0 | CZ42: =IF($M42="None", 1, 0) -> 0 | DA42: =COUNTIF($P42:$V42, "") -> 7 | DB42: =IF($W42="M", 1, 0) -> 0 | DC42: =IF(SUM(CZ42:DB42)=9, 1, 0) -> 0 | DE42: =IF($B42="None", 1, 0) -> 0 | DF42: =COUNTIF($D42:$I42, "") -> 6 | DG42: =IF($J42="LC", 1, 0) -> 0 | DH42: =IF(SUM(DE42:DG42)=8, 1, 0) -> 0 | DI42: =IF($M42="None", 1, 0) -> 0 | DJ42: =COUNTIF($P42:$V42, "") -> 7 | DK42: =IF($W42="LC", 1, 0) -> 0 | DL42: =IF(SUM(DI42:DK42)=9, 1, 0) -> 0 | DN42: =IF($B42="None", 1, 0) -> 0 | DO42: =IF($D42="L", 1, 0) -> 0 | DP42: =IF(SUM(DN42:DO42)=2, 1, 0) -> 0 | DQ42: =IF($M42="None", 1, 0) -> 0 | DR42: =IF($P42="L", 1, 0) -> 0 | DS42: =IF(SUM(DQ42:DR42)=2, 1, 0) -> 0 | DU42: =IF($B42="None", 1, 0) -> 0 | DV42: =IF($D42="WL", 1, 0) -> 0 | DW42: =IF(SUM(DU42:DV42)=2, 1, 0) -> 0 | DX42: =IF($M42="None", 1, 0) -> 0 | DY42: =IF($P42="WL", 1, 0) -> 0 | DZ42: =IF(SUM(DX42:DY42)=2, 1, 0) -> 0 | EB42: =IF($B42="None", 1, 0) -> 0 | EC42: =IF($D42="VL", 1, 0) -> 0 | ED42: =IF(SUM(EB42:EC42)=2, 1, 0) -> 0 | EE42: =IF($M42="None", 1, 0) -> 0 | EF42: =IF($P42="VL", 1, 0) -> 0 | EG42: =IF(SUM(EE42:EF42)=2, 1, 0) -> 0
A43: 37 | L43: 87 | AQ43: =IF(B43="None", 1, 0) -> 0 | AR43: =COUNTIF(D43:I43, "") -> 6 | AS43: =IF(J43="S", 1, 0) -> 0 | AT43: =IF(SUM(AQ43:AS43)=8, 1, 0) -> 0 | AU43: =IF(M43="None", 1, 0) -> 0 | AV43: =COUNTIF(P43:V43, "") -> 7 | AW43: =IF(W43="S", 1, 0) -> 0 | AX43: =IF(SUM(AU43:AW43)=9, 1, 0) -> 0 | AZ43: =IF(OR(B43="None", B43=""), 0, 1) -> 0 | BA43: =IF(OR(M43="None", M43=""), 0, 1) -> 0 | BC43: =IF($B43="None", 1, 0) -> 0 | BD43: =COUNTIF($D43:$I43, "") -> 6 | BE43: =IF($J43="G", 1, 0) -> 0 | BF43: =IF(SUM(BC43:BE43)=8, 1, 0) -> 0 | BG43: =IF($M43="None", 1, 0) -> 0 | BH43: =COUNTIF($P43:$V43, "") -> 7 | BI43: =IF($W43="G", 1, 0) -> 0 | BJ43: =IF(SUM(BG43:BI43)=9, 1, 0) -> 0 | BL43: =IF($B43="None", 1, 0) -> 0 | BM43: =COUNTIF($D43:$I43, "") -> 6 | BN43: =IF($J43="R", 1, 0) -> 0 | BO43: =IF(SUM(BL43:BN43)=8, 1, 0) -> 0 | BP43: =IF($M43="None", 1, 0) -> 0 | BQ43: =COUNTIF($P43:$V43, "") -> 7 | BR43: =IF($W43="R", 1, 0) -> 0 | BS43: =IF(SUM(BP43:BR43)=9, 1, 0) -> 0 | BU43: =IF($B43="None", 1, 0) -> 0 | BV43: =COUNTIF($D43:$I43, "") -> 6 | BW43: =IF($J43="BR", 1, 0) -> 0 | BX43: =IF(SUM(BU43:BW43)=8, 1, 0) -> 0 | BY43: =IF($M43="None", 1, 0) -> 0 | BZ43: =COUNTIF($P43:$V43, "") -> 7 | CA43: =IF($W43="BR", 1, 0) -> 0 | CB43: =IF(SUM(BY43:CA43)=9, 1, 0) -> 0 | CD43: =IF($B43="None", 1, 0) -> 0 | CE43: =COUNTIF($D43:$I43, "") -> 6 | CF43: =IF($J43="EL", 1, 0) -> 0 | CG43: =IF(SUM(CD43:CF43)=8, 1, 0) -> 0 | CH43: =IF($M43="None", 1, 0) -> 0 | CI43: =COUNTIF($P43:$V43, "") -> 7 | CJ43: =IF($W43="EL", 1, 0) -> 0 | CK43: =IF(SUM(CH43:CJ43)=9, 1, 0) -> 0 | CM43: =IF($B43="None", 1, 0) -> 0 | CN43: =COUNTIF($D43:$I43, "") -> 6 | CO43: =IF($J43="D", 1, 0) -> 0 | CP43: =IF(SUM(CM43:CO43)=8, 1, 0) -> 0 | CQ43: =IF($M43="None", 1, 0) -> 0 | CR43: =COUNTIF($P43:$V43, "") -> 7 | CS43: =IF($W43="D", 1, 0) -> 0 | CT43: =IF(SUM(CQ43:CS43)=9, 1, 0) -> 0 | CV43: =IF($B43="None", 1, 0) -> 0 | CW43: =COUNTIF($D43:$I43, "") -> 6 | CX43: =IF($J43="M", 1, 0) -> 0 | CY43: =IF(SUM(CV43:CX43)=8, 1, 0) -> 0 | CZ43: =IF($M43="None", 1, 0) -> 0 | DA43: =COUNTIF($P43:$V43, "") -> 7 | DB43: =IF($W43="M", 1, 0) -> 0 | DC43: =IF(SUM(CZ43:DB43)=9, 1, 0) -> 0 | DE43: =IF($B43="None", 1, 0) -> 0 | DF43: =COUNTIF($D43:$I43, "") -> 6 | DG43: =IF($J43="LC", 1, 0) -> 0 | DH43: =IF(SUM(DE43:DG43)=8, 1, 0) -> 0 | DI43: =IF($M43="None", 1, 0) -> 0 | DJ43: =COUNTIF($P43:$V43, "") -> 7 | DK43: =IF($W43="LC", 1, 0) -> 0 | DL43: =IF(SUM(DI43:DK43)=9, 1, 0) -> 0 | DN43: =IF($B43="None", 1, 0) -> 0 | DO43: =IF($D43="L", 1, 0) -> 0 | DP43: =IF(SUM(DN43:DO43)=2, 1, 0) -> 0 | DQ43: =IF($M43="None", 1, 0) -> 0 | DR43: =IF($P43="L", 1, 0) -> 0 | DS43: =IF(SUM(DQ43:DR43)=2, 1, 0) -> 0 | DU43: =IF($B43="None", 1, 0) -> 0 | DV43: =IF($D43="WL", 1, 0) -> 0 | DW43: =IF(SUM(DU43:DV43)=2, 1, 0) -> 0 | DX43: =IF($M43="None", 1, 0) -> 0 | DY43: =IF($P43="WL", 1, 0) -> 0 | DZ43: =IF(SUM(DX43:DY43)=2, 1, 0) -> 0 | EB43: =IF($B43="None", 1, 0) -> 0 | EC43: =IF($D43="VL", 1, 0) -> 0 | ED43: =IF(SUM(EB43:EC43)=2, 1, 0) -> 0 | EE43: =IF($M43="None", 1, 0) -> 0 | EF43: =IF($P43="VL", 1, 0) -> 0 | EG43: =IF(SUM(EE43:EF43)=2, 1, 0) -> 0
A44: 38 | L44: 88 | AQ44: =IF(B44="None", 1, 0) -> 0 | AR44: =COUNTIF(D44:I44, "") -> 6 | AS44: =IF(J44="S", 1, 0) -> 0 | AT44: =IF(SUM(AQ44:AS44)=8, 1, 0) -> 0 | AU44: =IF(M44="None", 1, 0) -> 0 | AV44: =COUNTIF(P44:V44, "") -> 7 | AW44: =IF(W44="S", 1, 0) -> 0 | AX44: =IF(SUM(AU44:AW44)=9, 1, 0) -> 0 | AZ44: =IF(OR(B44="None", B44=""), 0, 1) -> 0 | BA44: =IF(OR(M44="None", M44=""), 0, 1) -> 0 | BC44: =IF($B44="None", 1, 0) -> 0 | BD44: =COUNTIF($D44:$I44, "") -> 6 | BE44: =IF($J44="G", 1, 0) -> 0 | BF44: =IF(SUM(BC44:BE44)=8, 1, 0) -> 0 | BG44: =IF($M44="None", 1, 0) -> 0 | BH44: =COUNTIF($P44:$V44, "") -> 7 | BI44: =IF($W44="G", 1, 0) -> 0 | BJ44: =IF(SUM(BG44:BI44)=9, 1, 0) -> 0 | BL44: =IF($B44="None", 1, 0) -> 0 | BM44: =COUNTIF($D44:$I44, "") -> 6 | BN44: =IF($J44="R", 1, 0) -> 0 | BO44: =IF(SUM(BL44:BN44)=8, 1, 0) -> 0 | BP44: =IF($M44="None", 1, 0) -> 0 | BQ44: =COUNTIF($P44:$V44, "") -> 7 | BR44: =IF($W44="R", 1, 0) -> 0 | BS44: =IF(SUM(BP44:BR44)=9, 1, 0) -> 0 | BU44: =IF($B44="None", 1, 0) -> 0 | BV44: =COUNTIF($D44:$I44, "") -> 6 | BW44: =IF($J44="BR", 1, 0) -> 0 | BX44: =IF(SUM(BU44:BW44)=8, 1, 0) -> 0 | BY44: =IF($M44="None", 1, 0) -> 0 | BZ44: =COUNTIF($P44:$V44, "") -> 7 | CA44: =IF($W44="BR", 1, 0) -> 0 | CB44: =IF(SUM(BY44:CA44)=9, 1, 0) -> 0 | CD44: =IF($B44="None", 1, 0) -> 0 | CE44: =COUNTIF($D44:$I44, "") -> 6 | CF44: =IF($J44="EL", 1, 0) -> 0 | CG44: =IF(SUM(CD44:CF44)=8, 1, 0) -> 0 | CH44: =IF($M44="None", 1, 0) -> 0 | CI44: =COUNTIF($P44:$V44, "") -> 7 | CJ44: =IF($W44="EL", 1, 0) -> 0 | CK44: =IF(SUM(CH44:CJ44)=9, 1, 0) -> 0 | CM44: =IF($B44="None", 1, 0) -> 0 | CN44: =COUNTIF($D44:$I44, "") -> 6 | CO44: =IF($J44="D", 1, 0) -> 0 | CP44: =IF(SUM(CM44:CO44)=8, 1, 0) -> 0 | CQ44: =IF($M44="None", 1, 0) -> 0 | CR44: =COUNTIF($P44:$V44, "") -> 7 | CS44: =IF($W44="D", 1, 0) -> 0 | CT44: =IF(SUM(CQ44:CS44)=9, 1, 0) -> 0 | CV44: =IF($B44="None", 1, 0) -> 0 | CW44: =COUNTIF($D44:$I44, "") -> 6 | CX44: =IF($J44="M", 1, 0) -> 0 | CY44: =IF(SUM(CV44:CX44)=8, 1, 0) -> 0 | CZ44: =IF($M44="None", 1, 0) -> 0 | DA44: =COUNTIF($P44:$V44, "") -> 7 | DB44: =IF($W44="M", 1, 0) -> 0 | DC44: =IF(SUM(CZ44:DB44)=9, 1, 0) -> 0 | DE44: =IF($B44="None", 1, 0) -> 0 | DF44: =COUNTIF($D44:$I44, "") -> 6 | DG44: =IF($J44="LC", 1, 0) -> 0 | DH44: =IF(SUM(DE44:DG44)=8, 1, 0) -> 0 | DI44: =IF($M44="None", 1, 0) -> 0 | DJ44: =COUNTIF($P44:$V44, "") -> 7 | DK44: =IF($W44="LC", 1, 0) -> 0 | DL44: =IF(SUM(DI44:DK44)=9, 1, 0) -> 0 | DN44: =IF($B44="None", 1, 0) -> 0 | DO44: =IF($D44="L", 1, 0) -> 0 | DP44: =IF(SUM(DN44:DO44)=2, 1, 0) -> 0 | DQ44: =IF($M44="None", 1, 0) -> 0 | DR44: =IF($P44="L", 1, 0) -> 0 | DS44: =IF(SUM(DQ44:DR44)=2, 1, 0) -> 0 | DU44: =IF($B44="None", 1, 0) -> 0 | DV44: =IF($D44="WL", 1, 0) -> 0 | DW44: =IF(SUM(DU44:DV44)=2, 1, 0) -> 0 | DX44: =IF($M44="None", 1, 0) -> 0 | DY44: =IF($P44="WL", 1, 0) -> 0 | DZ44: =IF(SUM(DX44:DY44)=2, 1, 0) -> 0 | EB44: =IF($B44="None", 1, 0) -> 0 | EC44: =IF($D44="VL", 1, 0) -> 0 | ED44: =IF(SUM(EB44:EC44)=2, 1, 0) -> 0 | EE44: =IF($M44="None", 1, 0) -> 0 | EF44: =IF($P44="VL", 1, 0) -> 0 | EG44: =IF(SUM(EE44:EF44)=2, 1, 0) -> 0
A45: 39 | L45: 89 | AQ45: =IF(B45="None", 1, 0) -> 0 | AR45: =COUNTIF(D45:I45, "") -> 6 | AS45: =IF(J45="S", 1, 0) -> 0 | AT45: =IF(SUM(AQ45:AS45)=8, 1, 0) -> 0 | AU45: =IF(M45="None", 1, 0) -> 0 | AV45: =COUNTIF(P45:V45, "") -> 7 | AW45: =IF(W45="S", 1, 0) -> 0 | AX45: =IF(SUM(AU45:AW45)=9, 1, 0) -> 0 | AZ45: =IF(OR(B45="None", B45=""), 0, 1) -> 0 | BA45: =IF(OR(M45="None", M45=""), 0, 1) -> 0 | BC45: =IF($B45="None", 1, 0) -> 0 | BD45: =COUNTIF($D45:$I45, "") -> 6 | BE45: =IF($J45="G", 1, 0) -> 0 | BF45: =IF(SUM(BC45:BE45)=8, 1, 0) -> 0 | BG45: =IF($M45="None", 1, 0) -> 0 | BH45: =COUNTIF($P45:$V45, "") -> 7 | BI45: =IF($W45="G", 1, 0) -> 0 | BJ45: =IF(SUM(BG45:BI45)=9, 1, 0) -> 0 | BL45: =IF($B45="None", 1, 0) -> 0 | BM45: =COUNTIF($D45:$I45, "") -> 6 | BN45: =IF($J45="R", 1, 0) -> 0 | BO45: =IF(SUM(BL45:BN45)=8, 1, 0) -> 0 | BP45: =IF($M45="None", 1, 0) -> 0 | BQ45: =COUNTIF($P45:$V45, "") -> 7 | BR45: =IF($W45="R", 1, 0) -> 0 | BS45: =IF(SUM(BP45:BR45)=9, 1, 0) -> 0 | BU45: =IF($B45="None", 1, 0) -> 0 | BV45: =COUNTIF($D45:$I45, "") -> 6 | BW45: =IF($J45="BR", 1, 0) -> 0 | BX45: =IF(SUM(BU45:BW45)=8, 1, 0) -> 0 | BY45: =IF($M45="None", 1, 0) -> 0 | BZ45: =COUNTIF($P45:$V45, "") -> 7 | CA45: =IF($W45="BR", 1, 0) -> 0 | CB45: =IF(SUM(BY45:CA45)=9, 1, 0) -> 0 | CD45: =IF($B45="None", 1, 0) -> 0 | CE45: =COUNTIF($D45:$I45, "") -> 6 | CF45: =IF($J45="EL", 1, 0) -> 0 | CG45: =IF(SUM(CD45:CF45)=8, 1, 0) -> 0 | CH45: =IF($M45="None", 1, 0) -> 0 | CI45: =COUNTIF($P45:$V45, "") -> 7 | CJ45: =IF($W45="EL", 1, 0) -> 0 | CK45: =IF(SUM(CH45:CJ45)=9, 1, 0) -> 0 | CM45: =IF($B45="None", 1, 0) -> 0 | CN45: =COUNTIF($D45:$I45, "") -> 6 | CO45: =IF($J45="D", 1, 0) -> 0 | CP45: =IF(SUM(CM45:CO45)=8, 1, 0) -> 0 | CQ45: =IF($M45="None", 1, 0) -> 0 | CR45: =COUNTIF($P45:$V45, "") -> 7 | CS45: =IF($W45="D", 1, 0) -> 0 | CT45: =IF(SUM(CQ45:CS45)=9, 1, 0) -> 0 | CV45: =IF($B45="None", 1, 0) -> 0 | CW45: =COUNTIF($D45:$I45, "") -> 6 | CX45: =IF($J45="M", 1, 0) -> 0 | CY45: =IF(SUM(CV45:CX45)=8, 1, 0) -> 0 | CZ45: =IF($M45="None", 1, 0) -> 0 | DA45: =COUNTIF($P45:$V45, "") -> 7 | DB45: =IF($W45="M", 1, 0) -> 0 | DC45: =IF(SUM(CZ45:DB45)=9, 1, 0) -> 0 | DE45: =IF($B45="None", 1, 0) -> 0 | DF45: =COUNTIF($D45:$I45, "") -> 6 | DG45: =IF($J45="LC", 1, 0) -> 0 | DH45: =IF(SUM(DE45:DG45)=8, 1, 0) -> 0 | DI45: =IF($M45="None", 1, 0) -> 0 | DJ45: =COUNTIF($P45:$V45, "") -> 7 | DK45: =IF($W45="LC", 1, 0) -> 0 | DL45: =IF(SUM(DI45:DK45)=9, 1, 0) -> 0 | DN45: =IF($B45="None", 1, 0) -> 0 | DO45: =IF($D45="L", 1, 0) -> 0 | DP45: =IF(SUM(DN45:DO45)=2, 1, 0) -> 0 | DQ45: =IF($M45="None", 1, 0) -> 0 | DR45: =IF($P45="L", 1, 0) -> 0 | DS45: =IF(SUM(DQ45:DR45)=2, 1, 0) -> 0 | DU45: =IF($B45="None", 1, 0) -> 0 | DV45: =IF($D45="WL", 1, 0) -> 0 | DW45: =IF(SUM(DU45:DV45)=2, 1, 0) -> 0 | DX45: =IF($M45="None", 1, 0) -> 0 | DY45: =IF($P45="WL", 1, 0) -> 0 | DZ45: =IF(SUM(DX45:DY45)=2, 1, 0) -> 0 | EB45: =IF($B45="None", 1, 0) -> 0 | EC45: =IF($D45="VL", 1, 0) -> 0 | ED45: =IF(SUM(EB45:EC45)=2, 1, 0) -> 0 | EE45: =IF($M45="None", 1, 0) -> 0 | EF45: =IF($P45="VL", 1, 0) -> 0 | EG45: =IF(SUM(EE45:EF45)=2, 1, 0) -> 0
A46: 40 | L46: 90 | AQ46: =IF(B46="None", 1, 0) -> 0 | AR46: =COUNTIF(D46:I46, "") -> 6 | AS46: =IF(J46="S", 1, 0) -> 0 | AT46: =IF(SUM(AQ46:AS46)=8, 1, 0) -> 0 | AU46: =IF(M46="None", 1, 0) -> 0 | AV46: =COUNTIF(P46:V46, "") -> 7 | AW46: =IF(W46="S", 1, 0) -> 0 | AX46: =IF(SUM(AU46:AW46)=9, 1, 0) -> 0 | AZ46: =IF(OR(B46="None", B46=""), 0, 1) -> 0 | BA46: =IF(OR(M46="None", M46=""), 0, 1) -> 0 | BC46: =IF($B46="None", 1, 0) -> 0 | BD46: =COUNTIF($D46:$I46, "") -> 6 | BE46: =IF($J46="G", 1, 0) -> 0 | BF46: =IF(SUM(BC46:BE46)=8, 1, 0) -> 0 | BG46: =IF($M46="None", 1, 0) -> 0 | BH46: =COUNTIF($P46:$V46, "") -> 7 | BI46: =IF($W46="G", 1, 0) -> 0 | BJ46: =IF(SUM(BG46:BI46)=9, 1, 0) -> 0 | BL46: =IF($B46="None", 1, 0) -> 0 | BM46: =COUNTIF($D46:$I46, "") -> 6 | BN46: =IF($J46="R", 1, 0) -> 0 | BO46: =IF(SUM(BL46:BN46)=8, 1, 0) -> 0 | BP46: =IF($M46="None", 1, 0) -> 0 | BQ46: =COUNTIF($P46:$V46, "") -> 7 | BR46: =IF($W46="R", 1, 0) -> 0 | BS46: =IF(SUM(BP46:BR46)=9, 1, 0) -> 0 | BU46: =IF($B46="None", 1, 0) -> 0 | BV46: =COUNTIF($D46:$I46, "") -> 6 | BW46: =IF($J46="BR", 1, 0) -> 0 | BX46: =IF(SUM(BU46:BW46)=8, 1, 0) -> 0 | BY46: =IF($M46="None", 1, 0) -> 0 | BZ46: =COUNTIF($P46:$V46, "") -> 7 | CA46: =IF($W46="BR", 1, 0) -> 0 | CB46: =IF(SUM(BY46:CA46)=9, 1, 0) -> 0 | CD46: =IF($B46="None", 1, 0) -> 0 | CE46: =COUNTIF($D46:$I46, "") -> 6 | CF46: =IF($J46="EL", 1, 0) -> 0 | CG46: =IF(SUM(CD46:CF46)=8, 1, 0) -> 0 | CH46: =IF($M46="None", 1, 0) -> 0 | CI46: =COUNTIF($P46:$V46, "") -> 7 | CJ46: =IF($W46="EL", 1, 0) -> 0 | CK46: =IF(SUM(CH46:CJ46)=9, 1, 0) -> 0 | CM46: =IF($B46="None", 1, 0) -> 0 | CN46: =COUNTIF($D46:$I46, "") -> 6 | CO46: =IF($J46="D", 1, 0) -> 0 | CP46: =IF(SUM(CM46:CO46)=8, 1, 0) -> 0 | CQ46: =IF($M46="None", 1, 0) -> 0 | CR46: =COUNTIF($P46:$V46, "") -> 7 | CS46: =IF($W46="D", 1, 0) -> 0 | CT46: =IF(SUM(CQ46:CS46)=9, 1, 0) -> 0 | CV46: =IF($B46="None", 1, 0) -> 0 | CW46: =COUNTIF($D46:$I46, "") -> 6 | CX46: =IF($J46="M", 1, 0) -> 0 | CY46: =IF(SUM(CV46:CX46)=8, 1, 0) -> 0 | CZ46: =IF($M46="None", 1, 0) -> 0 | DA46: =COUNTIF($P46:$V46, "") -> 7 | DB46: =IF($W46="M", 1, 0) -> 0 | DC46: =IF(SUM(CZ46:DB46)=9, 1, 0) -> 0 | DE46: =IF($B46="None", 1, 0) -> 0 | DF46: =COUNTIF($D46:$I46, "") -> 6 | DG46: =IF($J46="LC", 1, 0) -> 0 | DH46: =IF(SUM(DE46:DG46)=8, 1, 0) -> 0 | DI46: =IF($M46="None", 1, 0) -> 0 | DJ46: =COUNTIF($P46:$V46, "") -> 7 | DK46: =IF($W46="LC", 1, 0) -> 0 | DL46: =IF(SUM(DI46:DK46)=9, 1, 0) -> 0 | DN46: =IF($B46="None", 1, 0) -> 0 | DO46: =IF($D46="L", 1, 0) -> 0 | DP46: =IF(SUM(DN46:DO46)=2, 1, 0) -> 0 | DQ46: =IF($M46="None", 1, 0) -> 0 | DR46: =IF($P46="L", 1, 0) -> 0 | DS46: =IF(SUM(DQ46:DR46)=2, 1, 0) -> 0 | DU46: =IF($B46="None", 1, 0) -> 0 | DV46: =IF($D46="WL", 1, 0) -> 0 | DW46: =IF(SUM(DU46:DV46)=2, 1, 0) -> 0 | DX46: =IF($M46="None", 1, 0) -> 0 | DY46: =IF($P46="WL", 1, 0) -> 0 | DZ46: =IF(SUM(DX46:DY46)=2, 1, 0) -> 0 | EB46: =IF($B46="None", 1, 0) -> 0 | EC46: =IF($D46="VL", 1, 0) -> 0 | ED46: =IF(SUM(EB46:EC46)=2, 1, 0) -> 0 | EE46: =IF($M46="None", 1, 0) -> 0 | EF46: =IF($P46="VL", 1, 0) -> 0 | EG46: =IF(SUM(EE46:EF46)=2, 1, 0) -> 0
A47: 41 | L47: 91 | AA47: Any Hit % = when a species/code is "hit" in any layer (top layer, lower layers, or soil surface layer). | AQ47: =IF(B47="None", 1, 0) -> 0 | AR47: =COUNTIF(D47:I47, "") -> 6 | AS47: =IF(J47="S", 1, 0) -> 0 | AT47: =IF(SUM(AQ47:AS47)=8, 1, 0) -> 0 | AU47: =IF(M47="None", 1, 0) -> 0 | AV47: =COUNTIF(P47:V47, "") -> 7 | AW47: =IF(W47="S", 1, 0) -> 0 | AX47: =IF(SUM(AU47:AW47)=9, 1, 0) -> 0 | AZ47: =IF(OR(B47="None", B47=""), 0, 1) -> 0 | BA47: =IF(OR(M47="None", M47=""), 0, 1) -> 0 | BC47: =IF($B47="None", 1, 0) -> 0 | BD47: =COUNTIF($D47:$I47, "") -> 6 | BE47: =IF($J47="G", 1, 0) -> 0 | BF47: =IF(SUM(BC47:BE47)=8, 1, 0) -> 0 | BG47: =IF($M47="None", 1, 0) -> 0 | BH47: =COUNTIF($P47:$V47, "") -> 7 | BI47: =IF($W47="G", 1, 0) -> 0 | BJ47: =IF(SUM(BG47:BI47)=9, 1, 0) -> 0 | BL47: =IF($B47="None", 1, 0) -> 0 | BM47: =COUNTIF($D47:$I47, "") -> 6 | BN47: =IF($J47="R", 1, 0) -> 0 | BO47: =IF(SUM(BL47:BN47)=8, 1, 0) -> 0 | BP47: =IF($M47="None", 1, 0) -> 0 | BQ47: =COUNTIF($P47:$V47, "") -> 7 | BR47: =IF($W47="R", 1, 0) -> 0 | BS47: =IF(SUM(BP47:BR47)=9, 1, 0) -> 0 | BU47: =IF($B47="None", 1, 0) -> 0 | BV47: =COUNTIF($D47:$I47, "") -> 6 | BW47: =IF($J47="BR", 1, 0) -> 0 | BX47: =IF(SUM(BU47:BW47)=8, 1, 0) -> 0 | BY47: =IF($M47="None", 1, 0) -> 0 | BZ47: =COUNTIF($P47:$V47, "") -> 7 | CA47: =IF($W47="BR", 1, 0) -> 0 | CB47: =IF(SUM(BY47:CA47)=9, 1, 0) -> 0 | CD47: =IF($B47="None", 1, 0) -> 0 | CE47: =COUNTIF($D47:$I47, "") -> 6 | CF47: =IF($J47="EL", 1, 0) -> 0 | CG47: =IF(SUM(CD47:CF47)=8, 1, 0) -> 0 | CH47: =IF($M47="None", 1, 0) -> 0 | CI47: =COUNTIF($P47:$V47, "") -> 7 | CJ47: =IF($W47="EL", 1, 0) -> 0 | CK47: =IF(SUM(CH47:CJ47)=9, 1, 0) -> 0 | CM47: =IF($B47="None", 1, 0) -> 0 | CN47: =COUNTIF($D47:$I47, "") -> 6 | CO47: =IF($J47="D", 1, 0) -> 0 | CP47: =IF(SUM(CM47:CO47)=8, 1, 0) -> 0 | CQ47: =IF($M47="None", 1, 0) -> 0 | CR47: =COUNTIF($P47:$V47, "") -> 7 | CS47: =IF($W47="D", 1, 0) -> 0 | CT47: =IF(SUM(CQ47:CS47)=9, 1, 0) -> 0 | CV47: =IF($B47="None", 1, 0) -> 0 | CW47: =COUNTIF($D47:$I47, "") -> 6 | CX47: =IF($J47="M", 1, 0) -> 0 | CY47: =IF(SUM(CV47:CX47)=8, 1, 0) -> 0 | CZ47: =IF($M47="None", 1, 0) -> 0 | DA47: =COUNTIF($P47:$V47, "") -> 7 | DB47: =IF($W47="M", 1, 0) -> 0 | DC47: =IF(SUM(CZ47:DB47)=9, 1, 0) -> 0 | DE47: =IF($B47="None", 1, 0) -> 0 | DF47: =COUNTIF($D47:$I47, "") -> 6 | DG47: =IF($J47="LC", 1, 0) -> 0 | DH47: =IF(SUM(DE47:DG47)=8, 1, 0) -> 0 | DI47: =IF($M47="None", 1, 0) -> 0 | DJ47: =COUNTIF($P47:$V47, "") -> 7 | DK47: =IF($W47="LC", 1, 0) -> 0 | DL47: =IF(SUM(DI47:DK47)=9, 1, 0) -> 0 | DN47: =IF($B47="None", 1, 0) -> 0 | DO47: =IF($D47="L", 1, 0) -> 0 | DP47: =IF(SUM(DN47:DO47)=2, 1, 0) -> 0 | DQ47: =IF($M47="None", 1, 0) -> 0 | DR47: =IF($P47="L", 1, 0) -> 0 | DS47: =IF(SUM(DQ47:DR47)=2, 1, 0) -> 0 | DU47: =IF($B47="None", 1, 0) -> 0 | DV47: =IF($D47="WL", 1, 0) -> 0 | DW47: =IF(SUM(DU47:DV47)=2, 1, 0) -> 0 | DX47: =IF($M47="None", 1, 0) -> 0 | DY47: =IF($P47="WL", 1, 0) -> 0 | DZ47: =IF(SUM(DX47:DY47)=2, 1, 0) -> 0 | EB47: =IF($B47="None", 1, 0) -> 0 | EC47: =IF($D47="VL", 1, 0) -> 0 | ED47: =IF(SUM(EB47:EC47)=2, 1, 0) -> 0 | EE47: =IF($M47="None", 1, 0) -> 0 | EF47: =IF($P47="VL", 1, 0) -> 0 | EG47: =IF(SUM(EE47:EF47)=2, 1, 0) -> 0
A48: 42 | L48: 92 | AQ48: =IF(B48="None", 1, 0) -> 0 | AR48: =COUNTIF(D48:I48, "") -> 6 | AS48: =IF(J48="S", 1, 0) -> 0 | AT48: =IF(SUM(AQ48:AS48)=8, 1, 0) -> 0 | AU48: =IF(M48="None", 1, 0) -> 0 | AV48: =COUNTIF(P48:V48, "") -> 7 | AW48: =IF(W48="S", 1, 0) -> 0 | AX48: =IF(SUM(AU48:AW48)=9, 1, 0) -> 0 | AZ48: =IF(OR(B48="None", B48=""), 0, 1) -> 0 | BA48: =IF(OR(M48="None", M48=""), 0, 1) -> 0 | BC48: =IF($B48="None", 1, 0) -> 0 | BD48: =COUNTIF($D48:$I48, "") -> 6 | BE48: =IF($J48="G", 1, 0) -> 0 | BF48: =IF(SUM(BC48:BE48)=8, 1, 0) -> 0 | BG48: =IF($M48="None", 1, 0) -> 0 | BH48: =COUNTIF($P48:$V48, "") -> 7 | BI48: =IF($W48="G", 1, 0) -> 0 | BJ48: =IF(SUM(BG48:BI48)=9, 1, 0) -> 0 | BL48: =IF($B48="None", 1, 0) -> 0 | BM48: =COUNTIF($D48:$I48, "") -> 6 | BN48: =IF($J48="R", 1, 0) -> 0 | BO48: =IF(SUM(BL48:BN48)=8, 1, 0) -> 0 | BP48: =IF($M48="None", 1, 0) -> 0 | BQ48: =COUNTIF($P48:$V48, "") -> 7 | BR48: =IF($W48="R", 1, 0) -> 0 | BS48: =IF(SUM(BP48:BR48)=9, 1, 0) -> 0 | BU48: =IF($B48="None", 1, 0) -> 0 | BV48: =COUNTIF($D48:$I48, "") -> 6 | BW48: =IF($J48="BR", 1, 0) -> 0 | BX48: =IF(SUM(BU48:BW48)=8, 1, 0) -> 0 | BY48: =IF($M48="None", 1, 0) -> 0 | BZ48: =COUNTIF($P48:$V48, "") -> 7 | CA48: =IF($W48="BR", 1, 0) -> 0 | CB48: =IF(SUM(BY48:CA48)=9, 1, 0) -> 0 | CD48: =IF($B48="None", 1, 0) -> 0 | CE48: =COUNTIF($D48:$I48, "") -> 6 | CF48: =IF($J48="EL", 1, 0) -> 0 | CG48: =IF(SUM(CD48:CF48)=8, 1, 0) -> 0 | CH48: =IF($M48="None", 1, 0) -> 0 | CI48: =COUNTIF($P48:$V48, "") -> 7 | CJ48: =IF($W48="EL", 1, 0) -> 0 | CK48: =IF(SUM(CH48:CJ48)=9, 1, 0) -> 0 | CM48: =IF($B48="None", 1, 0) -> 0 | CN48: =COUNTIF($D48:$I48, "") -> 6 | CO48: =IF($J48="D", 1, 0) -> 0 | CP48: =IF(SUM(CM48:CO48)=8, 1, 0) -> 0 | CQ48: =IF($M48="None", 1, 0) -> 0 | CR48: =COUNTIF($P48:$V48, "") -> 7 | CS48: =IF($W48="D", 1, 0) -> 0 | CT48: =IF(SUM(CQ48:CS48)=9, 1, 0) -> 0 | CV48: =IF($B48="None", 1, 0) -> 0 | CW48: =COUNTIF($D48:$I48, "") -> 6 | CX48: =IF($J48="M", 1, 0) -> 0 | CY48: =IF(SUM(CV48:CX48)=8, 1, 0) -> 0 | CZ48: =IF($M48="None", 1, 0) -> 0 | DA48: =COUNTIF($P48:$V48, "") -> 7 | DB48: =IF($W48="M", 1, 0) -> 0 | DC48: =IF(SUM(CZ48:DB48)=9, 1, 0) -> 0 | DE48: =IF($B48="None", 1, 0) -> 0 | DF48: =COUNTIF($D48:$I48, "") -> 6 | DG48: =IF($J48="LC", 1, 0) -> 0 | DH48: =IF(SUM(DE48:DG48)=8, 1, 0) -> 0 | DI48: =IF($M48="None", 1, 0) -> 0 | DJ48: =COUNTIF($P48:$V48, "") -> 7 | DK48: =IF($W48="LC", 1, 0) -> 0 | DL48: =IF(SUM(DI48:DK48)=9, 1, 0) -> 0 | DN48: =IF($B48="None", 1, 0) -> 0 | DO48: =IF($D48="L", 1, 0) -> 0 | DP48: =IF(SUM(DN48:DO48)=2, 1, 0) -> 0 | DQ48: =IF($M48="None", 1, 0) -> 0 | DR48: =IF($P48="L", 1, 0) -> 0 | DS48: =IF(SUM(DQ48:DR48)=2, 1, 0) -> 0 | DU48: =IF($B48="None", 1, 0) -> 0 | DV48: =IF($D48="WL", 1, 0) -> 0 | DW48: =IF(SUM(DU48:DV48)=2, 1, 0) -> 0 | DX48: =IF($M48="None", 1, 0) -> 0 | DY48: =IF($P48="WL", 1, 0) -> 0 | DZ48: =IF(SUM(DX48:DY48)=2, 1, 0) -> 0 | EB48: =IF($B48="None", 1, 0) -> 0 | EC48: =IF($D48="VL", 1, 0) -> 0 | ED48: =IF(SUM(EB48:EC48)=2, 1, 0) -> 0 | EE48: =IF($M48="None", 1, 0) -> 0 | EF48: =IF($P48="VL", 1, 0) -> 0 | EG48: =IF(SUM(EE48:EF48)=2, 1, 0) -> 0
A49: 43 | L49: 93 | AQ49: =IF(B49="None", 1, 0) -> 0 | AR49: =COUNTIF(D49:I49, "") -> 6 | AS49: =IF(J49="S", 1, 0) -> 0 | AT49: =IF(SUM(AQ49:AS49)=8, 1, 0) -> 0 | AU49: =IF(M49="None", 1, 0) -> 0 | AV49: =COUNTIF(P49:V49, "") -> 7 | AW49: =IF(W49="S", 1, 0) -> 0 | AX49: =IF(SUM(AU49:AW49)=9, 1, 0) -> 0 | AZ49: =IF(OR(B49="None", B49=""), 0, 1) -> 0 | BA49: =IF(OR(M49="None", M49=""), 0, 1) -> 0 | BC49: =IF($B49="None", 1, 0) -> 0 | BD49: =COUNTIF($D49:$I49, "") -> 6 | BE49: =IF($J49="G", 1, 0) -> 0 | BF49: =IF(SUM(BC49:BE49)=8, 1, 0) -> 0 | BG49: =IF($M49="None", 1, 0) -> 0 | BH49: =COUNTIF($P49:$V49, "") -> 7 | BI49: =IF($W49="G", 1, 0) -> 0 | BJ49: =IF(SUM(BG49:BI49)=9, 1, 0) -> 0 | BL49: =IF($B49="None", 1, 0) -> 0 | BM49: =COUNTIF($D49:$I49, "") -> 6 | BN49: =IF($J49="R", 1, 0) -> 0 | BO49: =IF(SUM(BL49:BN49)=8, 1, 0) -> 0 | BP49: =IF($M49="None", 1, 0) -> 0 | BQ49: =COUNTIF($P49:$V49, "") -> 7 | BR49: =IF($W49="R", 1, 0) -> 0 | BS49: =IF(SUM(BP49:BR49)=9, 1, 0) -> 0 | BU49: =IF($B49="None", 1, 0) -> 0 | BV49: =COUNTIF($D49:$I49, "") -> 6 | BW49: =IF($J49="BR", 1, 0) -> 0 | BX49: =IF(SUM(BU49:BW49)=8, 1, 0) -> 0 | BY49: =IF($M49="None", 1, 0) -> 0 | BZ49: =COUNTIF($P49:$V49, "") -> 7 | CA49: =IF($W49="BR", 1, 0) -> 0 | CB49: =IF(SUM(BY49:CA49)=9, 1, 0) -> 0 | CD49: =IF($B49="None", 1, 0) -> 0 | CE49: =COUNTIF($D49:$I49, "") -> 6 | CF49: =IF($J49="EL", 1, 0) -> 0 | CG49: =IF(SUM(CD49:CF49)=8, 1, 0) -> 0 | CH49: =IF($M49="None", 1, 0) -> 0 | CI49: =COUNTIF($P49:$V49, "") -> 7 | CJ49: =IF($W49="EL", 1, 0) -> 0 | CK49: =IF(SUM(CH49:CJ49)=9, 1, 0) -> 0 | CM49: =IF($B49="None", 1, 0) -> 0 | CN49: =COUNTIF($D49:$I49, "") -> 6 | CO49: =IF($J49="D", 1, 0) -> 0 | CP49: =IF(SUM(CM49:CO49)=8, 1, 0) -> 0 | CQ49: =IF($M49="None", 1, 0) -> 0 | CR49: =COUNTIF($P49:$V49, "") -> 7 | CS49: =IF($W49="D", 1, 0) -> 0 | CT49: =IF(SUM(CQ49:CS49)=9, 1, 0) -> 0 | CV49: =IF($B49="None", 1, 0) -> 0 | CW49: =COUNTIF($D49:$I49, "") -> 6 | CX49: =IF($J49="M", 1, 0) -> 0 | CY49: =IF(SUM(CV49:CX49)=8, 1, 0) -> 0 | CZ49: =IF($M49="None", 1, 0) -> 0 | DA49: =COUNTIF($P49:$V49, "") -> 7 | DB49: =IF($W49="M", 1, 0) -> 0 | DC49: =IF(SUM(CZ49:DB49)=9, 1, 0) -> 0 | DE49: =IF($B49="None", 1, 0) -> 0 | DF49: =COUNTIF($D49:$I49, "") -> 6 | DG49: =IF($J49="LC", 1, 0) -> 0 | DH49: =IF(SUM(DE49:DG49)=8, 1, 0) -> 0 | DI49: =IF($M49="None", 1, 0) -> 0 | DJ49: =COUNTIF($P49:$V49, "") -> 7 | DK49: =IF($W49="LC", 1, 0) -> 0 | DL49: =IF(SUM(DI49:DK49)=9, 1, 0) -> 0 | DN49: =IF($B49="None", 1, 0) -> 0 | DO49: =IF($D49="L", 1, 0) -> 0 | DP49: =IF(SUM(DN49:DO49)=2, 1, 0) -> 0 | DQ49: =IF($M49="None", 1, 0) -> 0 | DR49: =IF($P49="L", 1, 0) -> 0 | DS49: =IF(SUM(DQ49:DR49)=2, 1, 0) -> 0 | DU49: =IF($B49="None", 1, 0) -> 0 | DV49: =IF($D49="WL", 1, 0) -> 0 | DW49: =IF(SUM(DU49:DV49)=2, 1, 0) -> 0 | DX49: =IF($M49="None", 1, 0) -> 0 | DY49: =IF($P49="WL", 1, 0) -> 0 | DZ49: =IF(SUM(DX49:DY49)=2, 1, 0) -> 0 | EB49: =IF($B49="None", 1, 0) -> 0 | EC49: =IF($D49="VL", 1, 0) -> 0 | ED49: =IF(SUM(EB49:EC49)=2, 1, 0) -> 0 | EE49: =IF($M49="None", 1, 0) -> 0 | EF49: =IF($P49="VL", 1, 0) -> 0 | EG49: =IF(SUM(EE49:EF49)=2, 1, 0) -> 0
A50: 44 | L50: 94 | AQ50: =IF(B50="None", 1, 0) -> 0 | AR50: =COUNTIF(D50:I50, "") -> 6 | AS50: =IF(J50="S", 1, 0) -> 0 | AT50: =IF(SUM(AQ50:AS50)=8, 1, 0) -> 0 | AU50: =IF(M50="None", 1, 0) -> 0 | AV50: =COUNTIF(P50:V50, "") -> 7 | AW50: =IF(W50="S", 1, 0) -> 0 | AX50: =IF(SUM(AU50:AW50)=9, 1, 0) -> 0 | AZ50: =IF(OR(B50="None", B50=""), 0, 1) -> 0 | BA50: =IF(OR(M50="None", M50=""), 0, 1) -> 0 | BC50: =IF($B50="None", 1, 0) -> 0 | BD50: =COUNTIF($D50:$I50, "") -> 6 | BE50: =IF($J50="G", 1, 0) -> 0 | BF50: =IF(SUM(BC50:BE50)=8, 1, 0) -> 0 | BG50: =IF($M50="None", 1, 0) -> 0 | BH50: =COUNTIF($P50:$V50, "") -> 7 | BI50: =IF($W50="G", 1, 0) -> 0 | BJ50: =IF(SUM(BG50:BI50)=9, 1, 0) -> 0 | BL50: =IF($B50="None", 1, 0) -> 0 | BM50: =COUNTIF($D50:$I50, "") -> 6 | BN50: =IF($J50="R", 1, 0) -> 0 | BO50: =IF(SUM(BL50:BN50)=8, 1, 0) -> 0 | BP50: =IF($M50="None", 1, 0) -> 0 | BQ50: =COUNTIF($P50:$V50, "") -> 7 | BR50: =IF($W50="R", 1, 0) -> 0 | BS50: =IF(SUM(BP50:BR50)=9, 1, 0) -> 0 | BU50: =IF($B50="None", 1, 0) -> 0 | BV50: =COUNTIF($D50:$I50, "") -> 6 | BW50: =IF($J50="BR", 1, 0) -> 0 | BX50: =IF(SUM(BU50:BW50)=8, 1, 0) -> 0 | BY50: =IF($M50="None", 1, 0) -> 0 | BZ50: =COUNTIF($P50:$V50, "") -> 7 | CA50: =IF($W50="BR", 1, 0) -> 0 | CB50: =IF(SUM(BY50:CA50)=9, 1, 0) -> 0 | CD50: =IF($B50="None", 1, 0) -> 0 | CE50: =COUNTIF($D50:$I50, "") -> 6 | CF50: =IF($J50="EL", 1, 0) -> 0 | CG50: =IF(SUM(CD50:CF50)=8, 1, 0) -> 0 | CH50: =IF($M50="None", 1, 0) -> 0 | CI50: =COUNTIF($P50:$V50, "") -> 7 | CJ50: =IF($W50="EL", 1, 0) -> 0 | CK50: =IF(SUM(CH50:CJ50)=9, 1, 0) -> 0 | CM50: =IF($B50="None", 1, 0) -> 0 | CN50: =COUNTIF($D50:$I50, "") -> 6 | CO50: =IF($J50="D", 1, 0) -> 0 | CP50: =IF(SUM(CM50:CO50)=8, 1, 0) -> 0 | CQ50: =IF($M50="None", 1, 0) -> 0 | CR50: =COUNTIF($P50:$V50, "") -> 7 | CS50: =IF($W50="D", 1, 0) -> 0 | CT50: =IF(SUM(CQ50:CS50)=9, 1, 0) -> 0 | CV50: =IF($B50="None", 1, 0) -> 0 | CW50: =COUNTIF($D50:$I50, "") -> 6 | CX50: =IF($J50="M", 1, 0) -> 0 | CY50: =IF(SUM(CV50:CX50)=8, 1, 0) -> 0 | CZ50: =IF($M50="None", 1, 0) -> 0 | DA50: =COUNTIF($P50:$V50, "") -> 7 | DB50: =IF($W50="M", 1, 0) -> 0 | DC50: =IF(SUM(CZ50:DB50)=9, 1, 0) -> 0 | DE50: =IF($B50="None", 1, 0) -> 0 | DF50: =COUNTIF($D50:$I50, "") -> 6 | DG50: =IF($J50="LC", 1, 0) -> 0 | DH50: =IF(SUM(DE50:DG50)=8, 1, 0) -> 0 | DI50: =IF($M50="None", 1, 0) -> 0 | DJ50: =COUNTIF($P50:$V50, "") -> 7 | DK50: =IF($W50="LC", 1, 0) -> 0 | DL50: =IF(SUM(DI50:DK50)=9, 1, 0) -> 0 | DN50: =IF($B50="None", 1, 0) -> 0 | DO50: =IF($D50="L", 1, 0) -> 0 | DP50: =IF(SUM(DN50:DO50)=2, 1, 0) -> 0 | DQ50: =IF($M50="None", 1, 0) -> 0 | DR50: =IF($P50="L", 1, 0) -> 0 | DS50: =IF(SUM(DQ50:DR50)=2, 1, 0) -> 0 | DU50: =IF($B50="None", 1, 0) -> 0 | DV50: =IF($D50="WL", 1, 0) -> 0 | DW50: =IF(SUM(DU50:DV50)=2, 1, 0) -> 0 | DX50: =IF($M50="None", 1, 0) -> 0 | DY50: =IF($P50="WL", 1, 0) -> 0 | DZ50: =IF(SUM(DX50:DY50)=2, 1, 0) -> 0 | EB50: =IF($B50="None", 1, 0) -> 0 | EC50: =IF($D50="VL", 1, 0) -> 0 | ED50: =IF(SUM(EB50:EC50)=2, 1, 0) -> 0 | EE50: =IF($M50="None", 1, 0) -> 0 | EF50: =IF($P50="VL", 1, 0) -> 0 | EG50: =IF(SUM(EE50:EF50)=2, 1, 0) -> 0
A51: 45 | L51: 95 | AQ51: =IF(B51="None", 1, 0) -> 0 | AR51: =COUNTIF(D51:I51, "") -> 6 | AS51: =IF(J51="S", 1, 0) -> 0 | AT51: =IF(SUM(AQ51:AS51)=8, 1, 0) -> 0 | AU51: =IF(M51="None", 1, 0) -> 0 | AV51: =COUNTIF(P51:V51, "") -> 7 | AW51: =IF(W51="S", 1, 0) -> 0 | AX51: =IF(SUM(AU51:AW51)=9, 1, 0) -> 0 | AZ51: =IF(OR(B51="None", B51=""), 0, 1) -> 0 | BA51: =IF(OR(M51="None", M51=""), 0, 1) -> 0 | BC51: =IF($B51="None", 1, 0) -> 0 | BD51: =COUNTIF($D51:$I51, "") -> 6 | BE51: =IF($J51="G", 1, 0) -> 0 | BF51: =IF(SUM(BC51:BE51)=8, 1, 0) -> 0 | BG51: =IF($M51="None", 1, 0) -> 0 | BH51: =COUNTIF($P51:$V51, "") -> 7 | BI51: =IF($W51="G", 1, 0) -> 0 | BJ51: =IF(SUM(BG51:BI51)=9, 1, 0) -> 0 | BL51: =IF($B51="None", 1, 0) -> 0 | BM51: =COUNTIF($D51:$I51, "") -> 6 | BN51: =IF($J51="R", 1, 0) -> 0 | BO51: =IF(SUM(BL51:BN51)=8, 1, 0) -> 0 | BP51: =IF($M51="None", 1, 0) -> 0 | BQ51: =COUNTIF($P51:$V51, "") -> 7 | BR51: =IF($W51="R", 1, 0) -> 0 | BS51: =IF(SUM(BP51:BR51)=9, 1, 0) -> 0 | BU51: =IF($B51="None", 1, 0) -> 0 | BV51: =COUNTIF($D51:$I51, "") -> 6 | BW51: =IF($J51="BR", 1, 0) -> 0 | BX51: =IF(SUM(BU51:BW51)=8, 1, 0) -> 0 | BY51: =IF($M51="None", 1, 0) -> 0 | BZ51: =COUNTIF($P51:$V51, "") -> 7 | CA51: =IF($W51="BR", 1, 0) -> 0 | CB51: =IF(SUM(BY51:CA51)=9, 1, 0) -> 0 | CD51: =IF($B51="None", 1, 0) -> 0 | CE51: =COUNTIF($D51:$I51, "") -> 6 | CF51: =IF($J51="EL", 1, 0) -> 0 | CG51: =IF(SUM(CD51:CF51)=8, 1, 0) -> 0 | CH51: =IF($M51="None", 1, 0) -> 0 | CI51: =COUNTIF($P51:$V51, "") -> 7 | CJ51: =IF($W51="EL", 1, 0) -> 0 | CK51: =IF(SUM(CH51:CJ51)=9, 1, 0) -> 0 | CM51: =IF($B51="None", 1, 0) -> 0 | CN51: =COUNTIF($D51:$I51, "") -> 6 | CO51: =IF($J51="D", 1, 0) -> 0 | CP51: =IF(SUM(CM51:CO51)=8, 1, 0) -> 0 | CQ51: =IF($M51="None", 1, 0) -> 0 | CR51: =COUNTIF($P51:$V51, "") -> 7 | CS51: =IF($W51="D", 1, 0) -> 0 | CT51: =IF(SUM(CQ51:CS51)=9, 1, 0) -> 0 | CV51: =IF($B51="None", 1, 0) -> 0 | CW51: =COUNTIF($D51:$I51, "") -> 6 | CX51: =IF($J51="M", 1, 0) -> 0 | CY51: =IF(SUM(CV51:CX51)=8, 1, 0) -> 0 | CZ51: =IF($M51="None", 1, 0) -> 0 | DA51: =COUNTIF($P51:$V51, "") -> 7 | DB51: =IF($W51="M", 1, 0) -> 0 | DC51: =IF(SUM(CZ51:DB51)=9, 1, 0) -> 0 | DE51: =IF($B51="None", 1, 0) -> 0 | DF51: =COUNTIF($D51:$I51, "") -> 6 | DG51: =IF($J51="LC", 1, 0) -> 0 | DH51: =IF(SUM(DE51:DG51)=8, 1, 0) -> 0 | DI51: =IF($M51="None", 1, 0) -> 0 | DJ51: =COUNTIF($P51:$V51, "") -> 7 | DK51: =IF($W51="LC", 1, 0) -> 0 | DL51: =IF(SUM(DI51:DK51)=9, 1, 0) -> 0 | DN51: =IF($B51="None", 1, 0) -> 0 | DO51: =IF($D51="L", 1, 0) -> 0 | DP51: =IF(SUM(DN51:DO51)=2, 1, 0) -> 0 | DQ51: =IF($M51="None", 1, 0) -> 0 | DR51: =IF($P51="L", 1, 0) -> 0 | DS51: =IF(SUM(DQ51:DR51)=2, 1, 0) -> 0 | DU51: =IF($B51="None", 1, 0) -> 0 | DV51: =IF($D51="WL", 1, 0) -> 0 | DW51: =IF(SUM(DU51:DV51)=2, 1, 0) -> 0 | DX51: =IF($M51="None", 1, 0) -> 0 | DY51: =IF($P51="WL", 1, 0) -> 0 | DZ51: =IF(SUM(DX51:DY51)=2, 1, 0) -> 0 | EB51: =IF($B51="None", 1, 0) -> 0 | EC51: =IF($D51="VL", 1, 0) -> 0 | ED51: =IF(SUM(EB51:EC51)=2, 1, 0) -> 0 | EE51: =IF($M51="None", 1, 0) -> 0 | EF51: =IF($P51="VL", 1, 0) -> 0 | EG51: =IF(SUM(EE51:EF51)=2, 1, 0) -> 0
A52: 46 | L52: 96 | AQ52: =IF(B52="None", 1, 0) -> 0 | AR52: =COUNTIF(D52:I52, "") -> 6 | AS52: =IF(J52="S", 1, 0) -> 0 | AT52: =IF(SUM(AQ52:AS52)=8, 1, 0) -> 0 | AU52: =IF(M52="None", 1, 0) -> 0 | AV52: =COUNTIF(P52:V52, "") -> 7 | AW52: =IF(W52="S", 1, 0) -> 0 | AX52: =IF(SUM(AU52:AW52)=9, 1, 0) -> 0 | AZ52: =IF(OR(B52="None", B52=""), 0, 1) -> 0 | BA52: =IF(OR(M52="None", M52=""), 0, 1) -> 0 | BC52: =IF($B52="None", 1, 0) -> 0 | BD52: =COUNTIF($D52:$I52, "") -> 6 | BE52: =IF($J52="G", 1, 0) -> 0 | BF52: =IF(SUM(BC52:BE52)=8, 1, 0) -> 0 | BG52: =IF($M52="None", 1, 0) -> 0 | BH52: =COUNTIF($P52:$V52, "") -> 7 | BI52: =IF($W52="G", 1, 0) -> 0 | BJ52: =IF(SUM(BG52:BI52)=9, 1, 0) -> 0 | BL52: =IF($B52="None", 1, 0) -> 0 | BM52: =COUNTIF($D52:$I52, "") -> 6 | BN52: =IF($J52="R", 1, 0) -> 0 | BO52: =IF(SUM(BL52:BN52)=8, 1, 0) -> 0 | BP52: =IF($M52="None", 1, 0) -> 0 | BQ52: =COUNTIF($P52:$V52, "") -> 7 | BR52: =IF($W52="R", 1, 0) -> 0 | BS52: =IF(SUM(BP52:BR52)=9, 1, 0) -> 0 | BU52: =IF($B52="None", 1, 0) -> 0 | BV52: =COUNTIF($D52:$I52, "") -> 6 | BW52: =IF($J52="BR", 1, 0) -> 0 | BX52: =IF(SUM(BU52:BW52)=8, 1, 0) -> 0 | BY52: =IF($M52="None", 1, 0) -> 0 | BZ52: =COUNTIF($P52:$V52, "") -> 7 | CA52: =IF($W52="BR", 1, 0) -> 0 | CB52: =IF(SUM(BY52:CA52)=9, 1, 0) -> 0 | CD52: =IF($B52="None", 1, 0) -> 0 | CE52: =COUNTIF($D52:$I52, "") -> 6 | CF52: =IF($J52="EL", 1, 0) -> 0 | CG52: =IF(SUM(CD52:CF52)=8, 1, 0) -> 0 | CH52: =IF($M52="None", 1, 0) -> 0 | CI52: =COUNTIF($P52:$V52, "") -> 7 | CJ52: =IF($W52="EL", 1, 0) -> 0 | CK52: =IF(SUM(CH52:CJ52)=9, 1, 0) -> 0 | CM52: =IF($B52="None", 1, 0) -> 0 | CN52: =COUNTIF($D52:$I52, "") -> 6 | CO52: =IF($J52="D", 1, 0) -> 0 | CP52: =IF(SUM(CM52:CO52)=8, 1, 0) -> 0 | CQ52: =IF($M52="None", 1, 0) -> 0 | CR52: =COUNTIF($P52:$V52, "") -> 7 | CS52: =IF($W52="D", 1, 0) -> 0 | CT52: =IF(SUM(CQ52:CS52)=9, 1, 0) -> 0 | CV52: =IF($B52="None", 1, 0) -> 0 | CW52: =COUNTIF($D52:$I52, "") -> 6 | CX52: =IF($J52="M", 1, 0) -> 0 | CY52: =IF(SUM(CV52:CX52)=8, 1, 0) -> 0 | CZ52: =IF($M52="None", 1, 0) -> 0 | DA52: =COUNTIF($P52:$V52, "") -> 7 | DB52: =IF($W52="M", 1, 0) -> 0 | DC52: =IF(SUM(CZ52:DB52)=9, 1, 0) -> 0 | DE52: =IF($B52="None", 1, 0) -> 0 | DF52: =COUNTIF($D52:$I52, "") -> 6 | DG52: =IF($J52="LC", 1, 0) -> 0 | DH52: =IF(SUM(DE52:DG52)=8, 1, 0) -> 0 | DI52: =IF($M52="None", 1, 0) -> 0 | DJ52: =COUNTIF($P52:$V52, "") -> 7 | DK52: =IF($W52="LC", 1, 0) -> 0 | DL52: =IF(SUM(DI52:DK52)=9, 1, 0) -> 0 | DN52: =IF($B52="None", 1, 0) -> 0 | DO52: =IF($D52="L", 1, 0) -> 0 | DP52: =IF(SUM(DN52:DO52)=2, 1, 0) -> 0 | DQ52: =IF($M52="None", 1, 0) -> 0 | DR52: =IF($P52="L", 1, 0) -> 0 | DS52: =IF(SUM(DQ52:DR52)=2, 1, 0) -> 0 | DU52: =IF($B52="None", 1, 0) -> 0 | DV52: =IF($D52="WL", 1, 0) -> 0 | DW52: =IF(SUM(DU52:DV52)=2, 1, 0) -> 0 | DX52: =IF($M52="None", 1, 0) -> 0 | DY52: =IF($P52="WL", 1, 0) -> 0 | DZ52: =IF(SUM(DX52:DY52)=2, 1, 0) -> 0 | EB52: =IF($B52="None", 1, 0) -> 0 | EC52: =IF($D52="VL", 1, 0) -> 0 | ED52: =IF(SUM(EB52:EC52)=2, 1, 0) -> 0 | EE52: =IF($M52="None", 1, 0) -> 0 | EF52: =IF($P52="VL", 1, 0) -> 0 | EG52: =IF(SUM(EE52:EF52)=2, 1, 0) -> 0
A53: 47 | L53: 97 | AQ53: =IF(B53="None", 1, 0) -> 0 | AR53: =COUNTIF(D53:I53, "") -> 6 | AS53: =IF(J53="S", 1, 0) -> 0 | AT53: =IF(SUM(AQ53:AS53)=8, 1, 0) -> 0 | AU53: =IF(M53="None", 1, 0) -> 0 | AV53: =COUNTIF(P53:V53, "") -> 7 | AW53: =IF(W53="S", 1, 0) -> 0 | AX53: =IF(SUM(AU53:AW53)=9, 1, 0) -> 0 | AZ53: =IF(OR(B53="None", B53=""), 0, 1) -> 0 | BA53: =IF(OR(M53="None", M53=""), 0, 1) -> 0 | BC53: =IF($B53="None", 1, 0) -> 0 | BD53: =COUNTIF($D53:$I53, "") -> 6 | BE53: =IF($J53="G", 1, 0) -> 0 | BF53: =IF(SUM(BC53:BE53)=8, 1, 0) -> 0 | BG53: =IF($M53="None", 1, 0) -> 0 | BH53: =COUNTIF($P53:$V53, "") -> 7 | BI53: =IF($W53="G", 1, 0) -> 0 | BJ53: =IF(SUM(BG53:BI53)=9, 1, 0) -> 0 | BL53: =IF($B53="None", 1, 0) -> 0 | BM53: =COUNTIF($D53:$I53, "") -> 6 | BN53: =IF($J53="R", 1, 0) -> 0 | BO53: =IF(SUM(BL53:BN53)=8, 1, 0) -> 0 | BP53: =IF($M53="None", 1, 0) -> 0 | BQ53: =COUNTIF($P53:$V53, "") -> 7 | BR53: =IF($W53="R", 1, 0) -> 0 | BS53: =IF(SUM(BP53:BR53)=9, 1, 0) -> 0 | BU53: =IF($B53="None", 1, 0) -> 0 | BV53: =COUNTIF($D53:$I53, "") -> 6 | BW53: =IF($J53="BR", 1, 0) -> 0 | BX53: =IF(SUM(BU53:BW53)=8, 1, 0) -> 0 | BY53: =IF($M53="None", 1, 0) -> 0 | BZ53: =COUNTIF($P53:$V53, "") -> 7 | CA53: =IF($W53="BR", 1, 0) -> 0 | CB53: =IF(SUM(BY53:CA53)=9, 1, 0) -> 0 | CD53: =IF($B53="None", 1, 0) -> 0 | CE53: =COUNTIF($D53:$I53, "") -> 6 | CF53: =IF($J53="EL", 1, 0) -> 0 | CG53: =IF(SUM(CD53:CF53)=8, 1, 0) -> 0 | CH53: =IF($M53="None", 1, 0) -> 0 | CI53: =COUNTIF($P53:$V53, "") -> 7 | CJ53: =IF($W53="EL", 1, 0) -> 0 | CK53: =IF(SUM(CH53:CJ53)=9, 1, 0) -> 0 | CM53: =IF($B53="None", 1, 0) -> 0 | CN53: =COUNTIF($D53:$I53, "") -> 6 | CO53: =IF($J53="D", 1, 0) -> 0 | CP53: =IF(SUM(CM53:CO53)=8, 1, 0) -> 0 | CQ53: =IF($M53="None", 1, 0) -> 0 | CR53: =COUNTIF($P53:$V53, "") -> 7 | CS53: =IF($W53="D", 1, 0) -> 0 | CT53: =IF(SUM(CQ53:CS53)=9, 1, 0) -> 0 | CV53: =IF($B53="None", 1, 0) -> 0 | CW53: =COUNTIF($D53:$I53, "") -> 6 | CX53: =IF($J53="M", 1, 0) -> 0 | CY53: =IF(SUM(CV53:CX53)=8, 1, 0) -> 0 | CZ53: =IF($M53="None", 1, 0) -> 0 | DA53: =COUNTIF($P53:$V53, "") -> 7 | DB53: =IF($W53="M", 1, 0) -> 0 | DC53: =IF(SUM(CZ53:DB53)=9, 1, 0) -> 0 | DE53: =IF($B53="None", 1, 0) -> 0 | DF53: =COUNTIF($D53:$I53, "") -> 6 | DG53: =IF($J53="LC", 1, 0) -> 0 | DH53: =IF(SUM(DE53:DG53)=8, 1, 0) -> 0 | DI53: =IF($M53="None", 1, 0) -> 0 | DJ53: =COUNTIF($P53:$V53, "") -> 7 | DK53: =IF($W53="LC", 1, 0) -> 0 | DL53: =IF(SUM(DI53:DK53)=9, 1, 0) -> 0 | DN53: =IF($B53="None", 1, 0) -> 0 | DO53: =IF($D53="L", 1, 0) -> 0 | DP53: =IF(SUM(DN53:DO53)=2, 1, 0) -> 0 | DQ53: =IF($M53="None", 1, 0) -> 0 | DR53: =IF($P53="L", 1, 0) -> 0 | DS53: =IF(SUM(DQ53:DR53)=2, 1, 0) -> 0 | DU53: =IF($B53="None", 1, 0) -> 0 | DV53: =IF($D53="WL", 1, 0) -> 0 | DW53: =IF(SUM(DU53:DV53)=2, 1, 0) -> 0 | DX53: =IF($M53="None", 1, 0) -> 0 | DY53: =IF($P53="WL", 1, 0) -> 0 | DZ53: =IF(SUM(DX53:DY53)=2, 1, 0) -> 0 | EB53: =IF($B53="None", 1, 0) -> 0 | EC53: =IF($D53="VL", 1, 0) -> 0 | ED53: =IF(SUM(EB53:EC53)=2, 1, 0) -> 0 | EE53: =IF($M53="None", 1, 0) -> 0 | EF53: =IF($P53="VL", 1, 0) -> 0 | EG53: =IF(SUM(EE53:EF53)=2, 1, 0) -> 0
A54: 48 | L54: 98 | AQ54: =IF(B54="None", 1, 0) -> 0 | AR54: =COUNTIF(D54:I54, "") -> 6 | AS54: =IF(J54="S", 1, 0) -> 0 | AT54: =IF(SUM(AQ54:AS54)=8, 1, 0) -> 0 | AU54: =IF(M54="None", 1, 0) -> 0 | AV54: =COUNTIF(P54:V54, "") -> 7 | AW54: =IF(W54="S", 1, 0) -> 0 | AX54: =IF(SUM(AU54:AW54)=9, 1, 0) -> 0 | AZ54: =IF(OR(B54="None", B54=""), 0, 1) -> 0 | BA54: =IF(OR(M54="None", M54=""), 0, 1) -> 0 | BC54: =IF($B54="None", 1, 0) -> 0 | BD54: =COUNTIF($D54:$I54, "") -> 6 | BE54: =IF($J54="G", 1, 0) -> 0 | BF54: =IF(SUM(BC54:BE54)=8, 1, 0) -> 0 | BG54: =IF($M54="None", 1, 0) -> 0 | BH54: =COUNTIF($P54:$V54, "") -> 7 | BI54: =IF($W54="G", 1, 0) -> 0 | BJ54: =IF(SUM(BG54:BI54)=9, 1, 0) -> 0 | BL54: =IF($B54="None", 1, 0) -> 0 | BM54: =COUNTIF($D54:$I54, "") -> 6 | BN54: =IF($J54="R", 1, 0) -> 0 | BO54: =IF(SUM(BL54:BN54)=8, 1, 0) -> 0 | BP54: =IF($M54="None", 1, 0) -> 0 | BQ54: =COUNTIF($P54:$V54, "") -> 7 | BR54: =IF($W54="R", 1, 0) -> 0 | BS54: =IF(SUM(BP54:BR54)=9, 1, 0) -> 0 | BU54: =IF($B54="None", 1, 0) -> 0 | BV54: =COUNTIF($D54:$I54, "") -> 6 | BW54: =IF($J54="BR", 1, 0) -> 0 | BX54: =IF(SUM(BU54:BW54)=8, 1, 0) -> 0 | BY54: =IF($M54="None", 1, 0) -> 0 | BZ54: =COUNTIF($P54:$V54, "") -> 7 | CA54: =IF($W54="BR", 1, 0) -> 0 | CB54: =IF(SUM(BY54:CA54)=9, 1, 0) -> 0 | CD54: =IF($B54="None", 1, 0) -> 0 | CE54: =COUNTIF($D54:$I54, "") -> 6 | CF54: =IF($J54="EL", 1, 0) -> 0 | CG54: =IF(SUM(CD54:CF54)=8, 1, 0) -> 0 | CH54: =IF($M54="None", 1, 0) -> 0 | CI54: =COUNTIF($P54:$V54, "") -> 7 | CJ54: =IF($W54="EL", 1, 0) -> 0 | CK54: =IF(SUM(CH54:CJ54)=9, 1, 0) -> 0 | CM54: =IF($B54="None", 1, 0) -> 0 | CN54: =COUNTIF($D54:$I54, "") -> 6 | CO54: =IF($J54="D", 1, 0) -> 0 | CP54: =IF(SUM(CM54:CO54)=8, 1, 0) -> 0 | CQ54: =IF($M54="None", 1, 0) -> 0 | CR54: =COUNTIF($P54:$V54, "") -> 7 | CS54: =IF($W54="D", 1, 0) -> 0 | CT54: =IF(SUM(CQ54:CS54)=9, 1, 0) -> 0 | CV54: =IF($B54="None", 1, 0) -> 0 | CW54: =COUNTIF($D54:$I54, "") -> 6 | CX54: =IF($J54="M", 1, 0) -> 0 | CY54: =IF(SUM(CV54:CX54)=8, 1, 0) -> 0 | CZ54: =IF($M54="None", 1, 0) -> 0 | DA54: =COUNTIF($P54:$V54, "") -> 7 | DB54: =IF($W54="M", 1, 0) -> 0 | DC54: =IF(SUM(CZ54:DB54)=9, 1, 0) -> 0 | DE54: =IF($B54="None", 1, 0) -> 0 | DF54: =COUNTIF($D54:$I54, "") -> 6 | DG54: =IF($J54="LC", 1, 0) -> 0 | DH54: =IF(SUM(DE54:DG54)=8, 1, 0) -> 0 | DI54: =IF($M54="None", 1, 0) -> 0 | DJ54: =COUNTIF($P54:$V54, "") -> 7 | DK54: =IF($W54="LC", 1, 0) -> 0 | DL54: =IF(SUM(DI54:DK54)=9, 1, 0) -> 0 | DN54: =IF($B54="None", 1, 0) -> 0 | DO54: =IF($D54="L", 1, 0) -> 0 | DP54: =IF(SUM(DN54:DO54)=2, 1, 0) -> 0 | DQ54: =IF($M54="None", 1, 0) -> 0 | DR54: =IF($P54="L", 1, 0) -> 0 | DS54: =IF(SUM(DQ54:DR54)=2, 1, 0) -> 0 | DU54: =IF($B54="None", 1, 0) -> 0 | DV54: =IF($D54="WL", 1, 0) -> 0 | DW54: =IF(SUM(DU54:DV54)=2, 1, 0) -> 0 | DX54: =IF($M54="None", 1, 0) -> 0 | DY54: =IF($P54="WL", 1, 0) -> 0 | DZ54: =IF(SUM(DX54:DY54)=2, 1, 0) -> 0 | EB54: =IF($B54="None", 1, 0) -> 0 | EC54: =IF($D54="VL", 1, 0) -> 0 | ED54: =IF(SUM(EB54:EC54)=2, 1, 0) -> 0 | EE54: =IF($M54="None", 1, 0) -> 0 | EF54: =IF($P54="VL", 1, 0) -> 0 | EG54: =IF(SUM(EE54:EF54)=2, 1, 0) -> 0
A55: 49 | L55: 99 | AQ55: =IF(B55="None", 1, 0) -> 0 | AR55: =COUNTIF(D55:I55, "") -> 6 | AS55: =IF(J55="S", 1, 0) -> 0 | AT55: =IF(SUM(AQ55:AS55)=8, 1, 0) -> 0 | AU55: =IF(M55="None", 1, 0) -> 0 | AV55: =COUNTIF(P55:V55, "") -> 7 | AW55: =IF(W55="S", 1, 0) -> 0 | AX55: =IF(SUM(AU55:AW55)=9, 1, 0) -> 0 | AZ55: =IF(OR(B55="None", B55=""), 0, 1) -> 0 | BA55: =IF(OR(M55="None", M55=""), 0, 1) -> 0 | BC55: =IF($B55="None", 1, 0) -> 0 | BD55: =COUNTIF($D55:$I55, "") -> 6 | BE55: =IF($J55="G", 1, 0) -> 0 | BF55: =IF(SUM(BC55:BE55)=8, 1, 0) -> 0 | BG55: =IF($M55="None", 1, 0) -> 0 | BH55: =COUNTIF($P55:$V55, "") -> 7 | BI55: =IF($W55="G", 1, 0) -> 0 | BJ55: =IF(SUM(BG55:BI55)=9, 1, 0) -> 0 | BL55: =IF($B55="None", 1, 0) -> 0 | BM55: =COUNTIF($D55:$I55, "") -> 6 | BN55: =IF($J55="R", 1, 0) -> 0 | BO55: =IF(SUM(BL55:BN55)=8, 1, 0) -> 0 | BP55: =IF($M55="None", 1, 0) -> 0 | BQ55: =COUNTIF($P55:$V55, "") -> 7 | BR55: =IF($W55="R", 1, 0) -> 0 | BS55: =IF(SUM(BP55:BR55)=9, 1, 0) -> 0 | BU55: =IF($B55="None", 1, 0) -> 0 | BV55: =COUNTIF($D55:$I55, "") -> 6 | BW55: =IF($J55="BR", 1, 0) -> 0 | BX55: =IF(SUM(BU55:BW55)=8, 1, 0) -> 0 | BY55: =IF($M55="None", 1, 0) -> 0 | BZ55: =COUNTIF($P55:$V55, "") -> 7 | CA55: =IF($W55="BR", 1, 0) -> 0 | CB55: =IF(SUM(BY55:CA55)=9, 1, 0) -> 0 | CD55: =IF($B55="None", 1, 0) -> 0 | CE55: =COUNTIF($D55:$I55, "") -> 6 | CF55: =IF($J55="EL", 1, 0) -> 0 | CG55: =IF(SUM(CD55:CF55)=8, 1, 0) -> 0 | CH55: =IF($M55="None", 1, 0) -> 0 | CI55: =COUNTIF($P55:$V55, "") -> 7 | CJ55: =IF($W55="EL", 1, 0) -> 0 | CK55: =IF(SUM(CH55:CJ55)=9, 1, 0) -> 0 | CM55: =IF($B55="None", 1, 0) -> 0 | CN55: =COUNTIF($D55:$I55, "") -> 6 | CO55: =IF($J55="D", 1, 0) -> 0 | CP55: =IF(SUM(CM55:CO55)=8, 1, 0) -> 0 | CQ55: =IF($M55="None", 1, 0) -> 0 | CR55: =COUNTIF($P55:$V55, "") -> 7 | CS55: =IF($W55="D", 1, 0) -> 0 | CT55: =IF(SUM(CQ55:CS55)=9, 1, 0) -> 0 | CV55: =IF($B55="None", 1, 0) -> 0 | CW55: =COUNTIF($D55:$I55, "") -> 6 | CX55: =IF($J55="M", 1, 0) -> 0 | CY55: =IF(SUM(CV55:CX55)=8, 1, 0) -> 0 | CZ55: =IF($M55="None", 1, 0) -> 0 | DA55: =COUNTIF($P55:$V55, "") -> 7 | DB55: =IF($W55="M", 1, 0) -> 0 | DC55: =IF(SUM(CZ55:DB55)=9, 1, 0) -> 0 | DE55: =IF($B55="None", 1, 0) -> 0 | DF55: =COUNTIF($D55:$I55, "") -> 6 | DG55: =IF($J55="LC", 1, 0) -> 0 | DH55: =IF(SUM(DE55:DG55)=8, 1, 0) -> 0 | DI55: =IF($M55="None", 1, 0) -> 0 | DJ55: =COUNTIF($P55:$V55, "") -> 7 | DK55: =IF($W55="LC", 1, 0) -> 0 | DL55: =IF(SUM(DI55:DK55)=9, 1, 0) -> 0 | DN55: =IF($B55="None", 1, 0) -> 0 | DO55: =IF($D55="L", 1, 0) -> 0 | DP55: =IF(SUM(DN55:DO55)=2, 1, 0) -> 0 | DQ55: =IF($M55="None", 1, 0) -> 0 | DR55: =IF($P55="L", 1, 0) -> 0 | DS55: =IF(SUM(DQ55:DR55)=2, 1, 0) -> 0 | DU55: =IF($B55="None", 1, 0) -> 0 | DV55: =IF($D55="WL", 1, 0) -> 0 | DW55: =IF(SUM(DU55:DV55)=2, 1, 0) -> 0 | DX55: =IF($M55="None", 1, 0) -> 0 | DY55: =IF($P55="WL", 1, 0) -> 0 | DZ55: =IF(SUM(DX55:DY55)=2, 1, 0) -> 0 | EB55: =IF($B55="None", 1, 0) -> 0 | EC55: =IF($D55="VL", 1, 0) -> 0 | ED55: =IF(SUM(EB55:EC55)=2, 1, 0) -> 0 | EE55: =IF($M55="None", 1, 0) -> 0 | EF55: =IF($P55="VL", 1, 0) -> 0 | EG55: =IF(SUM(EE55:EF55)=2, 1, 0) -> 0
A56: 50 | L56: 100 | AQ56: =IF(B56="None", 1, 0) -> 0 | AR56: =COUNTIF(D56:I56, "") -> 6 | AS56: =IF(J56="S", 1, 0) -> 0 | AT56: =IF(SUM(AQ56:AS56)=8, 1, 0) -> 0 | AU56: =IF(M56="None", 1, 0) -> 0 | AV56: =COUNTIF(P56:V56, "") -> 7 | AW56: =IF(W56="S", 1, 0) -> 0 | AX56: =IF(SUM(AU56:AW56)=9, 1, 0) -> 0 | AZ56: =IF(OR(B56="None", B56=""), 0, 1) -> 0 | BA56: =IF(OR(M56="None", M56=""), 0, 1) -> 0 | BC56: =IF($B56="None", 1, 0) -> 0 | BD56: =COUNTIF($D56:$I56, "") -> 6 | BE56: =IF($J56="G", 1, 0) -> 0 | BF56: =IF(SUM(BC56:BE56)=8, 1, 0) -> 0 | BG56: =IF($M56="None", 1, 0) -> 0 | BH56: =COUNTIF($P56:$V56, "") -> 7 | BI56: =IF($W56="G", 1, 0) -> 0 | BJ56: =IF(SUM(BG56:BI56)=9, 1, 0) -> 0 | BL56: =IF($B56="None", 1, 0) -> 0 | BM56: =COUNTIF($D56:$I56, "") -> 6 | BN56: =IF($J56="R", 1, 0) -> 0 | BO56: =IF(SUM(BL56:BN56)=8, 1, 0) -> 0 | BP56: =IF($M56="None", 1, 0) -> 0 | BQ56: =COUNTIF($P56:$V56, "") -> 7 | BR56: =IF($W56="R", 1, 0) -> 0 | BS56: =IF(SUM(BP56:BR56)=9, 1, 0) -> 0 | BU56: =IF($B56="None", 1, 0) -> 0 | BV56: =COUNTIF($D56:$I56, "") -> 6 | BW56: =IF($J56="BR", 1, 0) -> 0 | BX56: =IF(SUM(BU56:BW56)=8, 1, 0) -> 0 | BY56: =IF($M56="None", 1, 0) -> 0 | BZ56: =COUNTIF($P56:$V56, "") -> 7 | CA56: =IF($W56="BR", 1, 0) -> 0 | CB56: =IF(SUM(BY56:CA56)=9, 1, 0) -> 0 | CD56: =IF($B56="None", 1, 0) -> 0 | CE56: =COUNTIF($D56:$I56, "") -> 6 | CF56: =IF($J56="EL", 1, 0) -> 0 | CG56: =IF(SUM(CD56:CF56)=8, 1, 0) -> 0 | CH56: =IF($M56="None", 1, 0) -> 0 | CI56: =COUNTIF($P56:$V56, "") -> 7 | CJ56: =IF($W56="EL", 1, 0) -> 0 | CK56: =IF(SUM(CH56:CJ56)=9, 1, 0) -> 0 | CM56: =IF($B56="None", 1, 0) -> 0 | CN56: =COUNTIF($D56:$I56, "") -> 6 | CO56: =IF($J56="D", 1, 0) -> 0 | CP56: =IF(SUM(CM56:CO56)=8, 1, 0) -> 0 | CQ56: =IF($M56="None", 1, 0) -> 0 | CR56: =COUNTIF($P56:$V56, "") -> 7 | CS56: =IF($W56="D", 1, 0) -> 0 | CT56: =IF(SUM(CQ56:CS56)=9, 1, 0) -> 0 | CV56: =IF($B56="None", 1, 0) -> 0 | CW56: =COUNTIF($D56:$I56, "") -> 6 | CX56: =IF($J56="M", 1, 0) -> 0 | CY56: =IF(SUM(CV56:CX56)=8, 1, 0) -> 0 | CZ56: =IF($M56="None", 1, 0) -> 0 | DA56: =COUNTIF($P56:$V56, "") -> 7 | DB56: =IF($W56="M", 1, 0) -> 0 | DC56: =IF(SUM(CZ56:DB56)=9, 1, 0) -> 0 | DE56: =IF($B56="None", 1, 0) -> 0 | DF56: =COUNTIF($D56:$I56, "") -> 6 | DG56: =IF($J56="LC", 1, 0) -> 0 | DH56: =IF(SUM(DE56:DG56)=8, 1, 0) -> 0 | DI56: =IF($M56="None", 1, 0) -> 0 | DJ56: =COUNTIF($P56:$V56, "") -> 7 | DK56: =IF($W56="LC", 1, 0) -> 0 | DL56: =IF(SUM(DI56:DK56)=9, 1, 0) -> 0 | DN56: =IF($B56="None", 1, 0) -> 0 | DO56: =IF($D56="L", 1, 0) -> 0 | DP56: =IF(SUM(DN56:DO56)=2, 1, 0) -> 0 | DQ56: =IF($M56="None", 1, 0) -> 0 | DR56: =IF($P56="L", 1, 0) -> 0 | DS56: =IF(SUM(DQ56:DR56)=2, 1, 0) -> 0 | DU56: =IF($B56="None", 1, 0) -> 0 | DV56: =IF($D56="WL", 1, 0) -> 0 | DW56: =IF(SUM(DU56:DV56)=2, 1, 0) -> 0 | DX56: =IF($M56="None", 1, 0) -> 0 | DY56: =IF($P56="WL", 1, 0) -> 0 | DZ56: =IF(SUM(DX56:DY56)=2, 1, 0) -> 0 | EB56: =IF($B56="None", 1, 0) -> 0 | EC56: =IF($D56="VL", 1, 0) -> 0 | ED56: =IF(SUM(EB56:EC56)=2, 1, 0) -> 0 | EE56: =IF($M56="None", 1, 0) -> 0 | EF56: =IF($P56="VL", 1, 0) -> 0 | EG56: =IF(SUM(EE56:EF56)=2, 1, 0) -> 0
AS57: total | AT57: =SUM(AT7:AT56) -> 0 | AW57: total | AX57: =SUM(AX7:AX56) -> 0 | AZ57: =SUM(AZ7:AZ56) -> 0 | BA57: =SUM(BA7:BA56) -> 0 | BE57: total | BF57: =SUM(BF7:BF56) -> 0 | BI57: total | BJ57: =SUM(BJ7:BJ56) -> 0 | BN57: total | BO57: =SUM(BO7:BO56) -> 0 | BR57: total | BS57: =SUM(BS7:BS56) -> 0 | BW57: total | BX57: =SUM(BX7:BX56) -> 0 | CA57: total | CB57: =SUM(CB7:CB56) -> 0 | CF57: total | CG57: =SUM(CG7:CG56) -> 0 | CJ57: total | CK57: =SUM(CK7:CK56) -> 0 | CO57: total | CP57: =SUM(CP7:CP56) -> 0 | CS57: total | CT57: =SUM(CT7:CT56) -> 0 | CX57: total | CY57: =SUM(CY7:CY56) -> 0 | DB57: total | DC57: =SUM(DC7:DC56) -> 0 | DG57: total | DH57: =SUM(DH7:DH56) -> 0 | DK57: total | DL57: =SUM(DL7:DL56) -> 0 | DO57: total | DP57: =SUM(DP7:DP56) -> 0 | DR57: total | DS57: =SUM(DS7:DS56) -> 0 | DV57: total | DW57: =SUM(DW7:DW56) -> 0 | DY57: total | DZ57: =SUM(DZ7:DZ56) -> 0 | EC57: total | ED57: =SUM(ED7:ED56) -> 0 | EF57: total | EG57: =SUM(EG7:EG56) -> 0
A60: Example of Formulas Below:
A61: Calculating # | D61: COUNTIF($B$10:$B$59, "POSE")
A62: PG | D62: Top Layer # | G62: Layer 2 # | H62: Layer 3 # | K62: Layer 4 # | N62: Soil | Q62: Top Layer # | T62: Layer 2 # | W62: Layer 3 # | Z62: Layer 4 # | AB62: Soil | AE62: Total Top Layer # | AG62: All Layers
A64: PSSP | D64: =COUNTIF(B$7:B$56, A64) -> 0 | G64: =COUNTIF(D$7:D$56, A64) -> 0 | H64: =COUNTIF(G$7:G$56, A64) -> 0 | I64: =COUNTIF(F$7:H$56, C64) -> 0 | J64: =COUNTIF(G$7:I$56, D64) -> 0 | K64: =COUNTIF(H$7:H$56, A64) -> 0 | N64: =COUNTIF(J$7:J$56, A64) -> 0 | Q64: =COUNTIF(M$7:M$56,A64) -> 0 | T64: =COUNTIF(P$7:P$56, A64) -> 0 | W64: =COUNTIF(R$7:R$56, A64) -> 0 | Z64: =COUNTIF(U$7:U$56, A64) -> 0 | AB64: =COUNTIF(W$7:W$56, A64) -> 0 | AE64: =D64+Q64 -> 0 | AG64: =SUM(D64,G64,H64,K64,N64,Q64,T64,W64,Z64,AB64) -> 0
A65: POSE | D65: =COUNTIF(B$7:B$56, A65) -> 0 | G65: =COUNTIF(D$7:D$56, A65) -> 0 | H65: =COUNTIF(G$7:G$56, A65) -> 0 | I65: =COUNTIF(F$7:H$56, C65) -> 0 | J65: =COUNTIF(G$7:I$56, D65) -> 0 | K65: =COUNTIF(H$7:H$56, A65) -> 0 | N65: =COUNTIF(J$7:J$56, A65) -> 0 | Q65: =COUNTIF(M$7:M$56,A65) -> 0 | T65: =COUNTIF(P$7:P$56, A65) -> 0 | W65: =COUNTIF(R$7:R$56, A65) -> 0 | Z65: =COUNTIF(U$7:U$56, A65) -> 0 | AB65: =COUNTIF(W$7:W$56, A65) -> 0 | AE65: =D65+Q65 -> 0 | AG65: =SUM(D65,G65,H65,K65,N65,Q65,T65,W65,Z65,AB65) -> 0
A66: AGSM | D66: =COUNTIF(B$7:B$56, A66) -> 0 | G66: =COUNTIF(D$7:D$56, A66) -> 0 | H66: =COUNTIF(G$7:G$56, A66) -> 0 | I66: =COUNTIF(F$7:H$56, C66) -> 0 | J66: =COUNTIF(G$7:I$56, D66) -> 0 | K66: =COUNTIF(H$7:H$56, A66) -> 0 | N66: =COUNTIF(J$7:J$56, A66) -> 0 | Q66: =COUNTIF(M$7:M$56,A66) -> 0 | T66: =COUNTIF(P$7:P$56, A66) -> 0 | W66: =COUNTIF(R$7:R$56, A66) -> 0 | Z66: =COUNTIF(U$7:U$56, A66) -> 0 | AB66: =COUNTIF(W$7:W$56, A66) -> 0 | AE66: =D66+Q66 -> 0 | AG66: =SUM(D66,G66,H66,K66,N66,Q66,T66,W66,Z66,AB66) -> 0
A67: ACTH7 | D67: =COUNTIF(B$7:B$56, A67) -> 0 | G67: =COUNTIF(D$7:D$56, A67) -> 0 | H67: =COUNTIF(G$7:G$56, A67) -> 0 | I67: =COUNTIF(F$7:H$56, C67) -> 0 | J67: =COUNTIF(G$7:I$56, D67) -> 0 | K67: =COUNTIF(H$7:H$56, A67) -> 0 | N67: =COUNTIF(J$7:J$56, A67) -> 0 | Q67: =COUNTIF(M$7:M$56,A67) -> 0 | T67: =COUNTIF(P$7:P$56, A67) -> 0 | W67: =COUNTIF(R$7:R$56, A67) -> 0 | Z67: =COUNTIF(U$7:U$56, A67) -> 0 | AB67: =COUNTIF(W$7:W$56, A67) -> 0 | AE67: =D67+Q67 -> 0 | AG67: =SUM(D67,G67,H67,K67,N67,Q67,T67,W67,Z67,AB67) -> 0
A68: FEID | D68: =COUNTIF(B$7:B$56, A68) -> 0 | G68: =COUNTIF(D$7:D$56, A68) -> 0 | H68: =COUNTIF(G$7:G$56, A68) -> 0 | I68: =COUNTIF(F$7:H$56, C68) -> 0 | J68: =COUNTIF(G$7:I$56, D68) -> 0 | K68: =COUNTIF(H$7:H$56, A68) -> 0 | N68: =COUNTIF(J$7:J$56, A68) -> 0 | Q68: =COUNTIF(M$7:M$56,A68) -> 0 | T68: =COUNTIF(P$7:P$56, A68) -> 0 | W68: =COUNTIF(R$7:R$56, A68) -> 0 | Z68: =COUNTIF(U$7:U$56, A68) -> 0 | AB68: =COUNTIF(W$7:W$56, A68) -> 0 | AE68: =D68+Q68 -> 0 | AG68: =SUM(D68,G68,H68,K68,N68,Q68,T68,W68,Z68,AB68) -> 0
A69: ELCI4 | D69: =COUNTIF(B$7:B$56, A69) -> 0 | G69: =COUNTIF(D$7:D$56, A69) -> 0 | H69: =COUNTIF(G$7:G$56, A69) -> 0 | I69: =COUNTIF(F$7:H$56, C69) -> 0 | J69: =COUNTIF(G$7:I$56, D69) -> 0 | K69: =COUNTIF(H$7:H$56, A69) -> 0 | N69: =COUNTIF(J$7:J$56, A69) -> 0 | Q69: =COUNTIF(M$7:M$56,A69) -> 0 | T69: =COUNTIF(P$7:P$56, A69) -> 0 | W69: =COUNTIF(R$7:R$56, A69) -> 0 | Z69: =COUNTIF(U$7:U$56, A69) -> 0 | AB69: =COUNTIF(W$7:W$56, A69) -> 0 | AE69: =D69+Q69 -> 0 | AG69: =SUM(D69,G69,H69,K69,N69,Q69,T69,W69,Z69,AB69) -> 0
A70: AGCR | D70: =COUNTIF(B$7:B$56, A70) -> 0 | G70: =COUNTIF(D$7:D$56, A70) -> 0 | H70: =COUNTIF(G$7:G$56, A70) -> 0 | I70: =COUNTIF(F$7:H$56, C70) -> 0 | J70: =COUNTIF(G$7:I$56, D70) -> 0 | K70: =COUNTIF(H$7:H$56, A70) -> 0 | N70: =COUNTIF(J$7:J$56, A70) -> 0 | Q70: =COUNTIF(M$7:M$56,A70) -> 0 | T70: =COUNTIF(P$7:P$56, A70) -> 0 | W70: =COUNTIF(R$7:R$56, A70) -> 0 | Z70: =COUNTIF(U$7:U$56, A70) -> 0 | AB70: =COUNTIF(W$7:W$56, A70) -> 0 | AE70: =D70+Q70 -> 0 | AG70: =SUM(D70,G70,H70,K70,N70,Q70,T70,W70,Z70,AB70) -> 0
A71: AGSI | D71: =COUNTIF(B$7:B$56, A71) -> 0 | G71: =COUNTIF(D$7:D$56, A71) -> 0 | H71: =COUNTIF(G$7:G$56, A71) -> 0 | I71: =COUNTIF(F$7:H$56, C71) -> 0 | J71: =COUNTIF(G$7:I$56, D71) -> 0 | K71: =COUNTIF(H$7:H$56, A71) -> 0 | N71: =COUNTIF(J$7:J$56, A71) -> 0 | Q71: =COUNTIF(M$7:M$56,A71) -> 0 | T71: =COUNTIF(P$7:P$56, A71) -> 0 | W71: =COUNTIF(R$7:R$56, A71) -> 0 | Z71: =COUNTIF(U$7:U$56, A71) -> 0 | AB71: =COUNTIF(W$7:W$56, A71) -> 0 | AE71: =D71+Q71 -> 0 | AG71: =SUM(D71,G71,H71,K71,N71,Q71,T71,W71,Z71,AB71) -> 0
A72: ELWA2 | D72: =COUNTIF(B$7:B$56, A72) -> 0 | G72: =COUNTIF(D$7:D$56, A72) -> 0 | H72: =COUNTIF(G$7:G$56, A72) -> 0 | I72: =COUNTIF(F$7:H$56, C72) -> 0 | J72: =COUNTIF(G$7:I$56, D72) -> 0 | K72: =COUNTIF(H$7:H$56, A72) -> 0 | N72: =COUNTIF(J$7:J$56, A72) -> 0 | Q72: =COUNTIF(M$7:M$56,A72) -> 0 | T72: =COUNTIF(P$7:P$56, A72) -> 0 | W72: =COUNTIF(R$7:R$56, A72) -> 0 | Z72: =COUNTIF(U$7:U$56, A72) -> 0 | AB72: =COUNTIF(W$7:W$56, A72) -> 0 | AE72: =D72+Q72 -> 0 | AG72: =SUM(D72,G72,H72,K72,N72,Q72,T72,W72,Z72,AB72) -> 0
A73: AGEL | D73: =COUNTIF(B$7:B$56, A73) -> 0 | G73: =COUNTIF(D$7:D$56, A73) -> 0 | H73: =COUNTIF(G$7:G$56, A73) -> 0 | I73: =COUNTIF(F$7:H$56, C73) -> 0 | J73: =COUNTIF(G$7:I$56, D73) -> 0 | K73: =COUNTIF(H$7:H$56, A73) -> 0 | N73: =COUNTIF(J$7:J$56, A73) -> 0 | Q73: =COUNTIF(M$7:M$56,A73) -> 0 | T73: =COUNTIF(P$7:P$56, A73) -> 0 | W73: =COUNTIF(R$7:R$56, A73) -> 0 | Z73: =COUNTIF(U$7:U$56, A73) -> 0 | AB73: =COUNTIF(W$7:W$56, A73) -> 0 | AE73: =D73+Q73 -> 0 | AG73: =SUM(D73,G73,H73,K73,N73,Q73,T73,W73,Z73,AB73) -> 0
A74: POAM | D74: =COUNTIF(B$7:B$56, A74) -> 0 | G74: =COUNTIF(D$7:D$56, A74) -> 0 | H74: =COUNTIF(G$7:G$56, A74) -> 0 | I74: =COUNTIF(F$7:H$56, C74) -> 0 | J74: =COUNTIF(G$7:I$56, D74) -> 0 | K74: =COUNTIF(H$7:H$56, A74) -> 0 | N74: =COUNTIF(J$7:J$56, A74) -> 0 | Q74: =COUNTIF(M$7:M$56,A74) -> 0 | T74: =COUNTIF(P$7:P$56, A74) -> 0 | W74: =COUNTIF(R$7:R$56, A74) -> 0 | Z74: =COUNTIF(U$7:U$56, A74) -> 0 | AB74: =COUNTIF(W$7:W$56, A74) -> 0 | AE74: =D74+Q74 -> 0 | AG74: =SUM(D74,G74,H74,K74,N74,Q74,T74,W74,Z74,AB74) -> 0
D75: =COUNTIF(B$7:B$56, A75) -> 0 | G75: =COUNTIF(D$7:D$56, A75) -> 0 | H75: =COUNTIF(G$7:G$56, A75) -> 0 | I75: =COUNTIF(F$7:H$56, C75) -> 0 | J75: =COUNTIF(G$7:I$56, D75) -> 0 | K75: =COUNTIF(H$7:H$56, A75) -> 0 | N75: =COUNTIF(J$7:J$56, A75) -> 0 | Q75: =COUNTIF(M$7:M$56,A75) -> 0 | T75: =COUNTIF(P$7:P$56, A75) -> 0 | W75: =COUNTIF(R$7:R$56, A75) -> 0 | Z75: =COUNTIF(U$7:U$56, A75) -> 0 | AB75: =COUNTIF(W$7:W$56, A75) -> 0 | AE75: =D75+Q75 -> 0 | AG75: =SUM(D75,G75,H75,K75,N75,Q75,T75,W75,Z75,AB75) -> 0
D76: =COUNTIF(B$7:B$56, A76) -> 0 | G76: =COUNTIF(D$7:D$56, A76) -> 0 | H76: =COUNTIF(G$7:G$56, A76) -> 0 | I76: =COUNTIF(F$7:H$56, C76) -> 0 | J76: =COUNTIF(G$7:I$56, D76) -> 0 | K76: =COUNTIF(H$7:H$56, A76) -> 0 | N76: =COUNTIF(J$7:J$56, A76) -> 0 | Q76: =COUNTIF(M$7:M$56,A76) -> 0 | T76: =COUNTIF(P$7:P$56, A76) -> 0 | W76: =COUNTIF(R$7:R$56, A76) -> 0 | Z76: =COUNTIF(U$7:U$56, A76) -> 0 | AB76: =COUNTIF(W$7:W$56, A76) -> 0 | AE76: =D76+Q76 -> 0 | AG76: =SUM(D76,G76,H76,K76,N76,Q76,T76,W76,Z76,AB76) -> 0
D77: =COUNTIF(B$7:B$56, A77) -> 0 | G77: =COUNTIF(D$7:D$56, A77) -> 0 | H77: =COUNTIF(G$7:G$56, A77) -> 0 | I77: =COUNTIF(F$7:H$56, C77) -> 0 | J77: =COUNTIF(G$7:I$56, D77) -> 0 | K77: =COUNTIF(H$7:H$56, A77) -> 0 | N77: =COUNTIF(J$7:J$56, A77) -> 0 | Q77: =COUNTIF(M$7:M$56,A77) -> 0 | T77: =COUNTIF(P$7:P$56, A77) -> 0 | W77: =COUNTIF(R$7:R$56, A77) -> 0 | Z77: =COUNTIF(U$7:U$56, A77) -> 0 | AB77: =COUNTIF(W$7:W$56, A77) -> 0 | AE77: =D77+Q77 -> 0 | AG77: =SUM(D77,G77,H77,K77,N77,Q77,T77,W77,Z77,AB77) -> 0
D78: =COUNTIF(B$7:B$56, A78) -> 0 | G78: =COUNTIF(D$7:D$56, A78) -> 0 | H78: =COUNTIF(G$7:G$56, A78) -> 0 | I78: =COUNTIF(F$7:H$56, C78) -> 0 | J78: =COUNTIF(G$7:I$56, D78) -> 0 | K78: =COUNTIF(H$7:H$56, A78) -> 0 | N78: =COUNTIF(J$7:J$56, A78) -> 0 | Q78: =COUNTIF(M$7:M$56,A78) -> 0 | T78: =COUNTIF(P$7:P$56, A78) -> 0 | W78: =COUNTIF(R$7:R$56, A78) -> 0 | Z78: =COUNTIF(U$7:U$56, A78) -> 0 | AB78: =COUNTIF(W$7:W$56, A78) -> 0 | AE78: =D78+Q78 -> 0 | AG78: =SUM(D78,G78,H78,K78,N78,Q78,T78,W78,Z78,AB78) -> 0
D79: =COUNTIF(B$7:B$56, A79) -> 0 | G79: =COUNTIF(D$7:D$56, A79) -> 0 | H79: =COUNTIF(G$7:G$56, A79) -> 0 | I79: =COUNTIF(F$7:H$56, C79) -> 0 | J79: =COUNTIF(G$7:I$56, D79) -> 0 | K79: =COUNTIF(H$7:H$56, A79) -> 0 | N79: =COUNTIF(J$7:J$56, A79) -> 0 | Q79: =COUNTIF(M$7:M$56,A79) -> 0 | T79: =COUNTIF(P$7:P$56, A79) -> 0 | W79: =COUNTIF(R$7:R$56, A79) -> 0 | Z79: =COUNTIF(U$7:U$56, A79) -> 0 | AB79: =COUNTIF(W$7:W$56, A79) -> 0 | AE79: =D79+Q79 -> 0 | AG79: =SUM(D79,G79,H79,K79,N79,Q79,T79,W79,Z79,AB79) -> 0
D80: =COUNTIF(B$7:B$56, A80) -> 0 | G80: =COUNTIF(D$7:D$56, A80) -> 0 | H80: =COUNTIF(G$7:G$56, A80) -> 0 | I80: =COUNTIF(F$7:H$56, C80) -> 0 | J80: =COUNTIF(G$7:I$56, D80) -> 0 | K80: =COUNTIF(H$7:H$56, A80) -> 0 | N80: =COUNTIF(J$7:J$56, A80) -> 0 | Q80: =COUNTIF(M$7:M$56,A80) -> 0 | T80: =COUNTIF(P$7:P$56, A80) -> 0 | W80: =COUNTIF(R$7:R$56, A80) -> 0 | Z80: =COUNTIF(U$7:U$56, A80) -> 0 | AB80: =COUNTIF(W$7:W$56, A80) -> 0 | AE80: =D80+Q80 -> 0 | AG80: =SUM(D80,G80,H80,K80,N80,Q80,T80,W80,Z80,AB80) -> 0
A81: AG
A82: BRTE | D82: =COUNTIF(B$7:B$56, A82) -> 0 | G82: =COUNTIF(D$7:D$56, A82) -> 0 | H82: =COUNTIF(G$7:G$56, A82) -> 0 | I82: =COUNTIF(F$7:H$56, C82) -> 0 | J82: =COUNTIF(G$7:I$56, D82) -> 0 | K82: =COUNTIF(H$7:H$56, A82) -> 0 | N82: =COUNTIF(J$7:J$56, A82) -> 0 | Q82: =COUNTIF(M$7:M$56,A82) -> 0 | T82: =COUNTIF(P$7:P$56, A82) -> 0 | W82: =COUNTIF(R$7:R$56, A82) -> 0 | Z82: =COUNTIF(U$7:U$56, A82) -> 0 | AB82: =COUNTIF(W$7:W$56, A82) -> 0 | AE82: =D82+Q82 -> 0 | AG82: =SUM(D82,G82,H82,K82,N82,Q82,T82,W82,Z82,AB82) -> 0
A83: VUOC | D83: =COUNTIF(B$7:B$56, A83) -> 0 | G83: =COUNTIF(D$7:D$56, A83) -> 0 | H83: =COUNTIF(G$7:G$56, A83) -> 0 | I83: =COUNTIF(F$7:H$56, C83) -> 0 | J83: =COUNTIF(G$7:I$56, D83) -> 0 | K83: =COUNTIF(H$7:H$56, A83) -> 0 | N83: =COUNTIF(J$7:J$56, A83) -> 0 | Q83: =COUNTIF(M$7:M$56,A83) -> 0 | T83: =COUNTIF(P$7:P$56, A83) -> 0 | W83: =COUNTIF(R$7:R$56, A83) -> 0 | Z83: =COUNTIF(U$7:U$56, A83) -> 0 | AB83: =COUNTIF(W$7:W$56, A83) -> 0 | AE83: =D83+Q83 -> 0 | AG83: =SUM(D83,G83,H83,K83,N83,Q83,T83,W83,Z83,AB83) -> 0
A84: BRJA | D84: =COUNTIF(B$7:B$56, A84) -> 0 | G84: =COUNTIF(D$7:D$56, A84) -> 0 | H84: =COUNTIF(G$7:G$56, A84) -> 0 | I84: =COUNTIF(F$7:H$56, C84) -> 0 | J84: =COUNTIF(G$7:I$56, D84) -> 0 | K84: =COUNTIF(H$7:H$56, A84) -> 0 | N84: =COUNTIF(J$7:J$56, A84) -> 0 | Q84: =COUNTIF(M$7:M$56,A84) -> 0 | T84: =COUNTIF(P$7:P$56, A84) -> 0 | W84: =COUNTIF(R$7:R$56, A84) -> 0 | Z84: =COUNTIF(U$7:U$56, A84) -> 0 | AB84: =COUNTIF(W$7:W$56, A84) -> 0 | AE84: =D84+Q84 -> 0 | AG84: =SUM(D84,G84,H84,K84,N84,Q84,T84,W84,Z84,AB84) -> 0
D85: =COUNTIF(B$7:B$56, A85) -> 0 | G85: =COUNTIF(D$7:D$56, A85) -> 0 | H85: =COUNTIF(G$7:G$56, A85) -> 0 | I85: =COUNTIF(F$7:H$56, C85) -> 0 | J85: =COUNTIF(G$7:I$56, D85) -> 0 | K85: =COUNTIF(H$7:H$56, A85) -> 0 | N85: =COUNTIF(J$7:J$56, A85) -> 0 | Q85: =COUNTIF(M$7:M$56,A85) -> 0 | T85: =COUNTIF(P$7:P$56, A85) -> 0 | W85: =COUNTIF(R$7:R$56, A85) -> 0 | Z85: =COUNTIF(U$7:U$56, A85) -> 0 | AB85: =COUNTIF(W$7:W$56, A85) -> 0 | AE85: =D85+Q85 -> 0 | AG85: =SUM(D85,G85,H85,K85,N85,Q85,T85,W85,Z85,AB85) -> 0
D86: =COUNTIF(B$7:B$56, A86) -> 0 | G86: =COUNTIF(D$7:D$56, A86) -> 0 | H86: =COUNTIF(G$7:G$56, A86) -> 0 | I86: =COUNTIF(F$7:H$56, C86) -> 0 | J86: =COUNTIF(G$7:I$56, D86) -> 0 | K86: =COUNTIF(H$7:H$56, A86) -> 0 | N86: =COUNTIF(J$7:J$56, A86) -> 0 | Q86: =COUNTIF(M$7:M$56,A86) -> 0 | T86: =COUNTIF(P$7:P$56, A86) -> 0 | W86: =COUNTIF(R$7:R$56, A86) -> 0 | Z86: =COUNTIF(U$7:U$56, A86) -> 0 | AB86: =COUNTIF(W$7:W$56, A86) -> 0 | AE86: =D86+Q86 -> 0 | AG86: =SUM(D86,G86,H86,K86,N86,Q86,T86,W86,Z86,AB86) -> 0
D87: =COUNTIF(B$7:B$56, A87) -> 0 | G87: =COUNTIF(D$7:D$56, A87) -> 0 | H87: =COUNTIF(G$7:G$56, A87) -> 0 | I87: =COUNTIF(F$7:H$56, C87) -> 0 | J87: =COUNTIF(G$7:I$56, D87) -> 0 | K87: =COUNTIF(H$7:H$56, A87) -> 0 | N87: =COUNTIF(J$7:J$56, A87) -> 0 | Q87: =COUNTIF(M$7:M$56,A87) -> 0 | T87: =COUNTIF(P$7:P$56, A87) -> 0 | W87: =COUNTIF(R$7:R$56, A87) -> 0 | Z87: =COUNTIF(U$7:U$56, A87) -> 0 | AB87: =COUNTIF(W$7:W$56, A87) -> 0 | AE87: =D87+Q87 -> 0 | AG87: =SUM(D87,G87,H87,K87,N87,Q87,T87,W87,Z87,AB87) -> 0
A88: AF
A89: COPA3 | D89: =COUNTIF(B$7:B$56, A89) -> 0 | G89: =COUNTIF(D$7:D$56, A89) -> 0 | H89: =COUNTIF(G$7:G$56, A89) -> 0 | I89: =COUNTIF(F$7:H$56, C89) -> 0 | J89: =COUNTIF(G$7:I$56, D89) -> 0 | K89: =COUNTIF(H$7:H$56, A89) -> 0 | N89: =COUNTIF(J$7:J$56, A89) -> 0 | Q89: =COUNTIF(M$7:M$56,A89) -> 0 | T89: =COUNTIF(P$7:P$56, A89) -> 0 | W89: =COUNTIF(R$7:R$56, A89) -> 0 | Z89: =COUNTIF(U$7:U$56, A89) -> 0 | AB89: =COUNTIF(W$7:W$56, A89) -> 0 | AE89: =D89+Q89 -> 0 | AG89: =SUM(D89,G89,H89,K89,N89,Q89,T89,W89,Z89,AB89) -> 0
A90: LASE | D90: =COUNTIF(B$7:B$56, A90) -> 0 | G90: =COUNTIF(D$7:D$56, A90) -> 0 | H90: =COUNTIF(G$7:G$56, A90) -> 0 | I90: =COUNTIF(F$7:H$56, C90) -> 0 | J90: =COUNTIF(G$7:I$56, D90) -> 0 | K90: =COUNTIF(H$7:H$56, A90) -> 0 | N90: =COUNTIF(J$7:J$56, A90) -> 0 | Q90: =COUNTIF(M$7:M$56,A90) -> 0 | T90: =COUNTIF(P$7:P$56, A90) -> 0 | W90: =COUNTIF(R$7:R$56, A90) -> 0 | Z90: =COUNTIF(U$7:U$56, A90) -> 0 | AB90: =COUNTIF(W$7:W$56, A90) -> 0 | AE90: =D90+Q90 -> 0 | AG90: =SUM(D90,G90,H90,K90,N90,Q90,T90,W90,Z90,AB90) -> 0
A91: KOSC | D91: =COUNTIF(B$7:B$56, A91) -> 0 | G91: =COUNTIF(D$7:D$56, A91) -> 0 | H91: =COUNTIF(G$7:G$56, A91) -> 0 | I91: =COUNTIF(F$7:H$56, C91) -> 0 | J91: =COUNTIF(G$7:I$56, D91) -> 0 | K91: =COUNTIF(H$7:H$56, A91) -> 0 | N91: =COUNTIF(J$7:J$56, A91) -> 0 | Q91: =COUNTIF(M$7:M$56,A91) -> 0 | T91: =COUNTIF(P$7:P$56, A91) -> 0 | W91: =COUNTIF(R$7:R$56, A91) -> 0 | Z91: =COUNTIF(U$7:U$56, A91) -> 0 | AB91: =COUNTIF(W$7:W$56, A91) -> 0 | AE91: =D91+Q91 -> 0 | AG91: =SUM(D91,G91,H91,K91,N91,Q91,T91,W91,Z91,AB91) -> 0
A92: TRDU | D92: =COUNTIF(B$7:B$56, A92) -> 0 | G92: =COUNTIF(D$7:D$56, A92) -> 0 | H92: =COUNTIF(G$7:G$56, A92) -> 0 | I92: =COUNTIF(F$7:H$56, C92) -> 0 | J92: =COUNTIF(G$7:I$56, D92) -> 0 | K92: =COUNTIF(H$7:H$56, A92) -> 0 | N92: =COUNTIF(J$7:J$56, A92) -> 0 | Q92: =COUNTIF(M$7:M$56,A92) -> 0 | T92: =COUNTIF(P$7:P$56, A92) -> 0 | W92: =COUNTIF(R$7:R$56, A92) -> 0 | Z92: =COUNTIF(U$7:U$56, A92) -> 0 | AB92: =COUNTIF(W$7:W$56, A92) -> 0 | AE92: =D92+Q92 -> 0 | AG92: =SUM(D92,G92,H92,K92,N92,Q92,T92,W92,Z92,AB92) -> 0
A93: SIAL2 | D93: =COUNTIF(B$7:B$56, A93) -> 0 | G93: =COUNTIF(D$7:D$56, A93) -> 0 | H93: =COUNTIF(G$7:G$56, A93) -> 0 | I93: =COUNTIF(F$7:H$56, C93) -> 0 | J93: =COUNTIF(G$7:I$56, D93) -> 0 | K93: =COUNTIF(H$7:H$56, A93) -> 0 | N93: =COUNTIF(J$7:J$56, A93) -> 0 | Q93: =COUNTIF(M$7:M$56,A93) -> 0 | T93: =COUNTIF(P$7:P$56, A93) -> 0 | W93: =COUNTIF(R$7:R$56, A93) -> 0 | Z93: =COUNTIF(U$7:U$56, A93) -> 0 | AB93: =COUNTIF(W$7:W$56, A93) -> 0 | AE93: =D93+Q93 -> 0 | AG93: =SUM(D93,G93,H93,K93,N93,Q93,T93,W93,Z93,AB93) -> 0
A94: DRVE | D94: =COUNTIF(B$7:B$56, A94) -> 0 | G94: =COUNTIF(D$7:D$56, A94) -> 0 | H94: =COUNTIF(G$7:G$56, A94) -> 0 | I94: =COUNTIF(F$7:H$56, C94) -> 0 | J94: =COUNTIF(G$7:I$56, D94) -> 0 | K94: =COUNTIF(H$7:H$56, A94) -> 0 | N94: =COUNTIF(J$7:J$56, A94) -> 0 | Q94: =COUNTIF(M$7:M$56,A94) -> 0 | T94: =COUNTIF(P$7:P$56, A94) -> 0 | W94: =COUNTIF(R$7:R$56, A94) -> 0 | Z94: =COUNTIF(U$7:U$56, A94) -> 0 | AB94: =COUNTIF(W$7:W$56, A94) -> 0 | AE94: =D94+Q94 -> 0 | AG94: =SUM(D94,G94,H94,K94,N94,Q94,T94,W94,Z94,AB94) -> 0
A95: ALDE2 | D95: =COUNTIF(B$7:B$56, A95) -> 0 | G95: =COUNTIF(D$7:D$56, A95) -> 0 | H95: =COUNTIF(G$7:G$56, A95) -> 0 | I95: =COUNTIF(F$7:H$56, C95) -> 0 | J95: =COUNTIF(G$7:I$56, D95) -> 0 | K95: =COUNTIF(H$7:H$56, A95) -> 0 | N95: =COUNTIF(J$7:J$56, A95) -> 0 | Q95: =COUNTIF(M$7:M$56,A95) -> 0 | T95: =COUNTIF(P$7:P$56, A95) -> 0 | W95: =COUNTIF(R$7:R$56, A95) -> 0 | Z95: =COUNTIF(U$7:U$56, A95) -> 0 | AB95: =COUNTIF(W$7:W$56, A95) -> 0 | AE95: =D95+Q95 -> 0 | AG95: =SUM(D95,G95,H95,K95,N95,Q95,T95,W95,Z95,AB95) -> 0
A96: RATE | D96: =COUNTIF(B$7:B$56, A96) -> 0 | G96: =COUNTIF(D$7:D$56, A96) -> 0 | H96: =COUNTIF(G$7:G$56, A96) -> 0 | I96: =COUNTIF(F$7:H$56, C96) -> 0 | J96: =COUNTIF(G$7:I$56, D96) -> 0 | K96: =COUNTIF(H$7:H$56, A96) -> 0 | N96: =COUNTIF(J$7:J$56, A96) -> 0 | Q96: =COUNTIF(M$7:M$56,A96) -> 0 | T96: =COUNTIF(P$7:P$56, A96) -> 0 | W96: =COUNTIF(R$7:R$56, A96) -> 0 | Z96: =COUNTIF(U$7:U$56, A96) -> 0 | AB96: =COUNTIF(W$7:W$56, A96) -> 0 | AE96: =D96+Q96 -> 0 | AG96: =SUM(D96,G96,H96,K96,N96,Q96,T96,W96,Z96,AB96) -> 0
D97: =COUNTIF(B$7:B$56, A97) -> 0 | G97: =COUNTIF(D$7:D$56, A97) -> 0 | H97: =COUNTIF(G$7:G$56, A97) -> 0 | I97: =COUNTIF(F$7:H$56, C97) -> 0 | J97: =COUNTIF(G$7:I$56, D97) -> 0 | K97: =COUNTIF(H$7:H$56, A97) -> 0 | N97: =COUNTIF(J$7:J$56, A97) -> 0 | Q97: =COUNTIF(M$7:M$56,A97) -> 0 | T97: =COUNTIF(P$7:P$56, A97) -> 0 | W97: =COUNTIF(R$7:R$56, A97) -> 0 | Z97: =COUNTIF(U$7:U$56, A97) -> 0 | AB97: =COUNTIF(W$7:W$56, A97) -> 0 | AE97: =D97+Q97 -> 0 | AG97: =SUM(D97,G97,H97,K97,N97,Q97,T97,W97,Z97,AB97) -> 0
D98: =COUNTIF(B$7:B$56, A98) -> 0 | G98: =COUNTIF(D$7:D$56, A98) -> 0 | H98: =COUNTIF(G$7:G$56, A98) -> 0 | I98: =COUNTIF(F$7:H$56, C98) -> 0 | J98: =COUNTIF(G$7:I$56, D98) -> 0 | K98: =COUNTIF(H$7:H$56, A98) -> 0 | N98: =COUNTIF(J$7:J$56, A98) -> 0 | Q98: =COUNTIF(M$7:M$56,A98) -> 0 | T98: =COUNTIF(P$7:P$56, A98) -> 0 | W98: =COUNTIF(R$7:R$56, A98) -> 0 | Z98: =COUNTIF(U$7:U$56, A98) -> 0 | AB98: =COUNTIF(W$7:W$56, A98) -> 0 | AE98: =D98+Q98 -> 0 | AG98: =SUM(D98,G98,H98,K98,N98,Q98,T98,W98,Z98,AB98) -> 0
D99: =COUNTIF(B$7:B$56, A99) -> 0 | G99: =COUNTIF(D$7:D$56, A99) -> 0 | H99: =COUNTIF(G$7:G$56, A99) -> 0 | I99: =COUNTIF(F$7:H$56, C99) -> 0 | J99: =COUNTIF(G$7:I$56, D99) -> 0 | K99: =COUNTIF(H$7:H$56, A99) -> 0 | N99: =COUNTIF(J$7:J$56, A99) -> 0 | Q99: =COUNTIF(M$7:M$56,A99) -> 0 | T99: =COUNTIF(P$7:P$56, A99) -> 0 | W99: =COUNTIF(R$7:R$56, A99) -> 0 | Z99: =COUNTIF(U$7:U$56, A99) -> 0 | AB99: =COUNTIF(W$7:W$56, A99) -> 0 | AE99: =D99+Q99 -> 0 | AG99: =SUM(D99,G99,H99,K99,N99,Q99,T99,W99,Z99,AB99) -> 0
A100: PF
A101: BASA3 | D101: =COUNTIF(B$7:B$56, A101) -> 0 | G101: =COUNTIF(D$7:D$56, A101) -> 0 | H101: =COUNTIF(G$7:G$56, A101) -> 0 | I101: =COUNTIF(F$7:H$56, C101) -> 0 | J101: =COUNTIF(G$7:I$56, D101) -> 0 | K101: =COUNTIF(H$7:H$56, A101) -> 0 | N101: =COUNTIF(J$7:J$56, A101) -> 0 | Q101: =COUNTIF(M$7:M$56,A101) -> 0 | T101: =COUNTIF(P$7:P$56, A101) -> 0 | W101: =COUNTIF(R$7:R$56, A101) -> 0 | Z101: =COUNTIF(U$7:U$56, A101) -> 0 | AB101: =COUNTIF(W$7:W$56, A101) -> 0 | AE101: =D101+Q101 -> 0 | AG101: =SUM(D101,G101,H101,K101,N101,Q101,T101,W101,Z101,AB101) -> 0
A102: LIRU4 | D102: =COUNTIF(B$7:B$56, A102) -> 0 | G102: =COUNTIF(D$7:D$56, A102) -> 0 | H102: =COUNTIF(G$7:G$56, A102) -> 0 | I102: =COUNTIF(F$7:H$56, C102) -> 0 | J102: =COUNTIF(G$7:I$56, D102) -> 0 | K102: =COUNTIF(H$7:H$56, A102) -> 0 | N102: =COUNTIF(J$7:J$56, A102) -> 0 | Q102: =COUNTIF(M$7:M$56,A102) -> 0 | T102: =COUNTIF(P$7:P$56, A102) -> 0 | W102: =COUNTIF(R$7:R$56, A102) -> 0 | Z102: =COUNTIF(U$7:U$56, A102) -> 0 | AB102: =COUNTIF(W$7:W$56, A102) -> 0 | AE102: =D102+Q102 -> 0 | AG102: =SUM(D102,G102,H102,K102,N102,Q102,T102,W102,Z102,AB102) -> 0
A103: LUPIN | D103: =COUNTIF(B$7:B$56, A103) -> 0 | G103: =COUNTIF(D$7:D$56, A103) -> 0 | H103: =COUNTIF(G$7:G$56, A103) -> 0 | I103: =COUNTIF(F$7:H$56, C103) -> 0 | J103: =COUNTIF(G$7:I$56, D103) -> 0 | K103: =COUNTIF(H$7:H$56, A103) -> 0 | N103: =COUNTIF(J$7:J$56, A103) -> 0 | Q103: =COUNTIF(M$7:M$56,A103) -> 0 | T103: =COUNTIF(P$7:P$56, A103) -> 0 | W103: =COUNTIF(R$7:R$56, A103) -> 0 | Z103: =COUNTIF(U$7:U$56, A103) -> 0 | AB103: =COUNTIF(W$7:W$56, A103) -> 0 | AE103: =D103+Q103 -> 0 | AG103: =SUM(D103,G103,H103,K103,N103,Q103,T103,W103,Z103,AB103) -> 0
...

Sheet LineInt
A1: Line Intercept Data Form
A2: Date: | B2: =PlotMetadata!J3 -> 0 | C2: Site: | D2: =PlotMetadata!B2 -> 0 | E2: Plot ID: | F2: =PlotMetadata!B3 -> 0 | G2: Transect: | H2: =PtCover!R2 -> 0 | J2: Please reference the LIDF instructions to complete this form.
A3: Evaluator(s): | B3: =PlotMetadata!C4 -> 0
A4: Azimuth: | B4: =IF($H$2=1, PlotMetadata!$B$9, IF($H$2=2, PlotMetadata!$B$10, IF($H$2=3, PlotMetadata!$B$11))) -> FALSE | F4: Min. Length: | K4: Species | L4: Total | M4: % Cover
A5: Species | B5: Start | C5: End | D5: Length | E5: Notes | J5: Sagebrush Cover | K5: ARAR8 | L5: =SUMIF($A$6:$A$99, K5, $D$6:$D$99) -> 0 | M5: =L5/5000 -> 0
D6: =ABS(C6-B6) -> 0 | K6: ARCA13 | L6: =SUMIF($A$6:$A$99, K6, $D$6:$D$99) -> 0 | M6: =L6/5000 -> 0
D7: =ABS(C7-B7) -> 0 | K7: ARLU | L7: =SUMIF($A$6:$A$99, K7, $D$6:$D$99) -> 0 | M7: =L7/5000 -> 0
D8: =ABS(C8-B8) -> 0 | K8: ARNO4 | L8: =SUMIF($A$6:$A$99, K8, $D$6:$D$99) -> 0 | M8: =L8/5000 -> 0
D9: =ABS(C9-B9) -> 0 | K9: ARPA16 | L9: =SUMIF($A$6:$A$99, K9, $D$6:$D$99) -> 0 | M9: =L9/5000 -> 0
D10: =ABS(C10-B10) -> 0 | K10: ARTRT | L10: =SUMIF($A$6:$A$99, K10, $D$6:$D$99) -> 0 | M10: =L10/5000 -> 0
D11: =ABS(C11-B11) -> 0 | K11: ARTRV | L11: =SUMIF($A$6:$A$99, K11, $D$6:$D$99) -> 0 | M11: =L11/5000 -> 0
D12: =ABS(C12-B12) -> 0 | K12: ARTRW8 | L12: =SUMIF($A$6:$A$99, K12, $D$6:$D$99) -> 0 | M12: =L12/5000 -> 0
D13: =ABS(C13-B13) -> 0 | K13: ARTRX | L13: =SUMIF($A$6:$A$99, K13, $D$6:$D$99) -> 0 | M13: =L13/5000 -> 0
D14: =ABS(C14-B14) -> 0 | K14: ARTR4 | L14: =SUMIF($A$6:$A$99, K14, $D$6:$D$99) -> 0 | M14: =L14/5000 -> 0
D15: =ABS(C15-B15) -> 0 | L15: =SUMIF($A$6:$A$99, K15, $D$6:$D$99) -> 0 | M15: =L15/5000 -> 0
D16: =ABS(C16-B16) -> 0 | L16: =SUMIF($A$6:$A$99, K16, $D$6:$D$99) -> 0 | M16: =L16/5000 -> 0
D17: =ABS(C17-B17) -> 0 | L17: =SUMIF($A$6:$A$99, K17, $D$6:$D$99) -> 0 | M17: =L17/5000 -> 0
D18: =ABS(C18-B18) -> 0 | L18: =SUMIF($A$6:$A$99, K18, $D$6:$D$99) -> 0 | M18: =L18/5000 -> 0
D19: =ABS(C19-B19) -> 0 | L19: =SUMIF($A$6:$A$99, K19, $D$6:$D$99) -> 0 | M19: =L19/5000 -> 0
D20: =ABS(C20-B20) -> 0 | J20: Other Shrub Cover | K20: CHVI8 | L20: =SUMIF($A$6:$A$99, K20, $D$6:$D$99) -> 0 | M20: =L20/5000 -> 0
D21: =ABS(C21-B21) -> 0 | K21: ERNA10 | L21: =SUMIF($A$6:$A$99, K21, $D$6:$D$99) -> 0 | M21: =L21/5000 -> 0
D22: =ABS(C22-B22) -> 0 | K22: ATCA2 | L22: =SUMIF($A$6:$A$99, K22, $D$6:$D$99) -> 0 | M22: =L22/5000 -> 0
D23: =ABS(C23-B23) -> 0 | K23: ATCO | L23: =SUMIF($A$6:$A$99, K23, $D$6:$D$99) -> 0 | M23: =L23/5000 -> 0
D24: =ABS(C24-B24) -> 0 | K24: CHHU2 | L24: =SUMIF($A$6:$A$99, K24, $D$6:$D$99) -> 0 | M24: =L24/5000 -> 0
D25: =ABS(C25-B25) -> 0 | K25: GRSP | L25: =SUMIF($A$6:$A$99, K25, $D$6:$D$99) -> 0 | M25: =L25/5000 -> 0
D26: =ABS(C26-B26) -> 0 | K26: TECA2 | L26: =SUMIF($A$6:$A$99, K26, $D$6:$D$99) -> 0 | M26: =L26/5000 -> 0
D27: =ABS(C27-B27) -> 0 | L27: =SUMIF($A$6:$A$99, K27, $D$6:$D$99) -> 0 | M27: =L27/5000 -> 0
D28: =ABS(C28-B28) -> 0 | L28: =SUMIF($A$6:$A$99, K28, $D$6:$D$99) -> 0 | M28: =L28/5000 -> 0
D29: =ABS(C29-B29) -> 0 | L29: =SUMIF($A$6:$A$99, K29, $D$6:$D$99) -> 0 | M29: =L29/5000 -> 0
D30: =ABS(C30-B30) -> 0 | L30: =SUMIF($A$6:$A$99, K30, $D$6:$D$99) -> 0 | M30: =L30/5000 -> 0
D31: =ABS(C31-B31) -> 0 | L31: =SUMIF($A$6:$A$99, K31, $D$6:$D$99) -> 0 | M31: =L31/5000 -> 0
D32: =ABS(C32-B32) -> 0 | K32: ARTR Total | L32: =SUM(L5:L19) -> 0 | M32: =SUM(M5:M19) -> 0
D33: =ABS(C33-B33) -> 0 | K33: Other Total | L33: =SUM(L20:L31) -> 0 | M33: =SUM(M20:M31) -> 0
D34: =ABS(C34-B34) -> 0 | K34: All Shrubs | L34: =SUM(L5:L31) -> 0 | M34: =SUM(M5:M31) -> 0
D35: =ABS(C35-B35) -> 0
D36: =ABS(C36-B36) -> 0
D37: =ABS(C37-B37) -> 0
D38: =ABS(C38-B38) -> 0
D39: =ABS(C39-B39) -> 0
D40: =ABS(C40-B40) -> 0
D41: =ABS(C41-B41) -> 0
D42: =ABS(C42-B42) -> 0
D43: =ABS(C43-B43) -> 0
D44: =ABS(C44-B44) -> 0
D45: =ABS(C45-B45) -> 0
D46: =ABS(C46-B46) -> 0
... D99: =ABS(C99-B99) -> 0

Sheet VegHtSageShp
A1: Vegetation Height/Sagebrush Shape Data Form | J1: Vegetation Height/Sagebrush Shape Data Form
A2: Date: | B2: =PlotMetadata!J3 -> 0 | C2: Site: | D2: =PlotMetadata!B2 -> 0 | E2: Plot ID: | F2: =PlotMetadata!B3 -> 0 | H2: Transect: | I2: =PtCover!R2 -> 0 | L2: Species | M2: Total | N2: Occurrences | O2: Avg. Ht
A3: Evaluator(s): | C3: =PlotMetadata!C4 -> 0 | K3: Sagebrush Heights | M3: =SUMIF($B$6:$B$44, L3, $C$6:$C$44) -> 0 | N3: =COUNTIF($B$6:$B$44, L3) -> 0 | O3: =AVERAGEIF($B$6:$B$44, L3, $C$6:$C$44) -> #DIV/0!
A4: Azimuth: | C4: =IF($I$2=1, PlotMetadata!$B$9, IF($I$2=2, PlotMetadata!$B$10, IF($I$2=3, PlotMetadata!$B$11))) -> FALSE | D4: Intercept (Point) Spacing: | G4: Height: | M4: =SUMIF($B$6:$B$44, L4, $C$6:$C$44) -> 0 | N4: =COUNTIF($B$6:$B$44, L4) -> 0 | O4: =AVERAGEIF($B$6:$B$44, L4, $C$6:$C$44) -> #DIV/0!
A5: Point | B5: Species | C5: Woody Height | D5: Sagebrush Shape | E5: Species | F5: Grass Height | G5: Species | H5: Forb Height | M5: =SUMIF($B$6:$B$44, L5, $C$6:$C$44) -> 0 | N5: =COUNTIF($B$6:$B$44, L5) -> 0 | O5: =AVERAGEIF($B$6:$B$44, L5, $C$6:$C$44) -> #DIV/0!
M6: =SUMIF($B$6:$B$44, L6, $C$6:$C$44) -> 0 | N6: =COUNTIF($B$6:$B$44, L6) -> 0 | O6: =AVERAGEIF($B$6:$B$44, L6, $C$6:$C$44) -> #DIV/0!
M7: =SUMIF($B$6:$B$44, L7, $C$6:$C$44) -> 0 | N7: =COUNTIF($B$6:$B$44, L7) -> 0 | O7: =AVERAGEIF($B$6:$B$44, L7, $C$6:$C$44) -> #DIV/0!
K8: Other Shrub Heights | M8: =SUMIF($B$6:$B$44, L8, $C$6:$C$44) -> 0 | N8: =COUNTIF($B$6:$B$44, L8) -> 0 | O8: =AVERAGEIF($B$6:$B$44, L8, $C$6:$C$44) -> #DIV/0!
M9: =SUMIF($B$6:$B$44, L9, $C$6:$C$44) -> 0 | N9: =COUNTIF($B$6:$B$44, L9) -> 0 | O9: =AVERAGEIF($B$6:$B$44, L9, $C$6:$C$44) -> #DIV/0!
M10: =SUMIF($B$6:$B$44, L10, $C$6:$C$44) -> 0 | N10: =COUNTIF($B$6:$B$44, L10) -> 0 | O10: =AVERAGEIF($B$6:$B$44, L10, $C$6:$C$44) -> #DIV/0!
M11: =SUMIF($B$6:$B$44, L11, $C$6:$C$44) -> 0 | N11: =COUNTIF($B$6:$B$44, L11) -> 0 | O11: =AVERAGEIF($B$6:$B$44, L11, $C$6:$C$44) -> #DIV/0!
M12: =SUMIF($B$6:$B$44, L12, $C$6:$C$44) -> 0 | N12: =COUNTIF($B$6:$B$44, L12) -> 0 | O12: =AVERAGEIF($B$6:$B$44, L12, $C$6:$C$44) -> #DIV/0!
K13: Grass Heights | M13: =SUMIF($E$6:$E$44, L13, $F$6:$F$44) -> 0 | N13: =COUNTIF($E$6:$E$44, L13) -> 0 | O13: =AVERAGEIF($E$6:$E$44, L13, $F$6:$F$44) -> #DIV/0!
M14: =SUMIF($E$6:$E$44, L14, $F$6:$F$44) -> 0 | N14: =COUNTIF($E$6:$E$44, L14) -> 0 | O14: =AVERAGEIF($E$6:$E$44, L14, $F$6:$F$44) -> #DIV/0!
M15: =SUMIF($E$6:$E$44, L15, $F$6:$F$44) -> 0 | N15: =COUNTIF($E$6:$E$44, L15) -> 0 | O15: =AVERAGEIF($E$6:$E$44, L15, $F$6:$F$44) -> #DIV/0!
M16: =SUMIF($E$6:$E$44, L16, $F$6:$F$44) -> 0 | N16: =COUNTIF($E$6:$E$44, L16) -> 0 | O16: =AVERAGEIF($E$6:$E$44, L16, $F$6:$F$44) -> #DIV/0!
M17: =SUMIF($E$6:$E$44, L17, $F$6:$F$44) -> 0 | N17: =COUNTIF($E$6:$E$44, L17) -> 0 | O17: =AVERAGEIF($E$6:$E$44, L17, $F$6:$F$44) -> #DIV/0!
M18: =SUMIF($E$6:$E$44, L18, $F$6:$F$44) -> 0 | N18: =COUNTIF($E$6:$E$44, L18) -> 0 | O18: =AVERAGEIF($E$6:$E$44, L18, $F$6:$F$44) -> #DIV/0!
M19: =SUMIF($E$6:$E$44, L19, $F$6:$F$44) -> 0 | N19: =COUNTIF($E$6:$E$44, L19) -> 0 | O19: =AVERAGEIF($E$6:$E$44, L19, $F$6:$F$44) -> #DIV/0!
M20: =SUMIF($E$6:$E$44, L20, $F$6:$F$44) -> 0 | N20: =COUNTIF($E$6:$E$44, L20) -> 0 | O20: =AVERAGEIF($E$6:$E$44, L20, $F$6:$F$44) -> #DIV/0!
K21: Forb Heights | M21: =SUMIF($G$6:$G$44, L21, $H$6:$H$44) -> 0 | N21: =COUNTIF($G$6:$G$44, L21) -> 0 | O21: =AVERAGEIF($G$6:$G$44, L21, $H$6:$H$44) -> #DIV/0!
M22: =SUMIF($G$6:$G$44, L22, $H$6:$H$44) -> 0 | N22: =COUNTIF($G$6:$G$44, L22) -> 0 | O22: =AVERAGEIF($G$6:$G$44, L22, $H$6:$H$44) -> #DIV/0!
M23: =SUMIF($G$6:$G$44, L23, $H$6:$H$44) -> 0 | N23: =COUNTIF($G$6:$G$44, L23) -> 0 | O23: =AVERAGEIF($G$6:$G$44, L23, $H$6:$H$44) -> #DIV/0!
M24: =SUMIF($G$6:$G$44, L24, $H$6:$H$44) -> 0 | N24: =COUNTIF($G$6:$G$44, L24) -> 0 | O24: =AVERAGEIF($G$6:$G$44, L24, $H$6:$H$44) -> #DIV/0!
M25: =SUMIF($G$6:$G$44, L25, $H$6:$H$44) -> 0 | N25: =COUNTIF($G$6:$G$44, L25) -> 0 | O25: =AVERAGEIF($G$6:$G$44, L25, $H$6:$H$44) -> #DIV/0!
M26: =SUMIF($G$6:$G$44, L26, $H$6:$H$44) -> 0 | N26: =COUNTIF($G$6:$G$44, L26) -> 0 | O26: =AVERAGEIF($G$6:$G$44, L26, $H$6:$H$44) -> #DIV/0!
M27: =SUMIF($G$6:$G$44, L27, $H$6:$H$44) -> 0 | N27: =COUNTIF($G$6:$G$44, L27) -> 0 | O27: =AVERAGEIF($G$6:$G$44, L27, $H$6:$H$44) -> #DIV/0!
M28: =SUMIF($G$6:$G$44, L28, $H$6:$H$44) -> 0 | N28: =COUNTIF($G$6:$G$44, L28) -> 0 | O28: =AVERAGEIF($G$6:$G$44, L28, $H$6:$H$44) -> #DIV/0!
L29: SAGEBRUSH TOTAL HT | M29: =SUM(M3:M7) -> 0
L30: OTHER TOTAL HT | M30: =SUM(M8:M12) -> 0
L31: SAGEBRUSH OCCURRENCES | N31: =SUM(N3:N7) -> 0
L32: OTHER OCCURRENCES | N32: =SUM(N8:N12) -> 0
L33: AVERAGE SAGEBRUSH HT | O33: =M29/N31 -> #DIV/0!
L34: OTHER AVERAGE HT | O34: =M30/N32 -> #DIV/0!
L35: ALL SHRUB AVG HT | O35: =AVERAGE(C6:C44) -> #DIV/0!
L36: AVERAGE GRASS HT | M36: =SUM(M13:M20) -> 0 | N36: =SUM(N13:N20) -> 0 | O36: =M36/N36 -> #DIV/0!
L37: AVERAGE FORB HT | M37: =SUM(M21:M28) -> 0 | N37: =SUM(N21:N28) -> 0 | O37: =M37/N37 -> #DIV/0!
K38: Sagebrush Shape | L38: SPREADING | M38: =COUNTIF($D$6:$D$44, "S") -> 0 | N38: =IF(M38>M39, "S", 0) -> 0
L39: COLUMNAR | M39: =COUNTIF($D$6:$D$44, "C") -> 0 | N39: =IF(M39>M38, "C", 0) -> 0
A45: Average sagebrush height = | D45: =M29/N31 -> #DIV/0!
A46: Average grass height = | D46: =M36/N36 -> #DIV/0!
A47: Average forb height = | D47: =M37/N37 -> #DIV/0!

Sheet Forbs
A1: Sage-Grouse Forb Diversity Data Form
A2: Date: | B2: =PlotMetadata!J3 -> 0 | D2: Site: | F2: =PlotMetadata!AE8 -> 0 | K2: Plot ID: | M2: =PlotMetadata!AE9 -> 0 | P2: Evaluator(s): | S2: =PlotMetadata!C4 -> 0 | AD2: Total Pref. Species | AE2: Total # Preferred | AF2: Total # Noxious | AG2: Total # Invasive | AH2: Total # Other | AM2: N
A3: Transect: | C3: =PtCover!R2 -> 0 | P3: Azimuth: | S3: =IF($I$2=1, PlotMetadata!$B$9, IF($I$2=2, PlotMetadata!$B$10, IF($I$2=3, PlotMetadata!$B$11))) -> FALSE | AD3: =COUNTIF(A7:A59, "P") -> 0 | AE3: =SUMIFS($AB$7:$AB$59, $A$7:$A$59, "P") -> 0 | AF3: =SUMIFS($AB$7:$AB$59, $A$7:$A$59, "N") -> 0 | AG3: =SUMIFS($AB$7:$AB$59, $A$7:$A$59, "I") -> 0 | AH3: =SUMIFS($AB$7:$AB$59, $A$7:$A$59, "O") -> 0
A4: Forb Diversity - Record species name at 2-m intervals. Check the appropriate plot number if species is present.
A5: Type1 | B5: Species | C5: Forb Plot Number | AB5: T
C6: 1 | D6: 2 | E6: 3 | F6: 4 | G6: 5 | H6: 6 | I6: 7 | J6: 8 | K6: 9 | L6: 10 | M6: 11 | N6: 12 | O6: 13 | P6: 14 | Q6: 15 | R6: 16 | S6: 17 | T6: 18 | U6: 19 | V6: 20 | W6: 21 | X6: 22 | Y6: 23 | Z6: 24 | AA6: 25
AB7: =COUNTIF(C7:AA7, "X") -> 0
AB8: =COUNTIF(C8:AA8, "X") -> 0
AB9: =COUNTIF(C9:AA9, "X") -> 0
AB10: =COUNTIF(C10:AA10, "X") -> 0
AB11: =COUNTIF(C11:AA11, "X") -> 0
AB12: =COUNTIF(C12:AA12, "X") -> 0
AB13: =COUNTIF(C13:AA13, "X") -> 0
AB14: =COUNTIF(C14:AA14, "X") -> 0
AB15: =COUNTIF(C15:AA15, "X") -> 0
AB16: =COUNTIF(C16:AA16, "X") -> 0
AB17: =COUNTIF(C17:AA17, "X") -> 0
AB18: =COUNTIF(C18:AA18, "X") -> 0
... AB59: =COUNTIF(C59:AA59, "X") -> 0
A60: 1 Type: P = Preferred, N = Noxious, I = Invasive, O = Other. Note: The forb type can be determined later in the office or via automated approaches.

Sheet BrdngHabitat
A1: Habitat Suitability Worksheet - Breeding Habitat (Nesting/Early Brood-Rearing)
A2: Date: | B2: =PlotMetadata!J3 -> 0 | C2: County: | E2: State: | G2: Evaluator(s): | H2: =PlotMetadata!C4 -> 0
A3: Population: | C3: =PlotMetadata!C26 -> 0 | G3: Home Range Name: | H3: =PlotMetadata!I26 -> 0
A4: Land Cover Type: | C4: =PlotMetadata!C27 -> 0 | G4: Ecological Site: | H4: =PlotMetadata!I27 -> 0
A5: Associated Leks: | C5: =PlotMetadata!C28 -> 0 | G5: Number of Transects:
A6: Area Sampled (ha/ac): | C6: =PlotMetadata!J28 -> 0 | G6: Site Info.:
A7: List of UTM Coordinates (coordinates, zone, datum) of All Transects:
A9: Habitat Indicator Suitability Range
A10: Habitat Indicator | D10:  | E10: Suitable | F10: ü | G10: Marginal | H10: ü | I10: Unsuitable | J10: ü
A11: Sagebrush Canopy Cover (mean) | D11: =LineInt!M32 -> 0 | E11: 15 to 25% | F11: =IF(AND(D11>=0.15, (D11<=0.25)), "X", "-") -> - | G11: 5 to <15% or >25% | H11: =IF(OR(D11>0.25, AND(D11>=0.05, (D11<0.15))), "X", "-") -> - | I11: <5 % | J11: =IF(D11<0.05, "X", "-") -> X
A12: Sagebrush Height (mean) | D12: =VegHtSageShp!O33 -> #DIV/0!
A13: Mesic Site | E13: 40 to 80 cm | F13: =IF(AND(D12<=80, (D12>=40)), "X", "-") -> #DIV/0! | G13: 20 to <40 or >80 cm | H13: =IF(OR($D$12>80, AND($D$12<40, $D$12>=20)), "X", "-") -> #DIV/0! | I13: <20 cm | J13: =IF(D12<20, "X", "-") -> #DIV/0!
A14: Arid Site | E14: 30 to 80 cm | F14: =IF(AND(D12<=80, (D12>=30)), "X", "-") -> #DIV/0! | G14: 20 to <30 or >80 cm | H14: =IF(OR($D$12>80, AND($D$12<30, $D$12>=20)), "X", "-") -> #DIV/0! | I14: <20 cm | J14: =IF(D12<20, "X", "-") -> #DIV/0!
A15: Predominant Sagebrush Shape (mode) | E15: Spreading | F15: =IF(D16>D17, "X", "-") -> - | G15: Mix of spreading and columnar | H15: =IF(D16=D17, "X", "-") -> X | I15: Columnar | J15: =IF(D17>D16, "X", "-") -> -
A16: Spreading (n) | D16: =VegHtSageShp!M38 -> 0
A17: Columnar (n) | D17: =VegHtSageShp!M39 -> 0
A18: Perennial Grass Height (mean) | D18: =VegHtSageShp!O36 -> #DIV/0! | E18: ≥18 cm | F18: =IF(D18>=18, "X", "-") -> #DIV/0! | G18: 10 to <18 cm | H18: =IF(AND(D18<18,(D18>=10)),"X","-") -> #DIV/0! | I18: <10 cm | J18: =IF(D18<10, "X", "-") -> #DIV/0!
A19: Perennial Forb Height (mean) | D19: =VegHtSageShp!O37 -> #DIV/0! | E19: ≥18 cm | F19: =IF(D19>=18, "X", "-") -> #DIV/0! | G19: 10 to <18 cm | H19: =IF(AND(D19<18,(D19>=10)),"X","-") -> #DIV/0! | I19: <10 cm | J19: =IF(D19<10, "X", "-") -> #DIV/0!
A20: Perennial Grass Cover | D20: =PtCover!AC22 -> #DIV/0!
A21: Mesic Site | E21: ≥15% | F21: =IF(D20>=0.15, "X", "-") -> #DIV/0! | G21: 5 to <15% | H21: =IF(AND($D$20<0.15, ($D$20>=0.05)), "X", "-") -> #DIV/0! | I21: <5% | J21: =IF(D20<0.05, "X", "-") -> #DIV/0!
A22: Arid Site | E22: ≥10% | F22: =IF(D20>=0.1, "X", "-") -> #DIV/0! | G22: 5 to <10% | H22: =IF(AND($D$20<0.1, ($D$20>=0.05)), "X", "-") -> #DIV/0! | I22: <5% | J22: =IF(D20<0.05, "X", "-") -> #DIV/0!
A23: Perennial Forb Cover | D23: =PtCover!AC20 -> #DIV/0!
A24: Mesic Site | E24: ≥10% | F24: =IF(D23>=0.1, "X", "-") -> #DIV/0! | G24: 5 to <10% | H24: =IF(AND($D$23<0.1, ($D$23>=0.05)), "X", "-") -> #DIV/0! | I24: <5% | J24: =IF(D23<0.05, "X", "-") -> #DIV/0!
A25: Arid Site | E25: ≥5% | F25: =IF(D23>=0.05, "X", "-") -> #DIV/0! | G25: 3 to <5% | H25: =IF(AND($D$23<0.05, ($D$23>=0.03)), "X", "-") -> #DIV/0! | I25: <3% | J25: =IF(D23<0.03, "X", "-") -> #DIV/0!
A26: Preferred Forb Availability (relative to site potential) | E26: Preferred forbs are common with several species present | G26: Preferred forbs are common but only a few species are present | I26: Preferred forbs are rare
A27: Number of Preferred Forb Species (n) | D27: =Forbs!AD3 -> 0
A28: Site-Scale Suitability | E28: Suitable | G28: Marginal | I28: Unsuitable
A29: Does ecological site potential limit suitability potential? (mark one) | F29: Yes | H29: No | J29: Unknown
A30: Drought Condition (mark the appropriate condition): | E30: Extreme Drought | G30: Severe Drought | I30: Moderate Drought
E31: Moderately Moist | G31: Very Moist | I31: Extremely Moist
E32: Mid-Range
A33: Rationale for Overall Suitability Rating:

Sheet SummerHabitat
A1: Habitat Suitability Worksheet - Upland Summer/Late Brood-Rearing Habitat
A2: Date: | B2: =PlotMetadata!J3 -> 0 | C2: County: | D2: =BrdngHabitat!D2 -> 0 | E2: State: | F2: =BrdngHabitat!F2 -> 0 | G2: Evaluator(s): | H2: =PlotMetadata!C4 -> 0
A3: Population: | C3: =PlotMetadata!C26 -> 0 | G3: Home Range Name: | H3: =PlotMetadata!I26 -> 0
A4: Land Cover Type: | C4: =PlotMetadata!C27 -> 0 | G4: Ecological Site: | H4: =PlotMetadata!I27 -> 0
A5: Associated Leks: | C5: =PlotMetadata!C28 -> 0 | G5: Number of Transects: | H5: =BrdngHabitat!H5 -> 0
A6: Area Sampled (ha/ac): | C6: =PlotMetadata!J28 -> 0 | G6: Site Info.: | H6: =BrdngHabitat!H6 -> 0
A7: List of UTM Coordinates (coordinates, zone, datum) of All Transects:
A8: =BrdngHabitat!A8 -> 0
A9: Habitat Indicator Suitability Range
A10: Habitat Indicator | D10:  | E10: Suitable | F10: ü | G10: Marginal | H10: ü | I10: Unsuitable | J10: ü
A11: Sagebrush Cover (mean) | D11: =BrdngHabitat!D11 -> 0 | E11: 10 to 25% | F11: =IF(AND(D11>=0.1, (D11<=0.25)), "X", "-") -> - | G11: 5 to <10% or >25% | H11: =IF(OR(D11>0.25, AND(D11>=0.05, (D11<0.1))), "X", "-") -> - | I11: <5% | J11: =IF(D11<0.05, "X", "-") -> X
A12: Sagebrush Height (mean) | D12: =BrdngHabitat!D12 -> #DIV/0! | E12: 40 to 80 cm | F12: =IF(AND(D12<=80, (D12>=40)), "X", "-") -> #DIV/0! | G12: 20 to <40 or >80 cm | H12: =IF(OR(D12>80, AND(D12<40, D12>=20)), "X", "-") -> #DIV/0! | I12: <20 cm | J12: =IF(D12<20, "X", "-") -> #DIV/0!
A13: Perennial Grass and Forb Cover (mean) | D13: =BrdngHabitat!D20+BrdngHabitat!D23 -> #DIV/0! | E13: ≥15% | F13: =IF(D13>=0.15, "X", "-") -> #DIV/0! | G13: 5 to <15% | H13: =IF(AND(D13>=0.05, (D13<0.15)), "X", "-") -> #DIV/0! | I13: <5% | J13: =IF(D13<0.05, "X", "-") -> #DIV/0!
A14: Preferred Forb Availability (relative to site potential) | E14: Preferred forbs are common with appropriate numbers of species present | G14: Forbs are common but only a few preferred species are present | I14: Preferred forbs are rare
A15: Number of Preferred Forb Species (n) | D15: =BrdngHabitat!D27 -> 0
A16: Site-Scale Suitability | E16: Suitable | G16: Marginal | I16: Unsuitable
A17: Does ecological site potential limit suitability potential? (mark one) | F17: Yes | H17: No | J17: Unknown
A18: Drought Condition (mark the appropriate condition): | E18: Extreme Drought | G18: Severe Drought | I18: Moderate Drought
E19: Moderately Moist | G19: Very Moist | I19: Extremely Moist
E20: Mid-Range
A21: Rationale for Overall Suitability Rating:

Sheet WinterHabitat
A1: Habitat Suitability Worksheet - Winter Habitat
