Workbook

Sheet Instructions
A1: Double click to open the instructions

Sheet PlotMetadata
A1: Plot Metadata Form
A2: Site: | F2: Ownership: | I2: Establishment Date:
A3: Plot ID: | I3: Visit Date:
A4: Evaluator(s):
A5: GPS Coordinate System: | E5: Datum: | H5: Zone (if applicable): | J5: Elevation:
A8: Transect | B8: Azimuth | C8: Length | E8: Latitude/Northing | H8: Longitude/Easting | J8: Slope (%)
A9: 1 | D9: Start
A10: 2 | D10: Start | J10: Aspect (°)
A11: 3 | D11: Start
A12: Directions to the Plot:
A26: Population: | G26: Home Range Name:
A27: Land Cover Type: | G27: Ecological Site:
A28: Associated Leks: | G28: Area (ha/ac) or Distance (km/mi) Sampled:
A29: Site Info: | C29: Arid Site | E29: Mesic Site | G29: Seasonal Habitat:
A30: PFC Status (riparian areas only):
A31: Comments: | H31: Plot Photos:
H32: Photo | I32: Description

Sheet PtCover
A1: Line-Point Intercept Data Form | Z1: Line-Point Intercept Data Form
A2: Date: | C2: =PlotMetadata!J3 -> 0 | E2: Site: | F2: =PlotMetadata!B2 -> 0 | I2: Plot ID: | K2: =PlotMetadata!B3 -> 0 | P2: Transect: | U2: # of Pts. Read: | Z2: Date: | AA2: =C2 -> 0 | AB2: Site: | AD2: =F2 -> 0 | AG2: Plot ID: | AH2: =K2 -> 0 | AM2: Transect: | AN2: =$R$2 -> 0
A3: Evaluator(s): | D3: =PlotMetadata!C4 -> 0 | Z3: Evaluator(s): | AB3: =D3 -> 0
A4: Azimuth: | D4: =IF($R$2=1, PlotMetadata!$B$9, IF($R$2=2, PlotMetadata!$B$10, IF($R$2=3, PlotMetadata!$B$11))) -> FALSE | J4: Intercept (Point) Spacing: | S4: Height: | Z4: Azimuth: | AB4: =IF($R$2=1, PlotMetadata!$B$9, IF($R$2=2, PlotMetadata!$B$10, IF($R$2=3, PlotMetadata!$B$11))) -> FALSE
A5: Pt. | B5: Top Layer | D5: Lower Layers | J5: Soil Surface | L5: Pt. | M5: Top Layer | P5: Lower Layers | W5: Soil Surface
D6: Code 1 | G6: Code 2 | H6: Code 3 | P6: Code 1 | R6: Code 2 | U6: Code 3 | Z6: Codes | AA6: First Hit (%) | AC6: Any Hit (%) | AF6: Top layer codes: Species code, common name, or NONE (no cover). | AQ6: None | AR6: No Lower | AS6: S | AT6: N, NL, S | AU6: None | AV6: No Lower | AW6: S | AX6: N, NL, S | AZ6: TF | BA6: TF2 | BC6: None | BD6: No Lower | BE6: G | BF6: N, NL, G | BG6: None | BH6: No Lower | BI6: G | BJ6: N, NL, G | BL6: None | BM6: No Lower | BN6: R | BO6: N, NL, G | BP6: None | BQ6: No Lower | BR6: R | BS6: N, NL, G | BU6: None | BV6: No Lower | BW6: BR | BX6: N, NL, G | BY6: None | BZ6: No Lower | CA6: BR | CB6: N, NL, G | CD6: None | CE6: No Lower | CF6: EL | CG6: N, NL, G | CH6: None | CI6: No Lower | CJ6: EL | CK6: N, NL, G | CM6: None | CN6: No Lower | CO6: D | CP6: N, NL, G | CQ6: None | CR6: No Lower | CS6: D | CT6: N, NL, G | CV6: None | CW6: No Lower | CX6: M | CY6: N, NL, G | CZ6: None | DA6: No Lower | DB6: M | DC6: N, NL, G | DE6: None | DF6: No Lower | DG6: LC | DH6: N, NL, G | DI6: None | DJ6: No Lower | DK6: LC | DL6: N, NL, G | DN6: None | DO6: Code 1 - L | DP6: N, L | DQ6: None | DR6: Code 1 - L | DS6: N, L | DU6: None | DV6: Code 1 - WL | DW6: N, WL | DX6: None | DY6: Code 1 - WL | DZ6: N, WL | EB6: None | EC6: Code 1 - VL | ED6: N, VL | EE6: None | EF6: Code 1 - VL | EG6: N, VL
A7: 1 | L7: 51 | AQ7: =IF(B7="None", 1, 0) -> 0 | AR7: =COUNTIF(D7:I7, "") -> 6 | AS7: =IF(J7="S", 1, 0) -> 0 | AT7: =IF(SUM(AQ7:AS7)=8, 1, 0) -> 0 | AU7: =IF(M7="None", 1, 0) -> 0 | AV7: =COUNTIF(P7:V7, "") -> 7 | AW7: =IF(W7="S", 1, 0) -> 0 | AX7: =IF(SUM(AU7:AW7)=9, 1, 0) -> 0 | AZ7: =IF(OR(B7="None", B7=""), 0, 1) -> 0 | BA7: =IF(OR(M7="None", M7=""), 0, 1) -> 0 | BC7: =IF($B7="None", 1, 0) -> 0 | BD7: =COUNTIF($D7:$I7, "") -> 6 | BE7: =IF($J7="G", 1, 0) -> 0 | BF7: =IF(SUM(BC7:BE7)=8, 1, 0) -> 0 | BG7: =IF($M7="None", 1, 0) -> 0 | BH7: =COUNTIF($P7:$V7, "") -> 7 | BI7: =IF($W7="G", 1, 0) -> 0 | BJ7: =IF(SUM(BG7:BI7)=9, 1, 0) -> 0 | BL7: =IF($B7="None", 1, 0) -> 0 | BM7: =COUNTIF($D7:$I7, "") -> 6 | BN7: =IF($J7="R", 1, 0) -> 0 | BO7: =IF(SUM(BL7:BN7)=8, 1, 0) -> 0 | BP7: =IF($M7="None", 1, 0) -> 0 | BQ7: =COUNTIF($P7:$V7, "") -> 7 | BR7: =IF($W7="R", 1, 0) -> 0 | BS7: =IF(SUM(BP7:BR7)=9, 1, 0) -> 0 | BU7: =IF($B7="None", 1, 0) -> 0 | BV7: =COUNTIF($D7:$I7, "") -> 6 | BW7: =IF($J7="BR", 1, 0) -> 0 | BX7: =IF(SUM(BU7:BW7)=8, 1, 0) -> 0 | BY7: =IF($M7="None", 1, 0) -> 0 | BZ7: =COUNTIF($P7:$V7, "") -> 7 | CA7: =IF($W7="BR", 1, 0) -> 0 | CB7: =IF(SUM(BY7:CA7)=9, 1, 0) -> 0 | CD7: =IF($B7="None", 1, 0) -> 0 | CE7: =COUNTIF($D7:$I7, "") -> 6 | CF7: =IF($J7="EL", 1, 0) -> 0 | CG7: =IF(SUM(CD7:CF7)=8, 1, 0) -> 0 | CH7: =IF($M7="None", 1, 0) -> 0 | CI7: =COUNTIF($P7:$V7, "") -> 7 | CJ7: =IF($W7="EL", 1, 0) -> 0 | CK7: =IF(SUM(CH7:CJ7)=9, 1, 0) -> 0 | CM7: =IF($B7="None", 1, 0) -> 0 | CN7: =COUNTIF($D7:$I7, "") -> 6 | CO7: =IF($J7="D", 1, 0) -> 0 | CP7: =IF(SUM(CM7:CO7)=8, 1, 0) -> 0 | CQ7: =IF($M7="None", 1, 0) -> 0 | CR7: =COUNTIF($P7:$V7, "") -> 7 | CS7: =IF($W7="D", 1, 0) -> 0 | CT7: =IF(SUM(CQ7:CS7)=9, 1, 0) -> 0 | CV7: =IF($B7="None", 1, 0) -> 0 | CW7: =COUNTIF($D7:$I7, "") -> 6 | CX7: =IF($J7="M", 1, 0) -> 0 | CY7: =IF(SUM(CV7:CX7)=8, 1, 0) -> 0 | CZ7: =IF($M7="None", 1, 0) -> 0 | DA7: =COUNTIF($P7:$V7, "") -> 7 | DB7: =IF($W7="M", 1, 0) -> 0 | DC7: =IF(SUM(CZ7:DB7)=9, 1, 0) -> 0 | DE7: =IF($B7="None", 1, 0) -> 0 | DF7: =COUNTIF($D7:$I7, "") -> 6 | DG7: =IF($J7="LC", 1, 0) -> 0 | DH7: =IF(SUM(DE7:DG7)=8, 1, 0) -> 0 | DI7: =IF($M7="None", 1, 0) -> 0 | DJ7: =COUNTIF($P7:$V7, "") -> 7 | DK7: =IF($W7="LC", 1, 0) -> 0 | DL7: =IF(SUM(DI7:DK7)=9, 1, 0) -> 0 | DN7: =IF($B7="None", 1, 0) -> 0 | DO7: =IF($D7="L", 1, 0) -> 0 | DP7: =IF(SUM(DN7:DO7)=2, 1, 0) -> 0 | DQ7: =IF($M7="None", 1, 0) -> 0 | DR7: =IF($P7="L", 1, 0) -> 0 | DS7: =IF(SUM(DQ7:DR7)=2, 1, 0) -> 0 | DU7: =IF($B7="None", 1, 0) -> 0 | DV7: =IF($D7="WL", 1, 0) -> 0 | DW7: =IF(SUM(DU7:DV7)=2, 1, 0) -> 0 | DX7: =IF($M7="None", 1, 0) -> 0 | DY7: =IF($P7="WL", 1, 0) -> 0 | DZ7: =IF(SUM(DX7:DY7)=2, 1, 0) -> 0 | EB7: =IF($B7="None", 1, 0) -> 0 | EC7: =IF($D7="VL", 1, 0) -> 0 | ED7: =IF(SUM(EB7:EC7)=2, 1, 0) -> 0 | EE7: =IF($M7="None", 1, 0) -> 0 | EF7: =IF($P7="VL", 1, 0) -> 0 | EG7: =IF(SUM(EE7:EF7)=2, 1, 0) -> 0
A8: 2 | L8: 52 | Z8: G | AA8: =(BF57+BJ57)/X2 -> #DIV/0! | AC8: =AG137/$X$2 -> #DIV/0! | AQ8: =IF(B8="None", 1, 0) -> 0 | AR8: =COUNTIF(D8:I8, "") -> 6 | AS8: =IF(J8="S", 1, 0) -> 0 | AT8: =IF(SUM(AQ8:AS8)=8, 1, 0) -> 0 | AU8: =IF(M8="None", 1, 0) -> 0 | AV8: =COUNTIF(P8:V8, "") -> 7 | AW8: =IF(W8="S", 1, 0) -> 0 | AX8: =IF(SUM(AU8:AW8)=9, 1, 0) -> 0 | AZ8: =IF(OR(B8="None", B8=""), 0, 1) -> 0 | BA8: =IF(OR(M8="None", M8=""), 0, 1) -> 0 | BC8: =IF($B8="None", 1, 0) -> 0 | BD8: =COUNTIF($D8:$I8, "") -> 6 | BE8: =IF($J8="G", 1, 0) -> 0 | BF8: =IF(SUM(BC8:BE8)=8, 1, 0) -> 0 | BG8: =IF($M8="None", 1, 0) -> 0 | BH8: =COUNTIF($P8:$V8, "") -> 7 | BI8: =IF($W8="G", 1, 0) -> 0 | BJ8: =IF(SUM(BG8:BI8)=9, 1, 0) -> 0 | BL8: =IF($B8="None", 1, 0) -> 0 | BM8: =COUNTIF($D8:$I8, "") -> 6 | BN8: =IF($J8="R", 1, 0) -> 0 | BO8: =IF(SUM(BL8:BN8)=8, 1, 0) -> 0 | BP8: =IF($M8="None", 1, 0) -> 0 | BQ8: =COUNTIF($P8:$V8, "") -> 7 | BR8: =IF($W8="R", 1, 0) -> 0 | BS8: =IF(SUM(BP8:BR8)=9, 1, 0) -> 0 | BU8: =IF($B8="None", 1, 0) -> 0 | BV8: =COUNTIF($D8:$I8, "") -> 6 | BW8: =IF($J8="BR", 1, 0) -> 0 | BX8: =IF(SUM(BU8:BW8)=8, 1, 0) -> 0 | BY8: =IF($M8="None", 1, 0) -> 0 | BZ8: =COUNTIF($P8:$V8, "") -> 7 | CA8: =IF($W8="BR", 1, 0) -> 0 | CB8: =IF(SUM(BY8:CA8)=9, 1, 0) -> 0 | CD8: =IF($B8="None", 1, 0) -> 0 | CE8: =COUNTIF($D8:$I8, "") -> 6 | CF8: =IF($J8="EL", 1, 0) -> 0 | CG8: =IF(SUM(CD8:CF8)=8, 1, 0) -> 0 | CH8: =IF($M8="None", 1, 0) -> 0 | CI8: =COUNTIF($P8:$V8, "") -> 7 | CJ8: =IF($W8="EL", 1, 0) -> 0 | CK8: =IF(SUM(CH8:CJ8)=9, 1, 0) -> 0 | CM8: =IF($B8="None", 1, 0) -> 0 | CN8: =COUNTIF($D8:$I8, "") -> 6 | CO8: =IF($J8="D", 1, 0) -> 0 | CP8: =IF(SUM(CM8:CO8)=8, 1, 0) -> 0 | CQ8: =IF($M8="None", 1, 0) -> 0 | CR8: =COUNTIF($P8:$V8, "") -> 7 | CS8: =IF($W8="D", 1, 0) -> 0 | CT8: =IF(SUM(CQ8:CS8)=9, 1, 0) -> 0 | CV8: =IF($B8="None", 1, 0) -> 0 | CW8: =COUNTIF($D8:$I8, "") -> 6 | CX8: =IF($J8="M", 1, 0) -> 0 | CY8: =IF(SUM(CV8:CX8)=8, 1, 0) -> 0 | CZ8: =IF($M8="None", 1, 0) -> 0 | DA8: =COUNTIF($P8:$V8, "") -> 7 | DB8: =IF($W8="M", 1, 0) -> 0 | DC8: =IF(SUM(CZ8:DB8)=9, 1, 0) -> 0 | DE8: =IF($B8="None", 1, 0) -> 0 | DF8: =COUNTIF($D8:$I8, "") -> 6 | DG8: =IF($J8="LC", 1, 0) -> 0 | DH8: =IF(SUM(DE8:DG8)=8, 1, 0) -> 0 | DI8: =IF($M8="None", 1, 0) -> 0 | DJ8: =COUNTIF($P8:$V8, "") -> 7 | DK8: =IF($W8="LC", 1, 0) -> 0 | DL8: =IF(SUM(DI8:DK8)=9, 1, 0) -> 0 | DN8: =IF($B8="None", 1, 0) -> 0 | DO8: =IF($D8="L", 1, 0) -> 0 | DP8: =IF(SUM(DN8:DO8)=2, 1, 0) -> 0 | DQ8: =IF($M8="None", 1, 0) -> 0 | DR8: =IF($P8="L", 1, 0) -> 0 | DS8: =IF(SUM(DQ8:DR8)=2, 1, 0) -> 0 | DU8: =IF($B8="None", 1, 0) -> 0 | DV8: =IF($D8="WL", 1, 0) -> 0 | DW8: =IF(SUM(DU8:DV8)=2, 1, 0) -> 0 | DX8: =IF($M8="None", 1, 0) -> 0 | DY8: =IF($P8="WL", 1, 0) -> 0 | DZ8: =IF(SUM(DX8:DY8)=2, 1, 0) -> 0 | EB8: =IF($B8="None", 1, 0) -> 0 | EC8: =IF($D8="VL", 1, 0) -> 0 | ED8: =IF(SUM(EB8:EC8)=2, 1, 0) -> 0 | EE8: =IF($M8="None", 1, 0) -> 0 | EF8: =IF($P8="VL", 1, 0) -> 0 | EG8: =IF(SUM(EE8:EF8)=2, 1, 0) -> 0
A9: 3 | L9: 53 | Z9: R | AA9: =(BO57+BS57)/X2 -> #DIV/0! | AC9: =AG138/$X$2 -> #DIV/0! | AQ9: =IF(B9="None", 1, 0) -> 0 | AR9: =COUNTIF(D9:I9, "") -> 6 | AS9: =IF(J9="S", 1, 0) -> 0 | AT9: =IF(SUM(AQ9:AS9)=8, 1, 0) -> 0 | AU9: =IF(M9="None", 1, 0) -> 0 | AV9: =COUNTIF(P9:V9, "") -> 7 | AW9: =IF(W9="S", 1, 0) -> 0 | AX9: =IF(SUM(AU9:AW9)=9, 1, 0) -> 0 | AZ9: =IF(OR(B9="None", B9=""), 0, 1) -> 0 | BA9: =IF(OR(M9="None", M9=""), 0, 1) -> 0 | BC9: =IF($B9="None", 1, 0) -> 0 | BD9: =COUNTIF($D9:$I9, "") -> 6 | BE9: =IF($J9="G", 1, 0) -> 0 | BF9: =IF(SUM(BC9:BE9)=8, 1, 0) -> 0 | BG9: =IF($M9="None", 1, 0) -> 0 | BH9: =COUNTIF($P9:$V9, "") -> 7 | BI9: =IF($W9="G", 1, 0) -> 0 | BJ9: =IF(SUM(BG9:BI9)=9, 1, 0) -> 0 | BL9: =IF($B9="None", 1, 0) -> 0 | BM9: =COUNTIF($D9:$I9, "") -> 6 | BN9: =IF($J9="R", 1, 0) -> 0 | BO9: =IF(SUM(BL9:BN9)=8, 1, 0) -> 0 | BP9: =IF($M9="None", 1, 0) -> 0 | BQ9: =COUNTIF($P9:$V9, "") -> 7 | BR9: =IF($W9="R", 1, 0) -> 0 | BS9: =IF(SUM(BP9:BR9)=9, 1, 0) -> 0 | BU9: =IF($B9="None", 1, 0) -> 0 | BV9: =COUNTIF($D9:$I9, "") -> 6 | BW9: =IF($J9="BR", 1, 0) -> 0 | BX9: =IF(SUM(BU9:BW9)=8, 1, 0) -> 0 | BY9: =IF($M9="None", 1, 0) -> 0 | BZ9: =COUNTIF($P9:$V9, "") -> 7 | CA9: =IF($W9="BR", 1, 0) -> 0 | CB9: =IF(SUM(BY9:CA9)=9, 1, 0) -> 0 | CD9: =IF($B9="None", 1, 0) -> 0 | CE9: =COUNTIF($D9:$I9, "") -> 6 | CF9: =IF($J9="EL", 1, 0) -> 0 | CG9: =IF(SUM(CD9:CF9)=8, 1, 0) -> 0 | CH9: =IF($M9="None", 1, 0) -> 0 | CI9: =COUNTIF($P9:$V9, "") -> 7 | CJ9: =IF($W9="EL", 1, 0) -> 0 | CK9: =IF(SUM(CH9:CJ9)=9, 1, 0) -> 0 | CM9: =IF($B9="None", 1, 0) -> 0 | CN9: =COUNTIF($D9:$I9, "") -> 6 | CO9: =IF($J9="D", 1, 0) -> 0 | CP9: =IF(SUM(CM9:CO9)=8, 1, 0) -> 0 | CQ9: =IF($M9="None", 1, 0) -> 0 | CR9: =COUNTIF($P9:$V9, "") -> 7 | CS9: =IF($W9="D", 1, 0) -> 0 | CT9: =IF(SUM(CQ9:CS9)=9, 1, 0) -> 0 | CV9: =IF($B9="None", 1, 0) -> 0 | CW9: =COUNTIF($D9:$I9, "") -> 6 | CX9: =IF($J9="M", 1, 0) -> 0 | CY9: =IF(SUM(CV9:CX9)=8, 1, 0) -> 0 | CZ9: =IF($M9="None", 1, 0) -> 0 | DA9: =COUNTIF($P9:$V9, "") -> 7 | DB9: =IF($W9="M", 1, 0) -> 0 | DC9: =IF(SUM(CZ9:DB9)=9, 1, 0) -> 0 | DE9: =IF($B9="None", 1, 0) -> 0 | DF9: =COUNTIF($D9:$I9, "") -> 6 | DG9: =IF($J9="LC", 1, 0) -> 0 | DH9: =IF(SUM(DE9:DG9)=8, 1, 0) -> 0 | DI9: =IF($M9="None", 1, 0) -> 0 | DJ9: =COUNTIF($P9:$V9, "") -> 7 | DK9: =IF($W9="LC", 1, 0) -> 0 | DL9: =IF(SUM(DI9:DK9)=9, 1, 0) -> 0 | DN9: =IF($B9="None", 1, 0) -> 0 | DO9: =IF($D9="L", 1, 0) -> 0 | DP9: =IF(SUM(DN9:DO9)=2, 1, 0) -> 0 | DQ9: =IF($M9="None", 1, 0) -> 0 | DR9: =IF($P9="L", 1, 0) -> 0 | DS9: =IF(SUM(DQ9:DR9)=2, 1, 0) -> 0 | DU9: =IF($B9="None", 1, 0) -> 0 | DV9: =IF($D9="WL", 1, 0) -> 0 | DW9: =IF(SUM(DU9:DV9)=2, 1, 0) -> 0 | DX9: =IF($M9="None", 1, 0) -> 0 | DY9: =IF($P9="WL", 1, 0) -> 0 | DZ9: =IF(SUM(DX9:DY9)=2, 1, 0) -> 0 | EB9: =IF($B9="None", 1, 0) -> 0 | EC9: =IF($D9="VL", 1, 0) -> 0 | ED9: =IF(SUM(EB9:EC9)=2, 1, 0) -> 0 | EE9: =IF($M9="None", 1, 0) -> 0 | EF9: =IF($P9="VL", 1, 0) -> 0 | EG9: =IF(SUM(EE9:EF9)=2, 1, 0) -> 0
A10: 4 | L10: 54 | Z10: BR | AA10: =(BX57+CB57)/X2 -> #DIV/0! | AC10: =AG139/$X$2 -> #DIV/0! | AQ10: =IF(B10="None", 1, 0) -> 0 | AR10: =COUNTIF(D10:I10, "") -> 6 | AS10: =IF(J10="S", 1, 0) -> 0 | AT10: =IF(SUM(AQ10:AS10)=8, 1, 0) -> 0 | AU10: =IF(M10="None", 1, 0) -> 0 | AV10: =COUNTIF(P10:V10, "") -> 7 | AW10: =IF(W10="S", 1, 0) -> 0 | AX10: =IF(SUM(AU10:AW10)=9, 1, 0) -> 0 | AZ10: =IF(OR(B10="None", B10=""), 0, 1) -> 0 | BA10: =IF(OR(M10="None", M10=""), 0, 1) -> 0 | BC10: =IF($B10="None", 1, 0) -> 0 | BD10: =COUNTIF($D10:$I10, "") -> 6 | BE10: =IF($J10="G", 1, 0) -> 0 | BF10: =IF(SUM(BC10:BE10)=8, 1, 0) -> 0 | BG10: =IF($M10="None", 1, 0) -> 0 | BH10: =COUNTIF($P10:$V10, "") -> 7 | BI10: =IF($W10="G", 1, 0) -> 0 | BJ10: =IF(SUM(BG10:BI10)=9, 1, 0) -> 0 | BL10: =IF($B10="None", 1, 0) -> 0 | BM10: =COUNTIF($D10:$I10, "") -> 6 | BN10: =IF($J10="R", 1, 0) -> 0 | BO10: =IF(SUM(BL10:BN10)=8, 1, 0) -> 0 | BP10: =IF($M10="None", 1, 0) -> 0 | BQ10: =COUNTIF($P10:$V10, "") -> 7 | BR10: =IF($W10="R", 1, 0) -> 0 | BS10: =IF(SUM(BP10:BR10)=9, 1, 0) -> 0 | BU10: =IF($B10="None", 1, 0) -> 0 | BV10: =COUNTIF($D10:$I10, "") -> 6 | BW10: =IF($J10="BR", 1, 0) -> 0 | BX10: =IF(SUM(BU10:BW10)=8, 1, 0) -> 0 | BY10: =IF($M10="None", 1, 0) -> 0 | BZ10: =COUNTIF($P10:$V10, "") -> 7 | CA10: =IF($W10="BR", 1, 0) -> 0 | CB10: =IF(SUM(BY10:CA10)=9, 1, 0) -> 0 | CD10: =IF($B10="None", 1, 0) -> 0 | CE10: =COUNTIF($D10:$I10, "") -> 6 | CF10: =IF($J10="EL", 1, 0) -> 0 | CG10: =IF(SUM(CD10:CF10)=8, 1, 0) -> 0 | CH10: =IF($M10="None", 1, 0) -> 0 | CI10: =COUNTIF($P10:$V10, "") -> 7 | CJ10: =IF($W10="EL", 1, 0) -> 0 | CK10: =IF(SUM(CH10:CJ10)=9, 1, 0) -> 0 | CM10: =IF($B10="None", 1, 0) -> 0 | CN10: =COUNTIF($D10:$I10, "") -> 6 | CO10: =IF($J10="D", 1, 0) -> 0 | CP10: =IF(SUM(CM10:CO10)=8, 1, 0) -> 0 | CQ10: =IF($M10="None", 1, 0) -> 0 | CR10: =COUNTIF($P10:$V10, "") -> 7 | CS10: =IF($W10="D", 1, 0) -> 0 | CT10: =IF(SUM(CQ10:CS10)=9, 1, 0) -> 0 | CV10: =IF($B10="None", 1, 0) -> 0 | CW10: =COUNTIF($D10:$I10, "") -> 6 | CX10: =IF($J10="M", 1, 0) -> 0 | CY10: =IF(SUM(CV10:CX10)=8, 1, 0) -> 0 | CZ10: =IF($M10="None", 1, 0) -> 0 | DA10: =COUNTIF($P10:$V10, "") -> 7 | DB10: =IF($W10="M", 1, 0) -> 0 | DC10: =IF(SUM(CZ10:DB10)=9, 1, 0) -> 0 | DE10: =IF($B10="None", 1, 0) -> 0 | DF10: =COUNTIF($D10:$I10, "") -> 6 | DG10: =IF($J10="LC", 1, 0) -> 0 | DH10: =IF(SUM(DE10:DG10)=8, 1, 0) -> 0 | DI10: =IF($M10="None", 1, 0) -> 0 | DJ10: =COUNTIF($P10:$V10, "") -> 7 | DK10: =IF($W10="LC", 1, 0) -> 0 | DL10: =IF(SUM(DI10:DK10)=9, 1, 0) -> 0 | DN10: =IF($B10="None", 1, 0) -> 0 | DO10: =IF($D10="L", 1, 0) -> 0 | DP10: =IF(SUM(DN10:DO10)=2, 1, 0) -> 0 | DQ10: =IF($M10="None", 1, 0) -> 0 | DR10: =IF($P10="L", 1, 0) -> 0 | DS10: =IF(SUM(DQ10:DR10)=2, 1, 0) -> 0 | DU10: =IF($B10="None", 1, 0) -> 0 | DV10: =IF($D10="WL", 1, 0) -> 0 | DW10: =IF(SUM(DU10:DV10)=2, 1, 0) -> 0 | DX10: =IF($M10="None", 1, 0) -> 0 | DY10: =IF($P10="WL", 1, 0) -> 0 | DZ10: =IF(SUM(DX10:DY10)=2, 1, 0) -> 0 | EB10: =IF($B10="None", 1, 0) -> 0 | EC10: =IF($D10="VL", 1, 0) -> 0 | ED10: =IF(SUM(EB10:EC10)=2, 1, 0) -> 0 | EE10: =IF($M10="None", 1, 0) -> 0 | EF10: =IF($P10="VL", 1, 0) -> 0 | EG10: =IF(SUM(EE10:EF10)=2, 1, 0) -> 0
A11: 5 | L11: 55 | Z11: EL | AA11: =(CG57+CK57)/X2 -> #DIV/0! | AC11: =AG140/$X$2 -> #DIV/0! | AF11: Lower layers codes: Species code, common name, L (herbaceous litter), WL (woody litter, >5 mm (~1/4 inch) diameter), VL (vagrant lichen). | AQ11: =IF(B11="None", 1, 0) -> 0 | AR11: =COUNTIF(D11:I11, "") -> 6 | AS11: =IF(J11="S", 1, 0) -> 0 | AT11: =IF(SUM(AQ11:AS11)=8, 1, 0) -> 0 | AU11: =IF(M11="None", 1, 0) -> 0 | AV11: =COUNTIF(P11:V11, "") -> 7 | AW11: =IF(W11="S", 1, 0) -> 0 | AX11: =IF(SUM(AU11:AW11)=9, 1, 0) -> 0 | AZ11: =IF(OR(B11="None", B11=""), 0, 1) -> 0 | BA11: =IF(OR(M11="None", M11=""), 0, 1) -> 0 | BC11: =IF($B11="None", 1, 0) -> 0 | BD11: =COUNTIF($D11:$I11, "") -> 6 | BE11: =IF($J11="G", 1, 0) -> 0 | BF11: =IF(SUM(BC11:BE11)=8, 1, 0) -> 0 | BG11: =IF($M11="None", 1, 0) -> 0 | BH11: =COUNTIF($P11:$V11, "") -> 7 | BI11: =IF($W11="G", 1, 0) -> 0 | BJ11: =IF(SUM(BG11:BI11)=9, 1, 0) -> 0 | BL11: =IF($B11="None", 1, 0) -> 0 | BM11: =COUNTIF($D11:$I11, "") -> 6 | BN11: =IF($J11="R", 1, 0) -> 0 | BO11: =IF(SUM(BL11:BN11)=8, 1, 0) -> 0 | BP11: =IF($M11="None", 1, 0) -> 0 | BQ11: =COUNTIF($P11:$V11, "") -> 7 | BR11: =IF($W11="R", 1, 0) -> 0 | BS11: =IF(SUM(BP11:BR11)=9, 1, 0) -> 0 | BU11: =IF($B11="None", 1, 0) -> 0 | BV11: =COUNTIF($D11:$I11, "") -> 6 | BW11: =IF($J11="BR", 1, 0) -> 0 | BX11: =IF(SUM(BU11:BW11)=8, 1, 0) -> 0 | BY11: =IF($M11="None", 1, 0) -> 0 | BZ11: =COUNTIF($P11:$V11, "") -> 7 | CA11: =IF($W11="BR", 1, 0) -> 0 | CB11: =IF(SUM(BY11:CA11)=9, 1, 0) -> 0 | CD11: =IF($B11="None", 1, 0) -> 0 | CE11: =COUNTIF($D11:$I11, "") -> 6 | CF11: =IF($J11="EL", 1, 0) -> 0 | CG11: =IF(SUM(CD11:CF11)=8, 1, 0) -> 0 | CH11: =IF($M11="None", 1, 0) -> 0 | CI11: =COUNTIF($P11:$V11, "") -> 7 | CJ11: =IF($W11="EL", 1, 0) -> 0 | CK11: =IF(SUM(CH11:CJ11)=9, 1, 0) -> 0 | CM11: =IF($B11="None", 1, 0) -> 0 | CN11: =COUNTIF($D11:$I11, "") -> 6 | CO11: =IF($J11="D", 1, 0) -> 0 | CP11: =IF(SUM(CM11:CO11)=8, 1, 0) -> 0 | CQ11: =IF($M11="None", 1, 0) -> 0 | CR11: =COUNTIF($P11:$V11, "") -> 7 | CS11: =IF($W11="D", 1, 0) -> 0 | CT11: =IF(SUM(CQ11:CS11)=9, 1, 0) -> 0 | CV11: =IF($B11="None", 1, 0) -> 0 | CW11: =COUNTIF($D11:$I11, "") -> 6 | CX11: =IF($J11="M", 1, 0) -> 0 | CY11: =IF(SUM(CV11:CX11)=8, 1, 0) -> 0 | CZ11: =IF($M11="None", 1, 0) -> 0 | DA11: =COUNTIF($P11:$V11, "") -> 7 | DB11: =IF($W11="M", 1, 0) -> 0 | DC11: =IF(SUM(CZ11:DB11)=9, 1, 0) -> 0 | DE11: =IF($B11="None", 1, 0) -> 0 | DF11: =COUNTIF($D11:$I11, "") -> 6 | DG11: =IF($J11="LC", 1, 0) -> 0 | DH11: =IF(SUM(DE11:DG11)=8, 1, 0) -> 0 | DI11: =IF($M11="None", 1, 0) -> 0 | DJ11: =COUNTIF($P11:$V11, "") -> 7 | DK11: =IF($W11="LC", 1, 0) -> 0 | DL11: =IF(SUM(DI11:DK11)=9, 1, 0) -> 0 | DN11: =IF($B11="None", 1, 0) -> 0 | DO11: =IF($D11="L", 1, 0) -> 0 | DP11: =IF(SUM(DN11:DO11)=2, 1, 0) -> 0 | DQ11: =IF($M11="None", 1, 0) -> 0 | DR11: =IF($P11="L", 1, 0) -> 0 | DS11: =IF(SUM(DQ11:DR11)=2, 1, 0) -> 0 | DU11: =IF($B11="None", 1, 0) -> 0 | DV11: =IF($D11="WL", 1, 0) -> 0 | DW11: =IF(SUM(DU11:DV11)=2, 1, 0) -> 0 | DX11: =IF($M11="None", 1, 0) -> 0 | DY11: =IF($P11="WL", 1, 0) -> 0 | DZ11: =IF(SUM(DX11:DY11)=2, 1, 0) -> 0 | EB11: =IF($B11="None", 1, 0) -> 0 | EC11: =IF($D11="VL", 1, 0) -> 0 | ED11: =IF(SUM(EB11:EC11)=2, 1, 0) -> 0 | EE11: =IF($M11="None", 1, 0) -> 0 | EF11: =IF($P11="VL", 1, 0) -> 0 | EG11: =IF(SUM(EE11:EF11)=2, 1, 0) -> 0
A12: 6 | L12: 56 | Z12: D | AA12: =(CP57+CT57)/X2 -> #DIV/0! | AC12: =AG141/$X$2 -> #DIV/0! | AQ12: =IF(B12="None", 1, 0) -> 0 | AR12: =COUNTIF(D12:I12, "") -> 6 | AS12: =IF(J12="S", 1, 0) -> 0 | AT12: =IF(SUM(AQ12:AS12)=8, 1, 0) -> 0 | AU12: =IF(M12="None", 1, 0) -> 0 | AV12: =COUNTIF(P12:V12, "") -> 7 | AW12: =IF(W12="S", 1, 0) -> 0 | AX12: =IF(SUM(AU12:AW12)=9, 1, 0) -> 0 | AZ12: =IF(OR(B12="None", B12=""), 0, 1) -> 0 | BA12: =IF(OR(M12="None", M12=""), 0, 1) -> 0 | BC12: =IF($B12="None", 1, 0) -> 0 | BD12: =COUNTIF($D12:$I12, "") -> 6 | BE12: =IF($J12="G", 1, 0) -> 0 | BF12: =IF(SUM(BC12:BE12)=8, 1, 0) -> 0 | BG12: =IF($M12="None", 1, 0) -> 0 | BH12: =COUNTIF($P12:$V12, "") -> 7 | BI12: =IF($W12="G", 1, 0) -> 0 | BJ12: =IF(SUM(BG12:BI12)=9, 1, 0) -> 0 | BL12: =IF($B12="None", 1, 0) -> 0 | BM12: =COUNTIF($D12:$I12, "") -> 6 | BN12: =IF($J12="R", 1, 0) -> 0 | BO12: =IF(SUM(BL12:BN12)=8, 1, 0) -> 0 | BP12: =IF($M12="None", 1, 0) -> 0 | BQ12: =COUNTIF($P12:$V12, "") -> 7 | BR12: =IF($W12="R", 1, 0) -> 0 | BS12: =IF(SUM(BP12:BR12)=9, 1, 0) -> 0 | BU12: =IF($B12="None", 1, 0) -> 0 | BV12: =COUNTIF($D12:$I12, "") -> 6 | BW12: =IF($J12="BR", 1, 0) -> 0 | BX12: =IF(SUM(BU12:BW12)=8, 1, 0) -> 0 | BY12: =IF($M12="None", 1, 0) -> 0 | BZ12: =COUNTIF($P12:$V12, "") -> 7 | CA12: =IF($W12="BR", 1, 0) -> 0 | CB12: =IF(SUM(BY12:CA12)=9, 1, 0) -> 0 | CD12: =IF($B12="None", 1, 0) -> 0 | CE12: =COUNTIF($D12:$I12, "") -> 6 | CF12: =IF($J12="EL", 1, 0) -> 0 | CG12: =IF(SUM(CD12:CF12)=8, 1, 0) -> 0 | CH12: =IF($M12="None", 1, 0) -> 0 | CI12: =COUNTIF($P12:$V12, "") -> 7 | CJ12: =IF($W12="EL", 1, 0) -> 0 | CK12: =IF(SUM(CH12:CJ12)=9, 1, 0) -> 0 | CM12: =IF($B12="None", 1, 0) -> 0 | CN12: =COUNTIF($D12:$I12, "") -> 6 | CO12: =IF($J12="D", 1, 0) -> 0 | CP12: =IF(SUM(CM12:CO12)=8, 1, 0) -> 0 | CQ12: =IF($M12="None", 1, 0) -> 0 | CR12: =COUNTIF($P12:$V12, "") -> 7 | CS12: =IF($W12="D", 1, 0) -> 0 | CT12: =IF(SUM(CQ12:CS12)=9, 1, 0) -> 0 | CV12: =IF($B12="None", 1, 0) -> 0 | CW12: =COUNTIF($D12:$I12, "") -> 6 | CX12: =IF($J12="M", 1, 0) -> 0 | CY12: =IF(SUM(CV12:CX12)=8, 1, 0) -> 0 | CZ12: =IF($M12="None", 1, 0) -> 0 | DA12: =COUNTIF($P12:$V12, "") -> 7 | DB12: =IF($W12="M", 1, 0) -> 0 | DC12: =IF(SUM(CZ12:DB12)=9, 1, 0) -> 0 | DE12: =IF($B12="None", 1, 0) -> 0 | DF12: =COUNTIF($D12:$I12, "") -> 6 | DG12: =IF($J12="LC", 1, 0) -> 0 | DH12: =IF(SUM(DE12:DG12)=8, 1, 0) -> 0 | DI12: =IF($M12="None", 1, 0) -> 0 | DJ12: =COUNTIF($P12:$V12, "") -> 7 | DK12: =IF($W12="LC", 1, 0) -> 0 | DL12: =IF(SUM(DI12:DK12)=9, 1, 0) -> 0 | DN12: =IF($B12="None", 1, 0) -> 0 | DO12: =IF($D12="L", 1, 0) -> 0 | DP12: =IF(SUM(DN12:DO12)=2, 1, 0) -> 0 | DQ12: =IF($M12="None", 1, 0) -> 0 | DR12: =IF($P12="L", 1, 0) -> 0 | DS12: =IF(SUM(DQ12:DR12)=2, 1, 0) -> 0 | DU12: =IF($B12="None", 1, 0) -> 0 | DV12: =IF($D12="WL", 1, 0) -> 0 | DW12: =IF(SUM(DU12:DV12)=2, 1, 0) -> 0 | DX12: =IF($M12="None", 1, 0) -> 0 | DY12: =IF($P12="WL", 1, 0) -> 0 | DZ12: =IF(SUM(DX12:DY12)=2, 1, 0) -> 0 | EB12: =IF($B12="None", 1, 0) -> 0 | EC12: =IF($D12="VL", 1, 0) -> 0 | ED12: =IF(SUM(EB12:EC12)=2, 1, 0) -> 0 | EE12: =IF($M12="None", 1, 0) -> 0 | EF12: =IF($P12="VL", 1, 0) -> 0 | EG12: =IF(SUM(EE12:EF12)=2, 1, 0) -> 0
A13: 7 | L13: 57 | Z13: M | AA13: =(CY57+DC57)/X2 -> #DIV/0! | AC13: =AG142/$X$2 -> #DIV/0! | AQ13: =IF(B13="None", 1, 0) -> 0 | AR13: =COUNTIF(D13:I13, "") -> 6 | AS13: =IF(J13="S", 1, 0) -> 0 | AT13: =IF(SUM(AQ13:AS13)=8, 1, 0) -> 0 | AU13: =IF(M13="None", 1, 0) -> 0 | AV13: =COUNTIF(P13:V13, "") -> 7 | AW13: =IF(W13="S", 1, 0) -> 0 | AX13: =IF(SUM(AU13:AW13)=9, 1, 0) -> 0 | AZ13: =IF(OR(B13="None", B13=""), 0, 1) -> 0 | BA13: =IF(OR(M13="None", M13=""), 0, 1) -> 0 | BC13: =IF($B13="None", 1, 0) -> 0 | BD13: =COUNTIF($D13:$I13, "") -> 6 | BE13: =IF($J13="G", 1, 0) -> 0 | BF13: =IF(SUM(BC13:BE13)=8, 1, 0) -> 0 | BG13: =IF($M13="None", 1, 0) -> 0 | BH13: =COUNTIF($P13:$V13, "") -> 7 | BI13: =IF($W13="G", 1, 0) -> 0 | BJ13: =IF(SUM(BG13:BI13)=9, 1, 0) -> 0 | BL13: =IF($B13="None", 1, 0) -> 0 | BM13: =COUNTIF($D13:$I13, "") -> 6 | BN13: =IF($J13="R", 1, 0) -> 0 | BO13: =IF(SUM(BL13:BN13)=8, 1, 0) -> 0 | BP13: =IF($M13="None", 1, 0) -> 0 | BQ13: =COUNTIF($P13:$V13, "") -> 7 | BR13: =IF($W13="R", 1, 0) -> 0 | BS13: =IF(SUM(BP13:BR13)=9, 1, 0) -> 0 | BU13: =IF($B13="None", 1, 0) -> 0 | BV13: =COUNTIF($D13:$I13, "") -> 6 | BW13: =IF($J13="BR", 1, 0) -> 0 | BX13: =IF(SUM(BU13:BW13)=8, 1, 0) -> 0 | BY13: =IF($M13="None", 1, 0) -> 0 | BZ13: =COUNTIF($P13:$V13, "") -> 7 | CA13: =IF($W13="BR", 1, 0) -> 0 | CB13: =IF(SUM(BY13:CA13)=9, 1, 0) -> 0 | CD13: =IF($B13="None", 1, 0) -> 0 | CE13: =COUNTIF($D13:$I13, "") -> 6 | CF13: =IF($J13="EL", 1, 0) -> 0 | CG13: =IF(SUM(CD13:CF13)=8, 1, 0) -> 0 | CH13: =IF($M13="None", 1, 0) -> 0 | CI13: =COUNTIF($P13:$V13, "") -> 7 | CJ13: =IF($W13="EL", 1, 0) -> 0 | CK13: =IF(SUM(CH13:CJ13)=9, 1, 0) -> 0 | CM13: =IF($B13="None", 1, 0) -> 0 | CN13: =COUNTIF($D13:$I13, "") -> 6 | CO13: =IF($J13="D", 1, 0) -> 0 | CP13: =IF(SUM(CM13:CO13)=8, 1, 0) -> 0 | CQ13: =IF($M13="None", 1, 0) -> 0 | CR13: =COUNTIF($P13:$V13, "") -> 7 | CS13: =IF($W13="D", 1, 0) -> 0 | CT13: =IF(SUM(CQ13:CS13)=9, 1, 0) -> 0 | CV13: =IF($B13="None", 1, 0) -> 0 | CW13: =COUNTIF($D13:$I13, "") -> 6 | CX13: =IF($J13="M", 1, 0) -> 0 | CY13: =IF(SUM(CV13:CX13)=8, 1, 0) -> 0 | CZ13: =IF($M13="None", 1, 0) -> 0 | DA13: =COUNTIF($P13:$V13, "") -> 7 | DB13: =IF($W13="M", 1, 0) -> 0 | DC13: =IF(SUM(CZ13:DB13)=9, 1, 0) -> 0 | DE13: =IF($B13="None", 1, 0) -> 0 | DF13: =COUNTIF($D13:$I13, "") -> 6 | DG13: =IF($J13="LC", 1, 0) -> 0 | DH13: =IF(SUM(DE13:DG13)=8, 1, 0) -> 0 | DI13: =IF($M13="None", 1, 0) -> 0 | DJ13: =COUNTIF($P13:$V13, "") -> 7 | DK13: =IF($W13="LC", 1, 0) -> 0 | DL13: =IF(SUM(DI13:DK13)=9, 1, 0) -> 0 | DN13: =IF($B13="None", 1, 0) -> 0 | DO13: =IF($D13="L", 1, 0) -> 0 | DP13: =IF(SUM(DN13:DO13)=2, 1, 0) -> 0 | DQ13: =IF($M13="None", 1, 0) -> 0 | DR13: =IF($P13="L", 1, 0) -> 0 | DS13: =IF(SUM(DQ13:DR13)=2, 1, 0) -> 0 | DU13: =IF($B13="None", 1, 0) -> 0 | DV13: =IF($D13="WL", 1, 0) -> 0 | DW13: =IF(SUM(DU13:DV13)=2, 1, 0) -> 0 | DX13: =IF($M13="None", 1, 0) -> 0 | DY13: =IF($P13="WL", 1, 0) -> 0 | DZ13: =IF(SUM(DX13:DY13)=2, 1, 0) -> 0 | EB13: =IF($B13="None", 1, 0) -> 0 | EC13: =IF($D13="VL", 1, 0) -> 0 | ED13: =IF(SUM(EB13:EC13)=2, 1, 0) -> 0 | EE13: =IF($M13="None", 1, 0) -> 0 | EF13: =IF($P13="VL", 1, 0) -> 0 | EG13: =IF(SUM(EE13:EF13)=2, 1, 0) -> 0
A14: 8 | L14: 58 | Z14: LC | AA14: =(DH57+DL57)/X2 -> #DIV/0! | AC14: =AG143/$X$2 -> #DIV/0! | AQ14: =IF(B14="None", 1, 0) -> 0 | AR14: =COUNTIF(D14:I14, "") -> 6 | AS14: =IF(J14="S", 1, 0) -> 0 | AT14: =IF(SUM(AQ14:AS14)=8, 1, 0) -> 0 | AU14: =IF(M14="None", 1, 0) -> 0 | AV14: =COUNTIF(P14:V14, "") -> 7 | AW14: =IF(W14="S", 1, 0) -> 0 | AX14: =IF(SUM(AU14:AW14)=9, 1, 0) -> 0 | AZ14: =IF(OR(B14="None", B14=""), 0, 1) -> 0 | BA14: =IF(OR(M14="None", M14=""), 0, 1) -> 0 | BC14: =IF($B14="None", 1, 0) -> 0 | BD14: =COUNTIF($D14:$I14, "") -> 6 | BE14: =IF($J14="G", 1, 0) -> 0 | BF14: =IF(SUM(BC14:BE14)=8, 1, 0) -> 0 | BG14: =IF($M14="None", 1, 0) -> 0 | BH14: =COUNTIF($P14:$V14, "") -> 7 | BI14: =IF($W14="G", 1, 0) -> 0 | BJ14: =IF(SUM(BG14:BI14)=9, 1, 0) -> 0 | BL14: =IF($B14="None", 1, 0) -> 0 | BM14: =COUNTIF($D14:$I14, "") -> 6 | BN14: =IF($J14="R", 1, 0) -> 0 | BO14: =IF(SUM(BL14:BN14)=8, 1, 0) -> 0 | BP14: =IF($M14="None", 1, 0) -> 0 | BQ14: =COUNTIF($P14:$V14, "") -> 7 | BR14: =IF($W14="R", 1, 0) -> 0 | BS14: =IF(SUM(BP14:BR14)=9, 1, 0) -> 0 | BU14: =IF($B14="None", 1, 0) -> 0 | BV14: =COUNTIF($D14:$I14, "") -> 6 | BW14: =IF($J14="BR", 1, 0) -> 0 | BX14: =IF(SUM(BU14:BW14)=8, 1, 0) -> 0 | BY14: =IF($M14="None", 1, 0) -> 0 | BZ14: =COUNTIF($P14:$V14, "") -> 7 | CA14: =IF($W14="BR", 1, 0) -> 0 | CB14: =IF(SUM(BY14:CA14)=9, 1, 0) -> 0 | CD14: =IF($B14="None", 1, 0) -> 0 | CE14: =COUNTIF($D14:$I14, "") -> 6 | CF14: =IF($J14="EL", 1, 0) -> 0 | CG14: =IF(SUM(CD14:CF14)=8, 1, 0) -> 0 | CH14: =IF($M14="None", 1, 0) -> 0 | CI14: =COUNTIF($P14:$V14, "") -> 7 | CJ14: =IF($W14="EL", 1, 0) -> 0 | CK14: =IF(SUM(CH14:CJ14)=9, 1, 0) -> 0 | CM14: =IF($B14="None", 1, 0) -> 0 | CN14: =COUNTIF($D14:$I14, "") -> 6 | CO14: =IF($J14="D", 1, 0) -> 0 | CP14: =IF(SUM(CM14:CO14)=8, 1, 0) -> 0 | CQ14: =IF($M14="None", 1, 0) -> 0 | CR14: =COUNTIF($P14:$V14, "") -> 7 | CS14: =IF($W14="D", 1, 0) -> 0 | CT14: =IF(SUM(CQ14:CS14)=9, 1, 0) -> 0 | CV14: =IF($B14="None", 1, 0) -> 0 | CW14: =COUNTIF($D14:$I14, "") -> 6 | CX14: =IF($J14="M", 1, 0) -> 0 | CY14: =IF(SUM(CV14:CX14)=8, 1, 0) -> 0 | CZ14: =IF($M14="None", 1, 0) -> 0 | DA14: =COUNTIF($P14:$V14, "") -> 7 | DB14: =IF($W14="M", 1, 0) -> 0 | DC14: =IF(SUM(CZ14:DB14)=9, 1, 0) -> 0 | DE14: =IF($B14="None", 1, 0) -> 0 | DF14: =COUNTIF($D14:$I14, "") -> 6 | DG14: =IF($J14="LC", 1, 0) -> 0 | DH14: =IF(SUM(DE14:DG14)=8, 1, 0) -> 0 | DI14: =IF($M14="None", 1, 0) -> 0 | DJ14: =COUNTIF($P14:$V14, "") -> 7 | DK14: =IF($W14="LC", 1, 0) -> 0 | DL14: =IF(SUM(DI14:DK14)=9, 1, 0) -> 0 | DN14: =IF($B14="None", 1, 0) -> 0 | DO14: =IF($D14="L", 1, 0) -> 0 | DP14: =IF(SUM(DN14:DO14)=2, 1, 0) -> 0 | DQ14: =IF($M14="None", 1, 0) -> 0 | DR14: =IF($P14="L", 1, 0) -> 0 | DS14: =IF(SUM(DQ14:DR14)=2, 1, 0) -> 0 | DU14: =IF($B14="None", 1, 0) -> 0 | DV14: =IF($D14="WL", 1, 0) -> 0 | DW14: =IF(SUM(DU14:DV14)=2, 1, 0) -> 0 | DX14: =IF($M14="None", 1, 0) -> 0 | DY14: =IF($P14="WL", 1, 0) -> 0 | DZ14: =IF(SUM(DX14:DY14)=2, 1, 0) -> 0 | EB14: =IF($B14="None", 1, 0) -> 0 | EC14: =IF($D14="VL", 1, 0) -> 0 | ED14: =IF(SUM(EB14:EC14)=2, 1, 0) -> 0 | EE14: =IF($M14="None", 1, 0) -> 0 | EF14: =IF($P14="VL", 1, 0) -> 0 | EG14: =IF(SUM(EE14:EF14)=2, 1, 0) -> 0
A15: 9 | L15: 59 | Z15: S | AA15: =(AT57+AX57)/X2 -> #DIV/0! | AC15: =AG144/$X$2 -> #DIV/0! | AQ15: =IF(B15="None", 1, 0) -> 0 | AR15: =COUNTIF(D15:I15, "") -> 6 | AS15: =IF(J15="S", 1, 0) -> 0 | AT15: =IF(SUM(AQ15:AS15)=8, 1, 0) -> 0 | AU15: =IF(M15="None", 1, 0) -> 0 | AV15: =COUNTIF(P15:V15, "") -> 7 | AW15: =IF(W15="S", 1, 0) -> 0 | AX15: =IF(SUM(AU15:AW15)=9, 1, 0) -> 0 | AZ15: =IF(OR(B15="None", B15=""), 0, 1) -> 0 | BA15: =IF(OR(M15="None", M15=""), 0, 1) -> 0 | BC15: =IF($B15="None", 1, 0) -> 0 | BD15: =COUNTIF($D15:$I15, "") -> 6 | BE15: =IF($J15="G", 1, 0) -> 0 | BF15: =IF(SUM(BC15:BE15)=8, 1, 0) -> 0 | BG15: =IF($M15="None", 1, 0) -> 0 | BH15: =COUNTIF($P15:$V15, "") -> 7 | BI15: =IF($W15="G", 1, 0) -> 0 | BJ15: =IF(SUM(BG15:BI15)=9, 1, 0) -> 0 | BL15: =IF($B15="None", 1, 0) -> 0 | BM15: =COUNTIF($D15:$I15, "") -> 6 | BN15: =IF($J15="R", 1, 0) -> 0 | BO15: =IF(SUM(BL15:BN15)=8, 1, 0) -> 0 | BP15: =IF($M15="None", 1, 0) -> 0 | BQ15: =COUNTIF($P15:$V15, "") -> 7 | BR15: =IF($W15="R", 1, 0) -> 0 | BS15: =IF(SUM(BP15:BR15)=9, 1, 0) -> 0 | BU15: =IF($B15="None", 1, 0) -> 0 | BV15: =COUNTIF($D15:$I15, "") -> 6 | BW15: =IF($J15="BR", 1, 0) -> 0 | BX15: =IF(SUM(BU15:BW15)=8, 1, 0) -> 0 | BY15: =IF($M15="None", 1, 0) -> 0 | BZ15: =COUNTIF($P15:$V15, "") -> 7 | CA15: =IF($W15="BR", 1, 0) -> 0 | CB15: =IF(SUM(BY15:CA15)=9, 1, 0) -> 0 | CD15: =IF($B15="None", 1, 0) -> 0 | CE15: =COUNTIF($D15:$I15, "") -> 6 | CF15: =IF($J15="EL", 1, 0) -> 0 | CG15: =IF(SUM(CD15:CF15)=8, 1, 0) -> 0 | CH15: =IF($M15="None", 1, 0) -> 0 | CI15: =COUNTIF($P15:$V15, "") -> 7 | CJ15: =IF($W15="EL", 1, 0) -> 0 | CK15: =IF(SUM(CH15:CJ15)=9, 1, 0) -> 0 | CM15: =IF($B15="None", 1, 0) -> 0 | CN15: =COUNTIF($D15:$I15, "") -> 6 | CO15: =IF($J15="D", 1, 0) -> 0 | CP15: =IF(SUM(CM15:CO15)=8, 1, 0) -> 0 | CQ15: =IF($M15="None", 1, 0) -> 0 | CR15: =COUNTIF($P15:$V15, "") -> 7 | CS15: =IF($W15="D", 1, 0) -> 0 | CT15: =IF(SUM(CQ15:CS15)=9, 1, 0) -> 0 | CV15: =IF($B15="None", 1, 0) -> 0 | CW15: =COUNTIF($D15:$I15, "") -> 6 | CX15: =IF($J15="M", 1, 0) -> 0 | CY15: =IF(SUM(CV15:CX15)=8, 1, 0) -> 0 | CZ15: =IF($M15="None", 1, 0) -> 0 | DA15: =COUNTIF($P15:$V15, "") -> 7 | DB15: =IF($W15="M", 1, 0) -> 0 | DC15: =IF(SUM(CZ15:DB15)=9, 1, 0) -> 0 | DE15: =IF($B15="None", 1, 0) -> 0 | DF15: =COUNTIF($D15:$I15, "") -> 6 | DG15: =IF($J15="LC", 1, 0) -> 0 | DH15: =IF(SUM(DE15:DG15)=8, 1, 0) -> 0 | DI15: =IF($M15="None", 1, 0) -> 0 | DJ15: =COUNTIF($P15:$V15, "") -> 7 | DK15: =IF($W15="LC", 1, 0) -> 0 | DL15: =IF(SUM(DI15:DK15)=9, 1, 0) -> 0 | DN15: =IF($B15="None", 1, 0) -> 0 | DO15: =IF($D15="L", 1, 0) -> 0 | DP15: =IF(SUM(DN15:DO15)=2, 1, 0) -> 0 | DQ15: =IF($M15="None", 1, 0) -> 0 | DR15: =IF($P15="L", 1, 0) -> 0 | DS15: =IF(SUM(DQ15:DR15)=2, 1, 0) -> 0 | DU15: =IF($B15="None", 1, 0) -> 0 | DV15: =IF($D15="WL", 1, 0) -> 0 | DW15: =IF(SUM(DU15:DV15)=2, 1, 0) -> 0 | DX15: =IF($M15="None", 1, 0) -> 0 | DY15: =IF($P15="WL", 1, 0) -> 0 | DZ15: =IF(SUM(DX15:DY15)=2, 1, 0) -> 0 | EB15: =IF($B15="None", 1, 0) -> 0 | EC15: =IF($D15="VL", 1, 0) -> 0 | ED15: =IF(SUM(EB15:EC15)=2, 1, 0) -> 0 | EE15: =IF($M15="None", 1, 0) -> 0 | EF15: =IF($P15="VL", 1, 0) -> 0 | EG15: =IF(SUM(EE15:EF15)=2, 1, 0) -> 0
A16: 10 | L16: 60 | Z16: VL | AA16: =(ED57+EG57)/X2 -> #DIV/0! | AC16: =AG146/$X$2 -> #DIV/0! | AK16: Soil Surface (do not use litter): | AQ16: =IF(B16="None", 1, 0) -> 0 | AR16: =COUNTIF(D16:I16, "") -> 6 | AS16: =IF(J16="S", 1, 0) -> 0 | AT16: =IF(SUM(AQ16:AS16)=8, 1, 0) -> 0 | AU16: =IF(M16="None", 1, 0) -> 0 | AV16: =COUNTIF(P16:V16, "") -> 7 | AW16: =IF(W16="S", 1, 0) -> 0 | AX16: =IF(SUM(AU16:AW16)=9, 1, 0) -> 0 | AZ16: =IF(OR(B16="None", B16=""), 0, 1) -> 0 | BA16: =IF(OR(M16="None", M16=""), 0, 1) -> 0 | BC16: =IF($B16="None", 1, 0) -> 0 | BD16: =COUNTIF($D16:$I16, "") -> 6 | BE16: =IF($J16="G", 1, 0) -> 0 | BF16: =IF(SUM(BC16:BE16)=8, 1, 0) -> 0 | BG16: =IF($M16="None", 1, 0) -> 0 | BH16: =COUNTIF($P16:$V16, "") -> 7 | BI16: =IF($W16="G", 1, 0) -> 0 | BJ16: =IF(SUM(BG16:BI16)=9, 1, 0) -> 0 | BL16: =IF($B16="None", 1, 0) -> 0 | BM16: =COUNTIF($D16:$I16, "") -> 6 | BN16: =IF($J16="R", 1, 0) -> 0 | BO16: =IF(SUM(BL16:BN16)=8, 1, 0) -> 0 | BP16: =IF($M16="None", 1, 0) -> 0 | BQ16: =COUNTIF($P16:$V16, "") -> 7 | BR16: =IF($W16="R", 1, 0) -> 0 | BS16: =IF(SUM(BP16:BR16)=9, 1, 0) -> 0 | BU16: =IF($B16="None", 1, 0) -> 0 | BV16: =COUNTIF($D16:$I16, "") -> 6 | BW16: =IF($J16="BR", 1, 0) -> 0 | BX16: =IF(SUM(BU16:BW16)=8, 1, 0) -> 0 | BY16: =IF($M16="None", 1, 0) -> 0 | BZ16: =COUNTIF($P16:$V16, "") -> 7 | CA16: =IF($W16="BR", 1, 0) -> 0 | CB16: =IF(SUM(BY16:CA16)=9, 1, 0) -> 0 | CD16: =IF($B16="None", 1, 0) -> 0 | CE16: =COUNTIF($D16:$I16, "") -> 6 | CF16: =IF($J16="EL", 1, 0) -> 0 | CG16: =IF(SUM(CD16:CF16)=8, 1, 0) -> 0 | CH16: =IF($M16="None", 1, 0) -> 0 | CI16: =COUNTIF($P16:$V16, "") -> 7 | CJ16: =IF($W16="EL", 1, 0) -> 0 | CK16: =IF(SUM(CH16:CJ16)=9, 1, 0) -> 0 | CM16: =IF($B16="None", 1, 0) -> 0 | CN16: =COUNTIF($D16:$I16, "") -> 6 | CO16: =IF($J16="D", 1, 0) -> 0 | CP16: =IF(SUM(CM16:CO16)=8, 1, 0) -> 0 | CQ16: =IF($M16="None", 1, 0) -> 0 | CR16: =COUNTIF($P16:$V16, "") -> 7 | CS16: =IF($W16="D", 1, 0) -> 0 | CT16: =IF(SUM(CQ16:CS16)=9, 1, 0) -> 0 | CV16: =IF($B16="None", 1, 0) -> 0 | CW16: =COUNTIF($D16:$I16, "") -> 6 | CX16: =IF($J16="M", 1, 0) -> 0 | CY16: =IF(SUM(CV16:CX16)=8, 1, 0) -> 0 | CZ16: =IF($M16="None", 1, 0) -> 0 | DA16: =COUNTIF($P16:$V16, "") -> 7 | DB16: =IF($W16="M", 1, 0) -> 0 | DC16: =IF(SUM(CZ16:DB16)=9, 1, 0) -> 0 | DE16: =IF($B16="None", 1, 0) -> 0 | DF16: =COUNTIF($D16:$I16, "") -> 6 | DG16: =IF($J16="LC", 1, 0) -> 0 | DH16: =IF(SUM(DE16:DG16)=8, 1, 0) -> 0 | DI16: =IF($M16="None", 1, 0) -> 0 | DJ16: =COUNTIF($P16:$V16, "") -> 7 | DK16: =IF($W16="LC", 1, 0) -> 0 | DL16: =IF(SUM(DI16:DK16)=9, 1, 0) -> 0 | DN16: =IF($B16="None", 1, 0) -> 0 | DO16: =IF($D16="L", 1, 0) -> 0 | DP16: =IF(SUM(DN16:DO16)=2, 1, 0) -> 0 | DQ16: =IF($M16="None", 1, 0) -> 0 | DR16: =IF($P16="L", 1, 0) -> 0 | DS16: =IF(SUM(DQ16:DR16)=2, 1, 0) -> 0 | DU16: =IF($B16="None", 1, 0) -> 0 | DV16: =IF($D16="WL", 1, 0) -> 0 | DW16: =IF(SUM(DU16:DV16)=2, 1, 0) -> 0 | DX16: =IF($M16="None", 1, 0) -> 0 | DY16: =IF($P16="WL", 1, 0) -> 0 | DZ16: =IF(SUM(DX16:DY16)=2, 1, 0) -> 0 | EB16: =IF($B16="None", 1, 0) -> 0 | EC16: =IF($D16="VL", 1, 0) -> 0 | ED16: =IF(SUM(EB16:EC16)=2, 1, 0) -> 0 | EE16: =IF($M16="None", 1, 0) -> 0 | EF16: =IF($P16="VL", 1, 0) -> 0 | EG16: =IF(SUM(EE16:EF16)=2, 1, 0) -> 0
A17: 11 | L17: 61 | Z17: WL | AA17: =(DW57+DZ57)/X2 -> #DIV/0! | AC17: =AG145/$X$2 -> #DIV/0! | AF17: Unknown Species Codes: | AK17: G = | AL17: gravel (≤5 mm or ~1/4 in) | AQ17: =IF(B17="None", 1, 0) -> 0 | AR17: =COUNTIF(D17:I17, "") -> 6 | AS17: =IF(J17="S", 1, 0) -> 0 | AT17: =IF(SUM(AQ17:AS17)=8, 1, 0) -> 0 | AU17: =IF(M17="None", 1, 0) -> 0 | AV17: =COUNTIF(P17:V17, "") -> 7 | AW17: =IF(W17="S", 1, 0) -> 0 | AX17: =IF(SUM(AU17:AW17)=9, 1, 0) -> 0 | AZ17: =IF(OR(B17="None", B17=""), 0, 1) -> 0 | BA17: =IF(OR(M17="None", M17=""), 0, 1) -> 0 | BC17: =IF($B17="None", 1, 0) -> 0 | BD17: =COUNTIF($D17:$I17, "") -> 6 | BE17: =IF($J17="G", 1, 0) -> 0 | BF17: =IF(SUM(BC17:BE17)=8, 1, 0) -> 0 | BG17: =IF($M17="None", 1, 0) -> 0 | BH17: =COUNTIF($P17:$V17, "") -> 7 | BI17: =IF($W17="G", 1, 0) -> 0 | BJ17: =IF(SUM(BG17:BI17)=9, 1, 0) -> 0 | BL17: =IF($B17="None", 1, 0) -> 0 | BM17: =COUNTIF($D17:$I17, "") -> 6 | BN17: =IF($J17="R", 1, 0) -> 0 | BO17: =IF(SUM(BL17:BN17)=8, 1, 0) -> 0 | BP17: =IF($M17="None", 1, 0) -> 0 | BQ17: =COUNTIF($P17:$V17, "") -> 7 | BR17: =IF($W17="R", 1, 0) -> 0 | BS17: =IF(SUM(BP17:BR17)=9, 1, 0) -> 0 | BU17: =IF($B17="None", 1, 0) -> 0 | BV17: =COUNTIF($D17:$I17, "") -> 6 | BW17: =IF($J17="BR", 1, 0) -> 0 | BX17: =IF(SUM(BU17:BW17)=8, 1, 0) -> 0 | BY17: =IF($M17="None", 1, 0) -> 0 | BZ17: =COUNTIF($P17:$V17, "") -> 7 | CA17: =IF($W17="BR", 1, 0) -> 0 | CB17: =IF(SUM(BY17:CA17)=9, 1, 0) -> 0 | CD17: =IF($B17="None", 1, 0) -> 0 | CE17: =COUNTIF($D17:$I17, "") -> 6 | CF17: =IF($J17="EL", 1, 0) -> 0 | CG17: =IF(SUM(CD17:CF17)=8, 1, 0) -> 0 | CH17: =IF($M17="None", 1, 0) -> 0 | CI17: =COUNTIF($P17:$V17, "") -> 7 | CJ17: =IF($W17="EL", 1, 0) -> 0 | CK17: =IF(SUM(CH17:CJ17)=9, 1, 0) -> 0 | CM17: =IF($B17="None", 1, 0) -> 0 | CN17: =COUNTIF($D17:$I17, "") -> 6 | CO17: =IF($J17="D", 1, 0) -> 0 | CP17: =IF(SUM(CM17:CO17)=8, 1, 0) -> 0 | CQ17: =IF($M17="None", 1, 0) -> 0 | CR17: =COUNTIF($P17:$V17, "") -> 7 | CS17: =IF($W17="D", 1, 0) -> 0 | CT17: =IF(SUM(CQ17:CS17)=9, 1, 0) -> 0 | CV17: =IF($B17="None", 1, 0) -> 0 | CW17: =COUNTIF($D17:$I17, "") -> 6 | CX17: =IF($J17="M", 1, 0) -> 0 | CY17: =IF(SUM(CV17:CX17)=8, 1, 0) -> 0 | CZ17: =IF($M17="None", 1, 0) -> 0 | DA17: =COUNTIF($P17:$V17, "") -> 7 | DB17: =IF($W17="M", 1, 0) -> 0 | DC17: =IF(SUM(CZ17:DB17)=9, 1, 0) -> 0 | DE17: =IF($B17="None", 1, 0) -> 0 | DF17: =COUNTIF($D17:$I17, "") -> 6 | DG17: =IF($J17="LC", 1, 0) -> 0 | DH17: =IF(SUM(DE17:DG17)=8, 1, 0) -> 0 | DI17: =IF($M17="None", 1, 0) -> 0 | DJ17: =COUNTIF($P17:$V17, "") -> 7 | DK17: =IF($W17="LC", 1, 0) -> 0 | DL17: =IF(SUM(DI17:DK17)=9, 1, 0) -> 0 | DN17: =IF($B17="None", 1, 0) -> 0 | DO17: =IF($D17="L", 1, 0) -> 0 | DP17: =IF(SUM(DN17:DO17)=2, 1, 0) -> 0 | DQ17: =IF($M17="None", 1, 0) -> 0 | DR17: =IF($P17="L", 1, 0) -> 0 | DS17: =IF(SUM(DQ17:DR17)=2, 1, 0) -> 0 | DU17: =IF($B17="None", 1, 0) -> 0 | DV17: =IF($D17="WL", 1, 0) -> 0 | DW17: =IF(SUM(DU17:DV17)=2, 1, 0) -> 0 | DX17: =IF($M17="None", 1, 0) -> 0 | DY17: =IF($P17="WL", 1, 0) -> 0 | DZ17: =IF(SUM(DX17:DY17)=2, 1, 0) -> 0 | EB17: =IF($B17="None", 1, 0) -> 0 | EC17: =IF($D17="VL", 1, 0) -> 0 | ED17: =IF(SUM(EB17:EC17)=2, 1, 0) -> 0 | EE17: =IF($M17="None", 1, 0) -> 0 | EF17: =IF($P17="VL", 1, 0) -> 0 | EG17: =IF(SUM(EE17:EF17)=2, 1, 0) -> 0
A18: 12 | L18: 62 | Z18: L | AA18: =(DP57+DS57)/X2 -> #DIV/0! | AC18: =AG147/$X$2 -> #DIV/0! | AF18: AF# = | AG18: annual forb | AK18: R = | AL18: rock (>5 mm or ~1/4 in) | AQ18: =IF(B18="None", 1, 0) -> 0 | AR18: =COUNTIF(D18:I18, "") -> 6 | AS18: =IF(J18="S", 1, 0) -> 0 | AT18: =IF(SUM(AQ18:AS18)=8, 1, 0) -> 0 | AU18: =IF(M18="None", 1, 0) -> 0 | AV18: =COUNTIF(P18:V18, "") -> 7 | AW18: =IF(W18="S", 1, 0) -> 0 | AX18: =IF(SUM(AU18:AW18)=9, 1, 0) -> 0 | AZ18: =IF(OR(B18="None", B18=""), 0, 1) -> 0 | BA18: =IF(OR(M18="None", M18=""), 0, 1) -> 0 | BC18: =IF($B18="None", 1, 0) -> 0 | BD18: =COUNTIF($D18:$I18, "") -> 6 | BE18: =IF($J18="G", 1, 0) -> 0 | BF18: =IF(SUM(BC18:BE18)=8, 1, 0) -> 0 | BG18: =IF($M18="None", 1, 0) -> 0 | BH18: =COUNTIF($P18:$V18, "") -> 7 | BI18: =IF($W18="G", 1, 0) -> 0 | BJ18: =IF(SUM(BG18:BI18)=9, 1, 0) -> 0 | BL18: =IF($B18="None", 1, 0) -> 0 | BM18: =COUNTIF($D18:$I18, "") -> 6 | BN18: =IF($J18="R", 1, 0) -> 0 | BO18: =IF(SUM(BL18:BN18)=8, 1, 0) -> 0 | BP18: =IF($M18="None", 1, 0) -> 0 | BQ18: =COUNTIF($P18:$V18, "") -> 7 | BR18: =IF($W18="R", 1, 0) -> 0 | BS18: =IF(SUM(BP18:BR18)=9, 1, 0) -> 0 | BU18: =IF($B18="None", 1, 0) -> 0 | BV18: =COUNTIF($D18:$I18, "") -> 6 | BW18: =IF($J18="BR", 1, 0) -> 0 | BX18: =IF(SUM(BU18:BW18)=8, 1, 0) -> 0 | BY18: =IF($M18="None", 1, 0) -> 0 | BZ18: =COUNTIF($P18:$V18, "") -> 7 | CA18: =IF($W18="BR", 1, 0) -> 0 | CB18: =IF(SUM(BY18:CA18)=9, 1, 0) -> 0 | CD18: =IF($B18="None", 1, 0) -> 0 | CE18: =COUNTIF($D18:$I18, "") -> 6 | CF18: =IF($J18="EL", 1, 0) -> 0 | CG18: =IF(SUM(CD18:CF18)=8, 1, 0) -> 0 | CH18: =IF($M18="None", 1, 0) -> 0 | CI18: =COUNTIF($P18:$V18, "") -> 7 | CJ18: =IF($W18="EL", 1, 0) -> 0 | CK18: =IF(SUM(CH18:CJ18)=9, 1, 0) -> 0 | CM18: =IF($B18="None", 1, 0) -> 0 | CN18: =COUNTIF($D18:$I18, "") -> 6 | CO18: =IF($J18="D", 1, 0) -> 0 | CP18: =IF(SUM(CM18:CO18)=8, 1, 0) -> 0 | CQ18: =IF($M18="None", 1, 0) -> 0 | CR18: =COUNTIF($P18:$V18, "") -> 7 | CS18: =IF($W18="D", 1, 0) -> 0 | CT18: =IF(SUM(CQ18:CS18)=9, 1, 0) -> 0 | CV18: =IF($B18="None", 1, 0) -> 0 | CW18: =COUNTIF($D18:$I18, "") -> 6 | CX18: =IF($J18="M", 1, 0) -> 0 | CY18: =IF(SUM(CV18:CX18)=8, 1, 0) -> 0 | CZ18: =IF($M18="None", 1, 0) -> 0 | DA18: =COUNTIF($P18:$V18, "") -> 7 | DB18: =IF($W18="M", 1, 0) -> 0 | DC18: =IF(SUM(CZ18:DB18)=9, 1, 0) -> 0 | DE18: =IF($B18="None", 1, 0) -> 0 | DF18: =COUNTIF($D18:$I18, "") -> 6 | DG18: =IF($J18="LC", 1, 0) -> 0 | DH18: =IF(SUM(DE18:DG18)=8, 1, 0) -> 0 | DI18: =IF($M18="None", 1, 0) -> 0 | DJ18: =COUNTIF($P18:$V18, "") -> 7 | DK18: =IF($W18="LC", 1, 0) -> 0 | DL18: =IF(SUM(DI18:DK18)=9, 1, 0) -> 0 | DN18: =IF($B18="None", 1, 0) -> 0 | DO18: =IF($D18="L", 1, 0) -> 0 | DP18: =IF(SUM(DN18:DO18)=2, 1, 0) -> 0 | DQ18: =IF($M18="None", 1, 0) -> 0 | DR18: =IF($P18="L", 1, 0) -> 0 | DS18: =IF(SUM(DQ18:DR18)=2, 1, 0) -> 0 | DU18: =IF($B18="None", 1, 0) -> 0 | DV18: =IF($D18="WL", 1, 0) -> 0 | DW18: =IF(SUM(DU18:DV18)=2, 1, 0) -> 0 | DX18: =IF($M18="None", 1, 0) -> 0 | DY18: =IF($P18="WL", 1, 0) -> 0 | DZ18: =IF(SUM(DX18:DY18)=2, 1, 0) -> 0 | EB18: =IF($B18="None", 1, 0) -> 0 | EC18: =IF($D18="VL", 1, 0) -> 0 | ED18: =IF(SUM(EB18:EC18)=2, 1, 0) -> 0 | EE18: =IF($M18="None", 1, 0) -> 0 | EF18: =IF($P18="VL", 1, 0) -> 0 | EG18: =IF(SUM(EE18:EF18)=2, 1, 0) -> 0
A19: 13 | L19: 63 | Z19: AF | AA19: =SUM(AE89:AE99)/$X$2 -> #DIV/0! | AC19: =SUM(AG89:AH99)/$X$2 -> #DIV/0! | AF19: PF# = | AG19: perennial forb | AK19: BR = | AL19: bedrock | AQ19: =IF(B19="None", 1, 0) -> 0 | AR19: =COUNTIF(D19:I19, "") -> 6 | AS19: =IF(J19="S", 1, 0) -> 0 | AT19: =IF(SUM(AQ19:AS19)=8, 1, 0) -> 0 | AU19: =IF(M19="None", 1, 0) -> 0 | AV19: =COUNTIF(P19:V19, "") -> 7 | AW19: =IF(W19="S", 1, 0) -> 0 | AX19: =IF(SUM(AU19:AW19)=9, 1, 0) -> 0 | AZ19: =IF(OR(B19="None", B19=""), 0, 1) -> 0 | BA19: =IF(OR(M19="None", M19=""), 0, 1) -> 0 | BC19: =IF($B19="None", 1, 0) -> 0 | BD19: =COUNTIF($D19:$I19, "") -> 6 | BE19: =IF($J19="G", 1, 0) -> 0 | BF19: =IF(SUM(BC19:BE19)=8, 1, 0) -> 0 | BG19: =IF($M19="None", 1, 0) -> 0 | BH19: =COUNTIF($P19:$V19, "") -> 7 | BI19: =IF($W19="G", 1, 0) -> 0 | BJ19: =IF(SUM(BG19:BI19)=9, 1, 0) -> 0 | BL19: =IF($B19="None", 1, 0) -> 0 | BM19: =COUNTIF($D19:$I19, "") -> 6 | BN19: =IF($J19="R", 1, 0) -> 0 | BO19: =IF(SUM(BL19:BN19)=8, 1, 0) -> 0 | BP19: =IF($M19="None", 1, 0) -> 0 | BQ19: =COUNTIF($P19:$V19, "") -> 7 | BR19: =IF($W19="R", 1, 0) -> 0 | BS19: =IF(SUM(BP19:BR19)=9, 1, 0) -> 0 | BU19: =IF($B19="None", 1, 0) -> 0 | BV19: =COUNTIF($D19:$I19, "") -> 6 | BW19: =IF($J19="BR", 1, 0) -> 0 | BX19: =IF(SUM(BU19:BW19)=8, 1, 0) -> 0 | BY19: =IF($M19="None", 1, 0) -> 0 | BZ19: =COUNTIF($P19:$V19, "") -> 7 | CA19: =IF($W19="BR", 1, 0) -> 0 | CB19: =IF(SUM(BY19:CA19)=9, 1, 0) -> 0 | CD19: =IF($B19="None", 1, 0) -> 0 | CE19: =COUNTIF($D19:$I19, "") -> 6 | CF19: =IF($J19="EL", 1, 0) -> 0 | CG19: =IF(SUM(CD19:CF19)=8, 1, 0) -> 0 | CH19: =IF($M19="None", 1, 0) -> 0 | CI19: =COUNTIF($P19:$V19, "") -> 7 | CJ19: =IF($W19="EL", 1, 0) -> 0 | CK19: =IF(SUM(CH19:CJ19)=9, 1, 0) -> 0 | CM19: =IF($B19="None", 1, 0) -> 0 | CN19: =COUNTIF($D19:$I19, "") -> 6 | CO19: =IF($J19="D", 1, 0) -> 0 | CP19: =IF(SUM(CM19:CO19)=8, 1, 0) -> 0 | CQ19: =IF($M19="None", 1, 0) -> 0 | CR19: =COUNTIF($P19:$V19, "") -> 7 | CS19: =IF($W19="D", 1, 0) -> 0 | CT19: =IF(SUM(CQ19:CS19)=9, 1, 0) -> 0 | CV19: =IF($B19="None", 1, 0) -> 0 | CW19: =COUNTIF($D19:$I19, "") -> 6 | CX19: =IF($J19="M", 1, 0) -> 0 | CY19: =IF(SUM(CV19:CX19)=8, 1, 0) -> 0 | CZ19: =IF($M19="None", 1, 0) -> 0 | DA19: =COUNTIF($P19:$V19, "") -> 7 | DB19: =IF($W19="M", 1, 0) -> 0 | DC19: =IF(SUM(CZ19:DB19)=9, 1, 0) -> 0 | DE19: =IF($B19="None", 1, 0) -> 0 | DF19: =COUNTIF($D19:$I19, "") -> 6 | DG19: =IF($J19="LC", 1, 0) -> 0 | DH19: =IF(SUM(DE19:DG19)=8, 1, 0) -> 0 | DI19: =IF($M19="None", 1, 0) -> 0 | DJ19: =COUNTIF($P19:$V19, "") -> 7 | DK19: =IF($W19="LC", 1, 0) -> 0 | DL19: =IF(SUM(DI19:DK19)=9, 1, 0) -> 0 | DN19: =IF($B19="None", 1, 0) -> 0 | DO19: =IF($D19="L", 1, 0) -> 0 | DP19: =IF(SUM(DN19:DO19)=2, 1, 0) -> 0 | DQ19: =IF($M19="None", 1, 0) -> 0 | DR19: =IF($P19="L", 1, 0) -> 0 | DS19: =IF(SUM(DQ19:DR19)=2, 1, 0) -> 0 | DU19: =IF($B19="None", 1, 0) -> 0 | DV19: =IF($D19="WL", 1, 0) -> 0 | DW19: =IF(SUM(DU19:DV19)=2, 1, 0) -> 0 | DX19: =IF($M19="None", 1, 0) -> 0 | DY19: =IF($P19="WL", 1, 0) -> 0 | DZ19: =IF(SUM(DX19:DY19)=2, 1, 0) -> 0 | EB19: =IF($B19="None", 1, 0) -> 0 | EC19: =IF($D19="VL", 1, 0) -> 0 | ED19: =IF(SUM(EB19:EC19)=2, 1, 0) -> 0 | EE19: =IF($M19="None", 1, 0) -> 0 | EF19: =IF($P19="VL", 1, 0) -> 0 | EG19: =IF(SUM(EE19:EF19)=2, 1, 0) -> 0
A20: 14 | L20: 64 | Z20: PF | AA20: =SUM(AE101:AF111)/$X$2 -> #DIV/0! | AC20: =SUM(AG101:AH111)/$X$2 -> #DIV/0! | AF20: AG# = | AG20: annual grass | AK20: EL = | AL20: embedded litter | AQ20: =IF(B20="None", 1, 0) -> 0 | AR20: =COUNTIF(D20:I20, "") -> 6 | AS20: =IF(J20="S", 1, 0) -> 0 | AT20: =IF(SUM(AQ20:AS20)=8, 1, 0) -> 0 | AU20: =IF(M20="None", 1, 0) -> 0 | AV20: =COUNTIF(P20:V20, "") -> 7 | AW20: =IF(W20="S", 1, 0) -> 0 | AX20: =IF(SUM(AU20:AW20)=9, 1, 0) -> 0 | AZ20: =IF(OR(B20="None", B20=""), 0, 1) -> 0 | BA20: =IF(OR(M20="None", M20=""), 0, 1) -> 0 | BC20: =IF($B20="None", 1, 0) -> 0 | BD20: =COUNTIF($D20:$I20, "") -> 6 | BE20: =IF($J20="G", 1, 0) -> 0 | BF20: =IF(SUM(BC20:BE20)=8, 1, 0) -> 0 | BG20: =IF($M20="None", 1, 0) -> 0 | BH20: =COUNTIF($P20:$V20, "") -> 7 | BI20: =IF($W20="G", 1, 0) -> 0 | BJ20: =IF(SUM(BG20:BI20)=9, 1, 0) -> 0 | BL20: =IF($B20="None", 1, 0) -> 0 | BM20: =COUNTIF($D20:$I20, "") -> 6 | BN20: =IF($J20="R", 1, 0) -> 0 | BO20: =IF(SUM(BL20:BN20)=8, 1, 0) -> 0 | BP20: =IF($M20="None", 1, 0) -> 0 | BQ20: =COUNTIF($P20:$V20, "") -> 7 | BR20: =IF($W20="R", 1, 0) -> 0 | BS20: =IF(SUM(BP20:BR20)=9, 1, 0) -> 0 | BU20: =IF($B20="None", 1, 0) -> 0 | BV20: =COUNTIF($D20:$I20, "") -> 6 | BW20: =IF($J20="BR", 1, 0) -> 0 | BX20: =IF(SUM(BU20:BW20)=8, 1, 0) -> 0 | BY20: =IF($M20="None", 1, 0) -> 0 | BZ20: =COUNTIF($P20:$V20, "") -> 7 | CA20: =IF($W20="BR", 1, 0) -> 0 | CB20: =IF(SUM(BY20:CA20)=9, 1, 0) -> 0 | CD20: =IF($B20="None", 1, 0) -> 0 | CE20: =COUNTIF($D20:$I20, "") -> 6 | CF20: =IF($J20="EL", 1, 0) -> 0 | CG20: =IF(SUM(CD20:CF20)=8, 1, 0) -> 0 | CH20: =IF($M20="None", 1, 0) -> 0 | CI20: =COUNTIF($P20:$V20, "") -> 7 | CJ20: =IF($W20="EL", 1, 0) -> 0 | CK20: =IF(SUM(CH20:CJ20)=9, 1, 0) -> 0 | CM20: =IF($B20="None", 1, 0) -> 0 | CN20: =COUNTIF($D20:$I20, "") -> 6 | CO20: =IF($J20="D", 1, 0) -> 0 | CP20: =IF(SUM(CM20:CO20)=8, 1, 0) -> 0 | CQ20: =IF($M20="None", 1, 0) -> 0 | CR20: =COUNTIF($P20:$V20, "") -> 7 | CS20: =IF($W20="D", 1, 0) -> 0 | CT20: =IF(SUM(CQ20:CS20)=9, 1, 0) -> 0 | CV20: =IF($B20="None", 1, 0) -> 0 | CW20: =COUNTIF($D20:$I20, "") -> 6 | CX20: =IF($J20="M", 1, 0) -> 0 | CY20: =IF(SUM(CV20:CX20)=8, 1, 0) -> 0 | CZ20: =IF($M20="None", 1, 0) -> 0 | DA20: =COUNTIF($P20:$V20, "") -> 7 | DB20: =IF($W20="M", 1, 0) -> 0 | DC20: =IF(SUM(CZ20:DB20)=9, 1, 0) -> 0 | DE20: =IF($B20="None", 1, 0) -> 0 | DF20: =COUNTIF($D20:$I20, "") -> 6 | DG20: =IF($J20="LC", 1, 0) -> 0 | DH20: =IF(SUM(DE20:DG20)=8, 1, 0) -> 0 | DI20: =IF($M20="None", 1, 0) -> 0 | DJ20: =COUNTIF($P20:$V20, "") -> 7 | DK20: =IF($W20="LC", 1, 0) -> 0 | DL20: =IF(SUM(DI20:DK20)=9, 1, 0) -> 0 | DN20: =IF($B20="None", 1, 0) -> 0 | DO20: =IF($D20="L", 1, 0) -> 0 | DP20: =IF(SUM(DN20:DO20)=2, 1, 0) -> 0 | DQ20: =IF($M20="None", 1, 0) -> 0 | DR20: =IF($P20="L", 1, 0) -> 0 | DS20: =IF(SUM(DQ20:DR20)=2, 1, 0) -> 0 | DU20: =IF($B20="None", 1, 0) -> 0 | DV20: =IF($D20="WL", 1, 0) -> 0 | DW20: =IF(SUM(DU20:DV20)=2, 1, 0) -> 0 | DX20: =IF($M20="None", 1, 0) -> 0 | DY20: =IF($P20="WL", 1, 0) -> 0 | DZ20: =IF(SUM(DX20:DY20)=2, 1, 0) -> 0 | EB20: =IF($B20="None", 1, 0) -> 0 | EC20: =IF($D20="VL", 1, 0) -> 0 | ED20: =IF(SUM(EB20:EC20)=2, 1, 0) -> 0 | EE20: =IF($M20="None", 1, 0) -> 0 | EF20: =IF($P20="VL", 1, 0) -> 0 | EG20: =IF(SUM(EE20:EF20)=2, 1, 0) -> 0
A21: 15 | L21: 65 | Z21: AG | AA21: =SUM(AE82:AF87)/$X$2 -> #DIV/0! | AC21: =SUM(AG82:AH87)/$X$2 -> #DIV/0! | AF21: PG# = | AG21: perennial grass | AK21: D = | AL21: duff | AQ21: =IF(B21="None", 1, 0) -> 0 | AR21: =COUNTIF(D21:I21, "") -> 6 | AS21: =IF(J21="S", 1, 0) -> 0 | AT21: =IF(SUM(AQ21:AS21)=8, 1, 0) -> 0 | AU21: =IF(M21="None", 1, 0) -> 0 | AV21: =COUNTIF(P21:V21, "") -> 7 | AW21: =IF(W21="S", 1, 0) -> 0 | AX21: =IF(SUM(AU21:AW21)=9, 1, 0) -> 0 | AZ21: =IF(OR(B21="None", B21=""), 0, 1) -> 0 | BA21: =IF(OR(M21="None", M21=""), 0, 1) -> 0 | BC21: =IF($B21="None", 1, 0) -> 0 | BD21: =COUNTIF($D21:$I21, "") -> 6 | BE21: =IF($J21="G", 1, 0) -> 0 | BF21: =IF(SUM(BC21:BE21)=8, 1, 0) -> 0 | BG21: =IF($M21="None", 1, 0) -> 0 | BH21: =COUNTIF($P21:$V21, "") -> 7 | BI21: =IF($W21="G", 1, 0) -> 0 | BJ21: =IF(SUM(BG21:BI21)=9, 1, 0) -> 0 | BL21: =IF($B21="None", 1, 0) -> 0 | BM21: =COUNTIF($D21:$I21, "") -> 6 | BN21: =IF($J21="R", 1, 0) -> 0 | BO21: =IF(SUM(BL21:BN21)=8, 1, 0) -> 0 | BP21: =IF($M21="None", 1, 0) -> 0 | BQ21: =COUNTIF($P21:$V21, "") -> 7 | BR21: =IF($W21="R", 1, 0) -> 0 | BS21: =IF(SUM(BP21:BR21)=9, 1, 0) -> 0 | BU21: =IF($B21="None", 1, 0) -> 0 | BV21: =COUNTIF($D21:$I21, "") -> 6 | BW21: =IF($J21="BR", 1, 0) -> 0 | BX21: =IF(SUM(BU21:BW21)=8, 1, 0) -> 0 | BY21: =IF($M21="None", 1, 0) -> 0 | BZ21: =COUNTIF($P21:$V21, "") -> 7 | CA21: =IF($W21="BR", 1, 0) -> 0 | CB21: =IF(SUM(BY21:CA21)=9, 1, 0) -> 0 | CD21: =IF($B21="None", 1, 0) -> 0 | CE21: =COUNTIF($D21:$I21, "") -> 6 | CF21: =IF($J21="EL", 1, 0) -> 0 | CG21: =IF(SUM(CD21:CF21)=8, 1, 0) -> 0 | CH21: =IF($M21="None", 1, 0) -> 0 | CI21: =COUNTIF($P21:$V21, "") -> 7 | CJ21: =IF($W21="EL", 1, 0) -> 0 | CK21: =IF(SUM(CH21:CJ21)=9, 1, 0) -> 0 | CM21: =IF($B21="None", 1, 0) -> 0 | CN21: =COUNTIF($D21:$I21, "") -> 6 | CO21: =IF($J21="D", 1, 0) -> 0 | CP21: =IF(SUM(CM21:CO21)=8, 1, 0) -> 0 | CQ21: =IF($M21="None", 1, 0) -> 0 | CR21: =COUNTIF($P21:$V21, "") -> 7 | CS21: =IF($W21="D", 1, 0) -> 0 | CT21: =IF(SUM(CQ21:CS21)=9, 1, 0) -> 0 | CV21: =IF($B21="None", 1, 0) -> 0 | CW21: =COUNTIF($D21:$I21, "") -> 6 | CX21: =IF($J21="M", 1, 0) -> 0 | CY21: =IF(SUM(CV21:CX21)=8, 1, 0) -> 0 | CZ21: =IF($M21="None", 1, 0) -> 0 | DA21: =COUNTIF($P21:$V21, "") -> 7 | DB21: =IF($W21="M", 1, 0) -> 0 | DC21: =IF(SUM(CZ21:DB21)=9, 1, 0) -> 0 | DE21: =IF($B21="None", 1, 0) -> 0 | DF21: =COUNTIF($D21:$I21, "") -> 6 | DG21: =IF($J21="LC", 1, 0) -> 0 | DH21: =IF(SUM(DE21:DG21)=8, 1, 0) -> 0 | DI21: =IF($M21="None", 1, 0) -> 0 | DJ21: =COUNTIF($P21:$V21, "") -> 7 | DK21: =IF($W21="LC", 1, 0) -> 0 | DL21: =IF(SUM(DI21:DK21)=9, 1, 0) -> 0 | DN21: =IF($B21="None", 1, 0) -> 0 | DO21: =IF($D21="L", 1, 0) -> 0 | DP21: =IF(SUM(DN21:DO21)=2, 1, 0) -> 0 | DQ21: =IF($M21="None", 1, 0) -> 0 | DR21: =IF($P21="L", 1, 0) -> 0 | DS21: =IF(SUM(DQ21:DR21)=2, 1, 0) -> 0 | DU21: =IF($B21="None", 1, 0) -> 0 | DV21: =IF($D21="WL", 1, 0) -> 0 | DW21: =IF(SUM(DU21:DV21)=2, 1, 0) -> 0 | DX21: =IF($M21="None", 1, 0) -> 0 | DY21: =IF($P21="WL", 1, 0) -> 0 | DZ21: =IF(SUM(DX21:DY21)=2, 1, 0) -> 0 | EB21: =IF($B21="None", 1, 0) -> 0 | EC21: =IF($D21="VL", 1, 0) -> 0 | ED21: =IF(SUM(EB21:EC21)=2, 1, 0) -> 0 | EE21: =IF($M21="None", 1, 0) -> 0 | EF21: =IF($P21="VL", 1, 0) -> 0 | EG21: =IF(SUM(EE21:EF21)=2, 1, 0) -> 0
A22: 16 | L22: 66 | Z22: PG | AA22: =SUM(AE64:AF80)/$X$2 -> #DIV/0! | AC22: =SUM(AG64:AH80)/$X$2 -> #DIV/0! | AF22: SH# = | AG22: shrub | AK22: M = | AL22: moss | AQ22: =IF(B22="None", 1, 0) -> 0 | AR22: =COUNTIF(D22:I22, "") -> 6 | AS22: =IF(J22="S", 1, 0) -> 0 | AT22: =IF(SUM(AQ22:AS22)=8, 1, 0) -> 0 | AU22: =IF(M22="None", 1, 0) -> 0 | AV22: =COUNTIF(P22:V22, "") -> 7 | AW22: =IF(W22="S", 1, 0) -> 0 | AX22: =IF(SUM(AU22:AW22)=9, 1, 0) -> 0 | AZ22: =IF(OR(B22="None", B22=""), 0, 1) -> 0 | BA22: =IF(OR(M22="None", M22=""), 0, 1) -> 0 | BC22: =IF($B22="None", 1, 0) -> 0 | BD22: =COUNTIF($D22:$I22, "") -> 6 | BE22: =IF($J22="G", 1, 0) -> 0 | BF22: =IF(SUM(BC22:BE22)=8, 1, 0) -> 0 | BG22: =IF($M22="None", 1, 0) -> 0 | BH22: =COUNTIF($P22:$V22, "") -> 7 | BI22: =IF($W22="G", 1, 0) -> 0 | BJ22: =IF(SUM(BG22:BI22)=9, 1, 0) -> 0 | BL22: =IF($B22="None", 1, 0) -> 0 | BM22: =COUNTIF($D22:$I22, "") -> 6 | BN22: =IF($J22="R", 1, 0) -> 0 | BO22: =IF(SUM(BL22:BN22)=8, 1, 0) -> 0 | BP22: =IF($M22="None", 1, 0) -> 0 | BQ22: =COUNTIF($P22:$V22, "") -> 7 | BR22: =IF($W22="R", 1, 0) -> 0 | BS22: =IF(SUM(BP22:BR22)=9, 1, 0) -> 0 | BU22: =IF($B22="None", 1, 0) -> 0 | BV22: =COUNTIF($D22:$I22, "") -> 6 | BW22: =IF($J22="BR", 1, 0) -> 0 | BX22: =IF(SUM(BU22:BW22)=8, 1, 0) -> 0 | BY22: =IF($M22="None", 1, 0) -> 0 | BZ22: =COUNTIF($P22:$V22, "") -> 7 | CA22: =IF($W22="BR", 1, 0) -> 0 | CB22: =IF(SUM(BY22:CA22)=9, 1, 0) -> 0 | CD22: =IF($B22="None", 1, 0) -> 0 | CE22: =COUNTIF($D22:$I22, "") -> 6 | CF22: =IF($J22="EL", 1, 0) -> 0 | CG22: =IF(SUM(CD22:CF22)=8, 1, 0) -> 0 | CH22: =IF($M22="None", 1, 0) -> 0 | CI22: =COUNTIF($P22:$V22, "") -> 7 | CJ22: =IF($W22="EL", 1, 0) -> 0 | CK22: =IF(SUM(CH22:CJ22)=9, 1, 0) -> 0 | CM22: =IF($B22="None", 1, 0) -> 0 | CN22: =COUNTIF($D22:$I22, "") -> 6 | CO22: =IF($J22="D", 1, 0) -> 0 | CP22: =IF(SUM(CM22:CO22)=8, 1, 0) -> 0 | CQ22: =IF($M22="None", 1, 0) -> 0 | CR22: =COUNTIF($P22:$V22, "") -> 7 | CS22: =IF($W22="D", 1, 0) -> 0 | CT22: =IF(SUM(CQ22:CS22)=9, 1, 0) -> 0 | CV22: =IF($B22="None", 1, 0) -> 0 | CW22: =COUNTIF($D22:$I22, "") -> 6 | CX22: =IF($J22="M", 1, 0) -> 0 | CY22: =IF(SUM(CV22:CX22)=8, 1, 0) -> 0 | CZ22: =IF($M22="None", 1, 0) -> 0 | DA22: =COUNTIF($P22:$V22, "") -> 7 | DB22: =IF($W22="M", 1, 0) -> 0 | DC22: =IF(SUM(CZ22:DB22)=9, 1, 0) -> 0 | DE22: =IF($B22="None", 1, 0) -> 0 | DF22: =COUNTIF($D22:$I22, "") -> 6 | DG22: =IF($J22="LC", 1, 0) -> 0 | DH22: =IF(SUM(DE22:DG22)=8, 1, 0) -> 0 | DI22: =IF($M22="None", 1, 0) -> 0 | DJ22: =COUNTIF($P22:$V22, "") -> 7 | DK22: =IF($W22="LC", 1, 0) -> 0 | DL22: =IF(SUM(DI22:DK22)=9, 1, 0) -> 0 | DN22: =IF($B22="None", 1, 0) -> 0 | DO22: =IF($D22="L", 1, 0) -> 0 | DP22: =IF(SUM(DN22:DO22)=2, 1, 0) -> 0 | DQ22: =IF($M22="None", 1, 0) -> 0 | DR22: =IF($P22="L", 1, 0) -> 0 | DS22: =IF(SUM(DQ22:DR22)=2, 1, 0) -> 0 | DU22: =IF($B22="None", 1, 0) -> 0 | DV22: =IF($D22="WL", 1, 0) -> 0 | DW22: =IF(SUM(DU22:DV22)=2, 1, 0) -> 0 | DX22: =IF($M22="None", 1, 0) -> 0 | DY22: =IF($P22="WL", 1, 0) -> 0 | DZ22: =IF(SUM(DX22:DY22)=2, 1, 0) -> 0 | EB22: =IF($B22="None", 1, 0) -> 0 | EC22: =IF($D22="VL", 1, 0) -> 0 | ED22: =IF(SUM(EB22:EC22)=2, 1, 0) -> 0 | EE22: =IF($M22="None", 1, 0) -> 0 | EF22: =IF($P22="VL", 1, 0) -> 0 | EG22: =IF(SUM(EE22:EF22)=2, 1, 0) -> 0
A23: 17 | L23: 67 | Z23: TR | AA23: =SUM(AE130:AF135)/$X$2 -> #DIV/0! | AC23: =SUM(AG130:AH135)/$X$2 -> #DIV/0! | AF23: TR# = | AG23: tree | AK23: LC = | AL23: visible lichen crust on soil | AQ23: =IF(B23="None", 1, 0) -> 0 | AR23: =COUNTIF(D23:I23, "") -> 6 | AS23: =IF(J23="S", 1, 0) -> 0 | AT23: =IF(SUM(AQ23:AS23)=8, 1, 0) -> 0 | AU23: =IF(M23="None", 1, 0) -> 0 | AV23: =COUNTIF(P23:V23, "") -> 7 | AW23: =IF(W23="S", 1, 0) -> 0 | AX23: =IF(SUM(AU23:AW23)=9, 1, 0) -> 0 | AZ23: =IF(OR(B23="None", B23=""), 0, 1) -> 0 | BA23: =IF(OR(M23="None", M23=""), 0, 1) -> 0 | BC23: =IF($B23="None", 1, 0) -> 0 | BD23: =COUNTIF($D23:$I23, "") -> 6 | BE23: =IF($J23="G", 1, 0) -> 0 | BF23: =IF(SUM(BC23:BE23)=8, 1, 0) -> 0 | BG23: =IF($M23="None", 1, 0) -> 0 | BH23: =COUNTIF($P23:$V23, "") -> 7 | BI23: =IF($W23="G", 1, 0) -> 0 | BJ23: =IF(SUM(BG23:BI23)=9, 1, 0) -> 0 | BL23: =IF($B23="None", 1, 0) -> 0 | BM23: =COUNTIF($D23:$I23, "") -> 6 | BN23: =IF($J23="R", 1, 0) -> 0 | BO23: =IF(SUM(BL23:BN23)=8, 1, 0) -> 0 | BP23: =IF($M23="None", 1, 0) -> 0 | BQ23: =COUNTIF($P23:$V23, "") -> 7 | BR23: =IF($W23="R", 1, 0) -> 0 | BS23: =IF(SUM(BP23:BR23)=9, 1, 0) -> 0 | BU23: =IF($B23="None", 1, 0) -> 0 | BV23: =COUNTIF($D23:$I23, "") -> 6 | BW23: =IF($J23="BR", 1, 0) -> 0 | BX23: =IF(SUM(BU23:BW23)=8, 1, 0) -> 0 | BY23: =IF($M23="None", 1, 0) -> 0 | BZ23: =COUNTIF($P23:$V23, "") -> 7 | CA23: =IF($W23="BR", 1, 0) -> 0 | CB23: =IF(SUM(BY23:CA23)=9, 1, 0) -> 0 | CD23: =IF($B23="None", 1, 0) -> 0 | CE23: =COUNTIF($D23:$I23, "") -> 6 | CF23: =IF($J23="EL", 1, 0) -> 0 | CG23: =IF(SUM(CD23:CF23)=8, 1, 0) -> 0 | CH23: =IF($M23="None", 1, 0) -> 0 | CI23: =COUNTIF($P23:$V23, "") -> 7 | CJ23: =IF($W23="EL", 1, 0) -> 0 | CK23: =IF(SUM(CH23:CJ23)=9, 1, 0) -> 0 | CM23: =IF($B23="None", 1, 0) -> 0 | CN23: =COUNTIF($D23:$I23, "") -> 6 | CO23: =IF($J23="D", 1, 0) -> 0 | CP23: =IF(SUM(CM23:CO23)=8, 1, 0) -> 0 | CQ23: =IF($M23="None", 1, 0) -> 0 | CR23: =COUNTIF($P23:$V23, "") -> 7 | CS23: =IF($W23="D", 1, 0) -> 0 | CT23: =IF(SUM(CQ23:CS23)=9, 1, 0) -> 0 | CV23: =IF($B23="None", 1, 0) -> 0 | CW23: =COUNTIF($D23:$I23, "") -> 6 | CX23: =IF($J23="M", 1, 0) -> 0 | CY23: =IF(SUM(CV23:CX23)=8, 1, 0) -> 0 | CZ23: =IF($M23="None", 1, 0) -> 0 | DA23: =COUNTIF($P23:$V23, "") -> 7 | DB23: =IF($W23="M", 1, 0) -> 0 | DC23: =IF(SUM(CZ23:DB23)=9, 1, 0) -> 0 | DE23: =IF($B23="None", 1, 0) -> 0 | DF23: =COUNTIF($D23:$I23, "") -> 6 | DG23: =IF($J23="LC", 1, 0) -> 0 | DH23: =IF(SUM(DE23:DG23)=8, 1, 0) -> 0 | DI23: =IF($M23="None", 1, 0) -> 0 | DJ23: =COUNTIF($P23:$V23, "") -> 7 | DK23: =IF($W23="LC", 1, 0) -> 0 | DL23: =IF(SUM(DI23:DK23)=9, 1, 0) -> 0 | DN23: =IF($B23="None", 1, 0) -> 0 | DO23: =IF($D23="L", 1, 0) -> 0 | DP23: =IF(SUM(DN23:DO23)=2, 1, 0) -> 0 | DQ23: =IF($M23="None", 1, 0) -> 0 | DR23: =IF($P23="L", 1, 0) -> 0 | DS23: =IF(SUM(DQ23:DR23)=2, 1, 0) -> 0 | DU23: =IF($B23="None", 1, 0) -> 0 | DV23: =IF($D23="WL", 1, 0) -> 0 | DW23: =IF(SUM(DU23:DV23)=2, 1, 0) -> 0 | DX23: =IF($M23="None", 1, 0) -> 0 | DY23: =IF($P23="WL", 1, 0) -> 0 | DZ23: =IF(SUM(DX23:DY23)=2, 1, 0) -> 0 | EB23: =IF($B23="None", 1, 0) -> 0 | EC23: =IF($D23="VL", 1, 0) -> 0 | ED23: =IF(SUM(EB23:EC23)=2, 1, 0) -> 0 | EE23: =IF($M23="None", 1, 0) -> 0 | EF23: =IF($P23="VL", 1, 0) -> 0 | EG23: =IF(SUM(EE23:EF23)=2, 1, 0) -> 0
