Workbook

Sheet Instructions
A1: Double click to open the instructions.

Sheet PlotMetadata
A1: Plot Metadata Form
A2: Site: | F2: Ownership: | I2: Establishment Date:
A3: Plot ID: | I3: Visit Date:
A4: Evaluator(s):
A5: GPS Coordinate System: | E5: Datum: | H5: Zone (if applicable): | J5: Elevation:
A8: Transect | B8: Azimuth | C8: Length | E8: Latitude/Northing | H8: Longitude/Easting | J8: Slope (%)
A9: 1 | D9: Start
A10: 2 | D10: Start | J10: Aspect (°)
A11: 3 | D11: Start
A12: Directions to the Plot:
A26: Population: | G26: Home Range Name:
A27: Land Cover Type: | G27: Ecological Site:
A28: Associated Leks: | G28: Area (ha/ac) or Distance (km/mi) Sampled:
A29: Site Info: | C29: Arid Site | E29: Mesic Site | G29: Seasonal Habitat:
A30: PFC Status (riparian areas only):
A31: Comments: | H31: Plot Photos:
H32: Photo | I32: Description

Sheet Daubenmire
A1: Daubenmire Frames Data Form
A2: Date: | B2: =PlotMetadata!J3 -> 0 | C2: Site: | E2: =PlotMetadata!BM8 -> 0 | J2: Plot ID: | L2: =PlotMetadata!BM9 -> 0 | R2: Evaluator(s): | U2: =PlotMetadata!C4 -> 0
A3: Azimuth: | B3: =IF(U3=1, PlotMetadata!$B$9, IF(Daubenmire!U3=2, PlotMetadata!$B$10, IF(U3=3, PlotMetadata!$B$11))) -> FALSE | E3: =PlotMetadata!C28 -> 0 | R3: Transect:
A4: Area Sampled (ha/ac): | E4: =PlotMetadata!J28 -> 0 | R4: Site Info.: | U4: =IF(PlotMetadata!B29="X","ARID",IF(PlotMetadata!D29="X","MESIC")) -> FALSE
A5: UTM Coordinates (coordinates, zone, datum):
E6: Daubenmire Frame Number
A7: Cover | C7: Species | E7: 1 | F7: 2 | G7: 3 | H7: 4 | I7: 5 | J7: 6 | K7: 7 | L7: 8 | M7: 9 | N7: 10 | O7: 11 | P7: 12 | Q7: 13 | R7: 14 | S7: 15 | T7: 16 | U7: 17 | V7: 18 | W7: 19 | X7: 20 | Y7: 21 | Z7: 22 | AA7: 23 | AB7: 24 | AC7: 25 | AD7: Notes | AG7: Cover Class 1 | AH7: Cover Class 2 | AI7: Cover Class 3 | AJ7: Cover Class 4 | AK7: Cover Class 5 | AL7: Cover Class 6 | AM7: Cover Class Total | AN7: Life Form Cover | AO7: Avg Ht | AP7: Shape S Total | AQ7: Shape C Total | AR7: Total Shapes | AS7: S | AT7: C | AU7: Dom Shape | AV7: GC #Hits
A8: Annual Forbs | AG8: =COUNTIF(E8:AC8, 1) -> 0 | AH8: =COUNTIF(E8:AC8, 2) -> 0 | AI8: =COUNTIF(E8:AC8, 3) -> 0 | AJ8: =COUNTIF(E8:AC8, 4) -> 0 | AK8: =COUNTIF(E8:AC8, 5) -> 0 | AL8: =COUNTIF(E8:AC8, 6) -> 0 | AM8: =((AG8*2.5)+(AH8*15)+(AI8*37.5)+(AJ8*62.5)+(AK8*85)+(AL8*97.5))/25 -> 0 | AN8: =SUM(AM8:AM15) -> 0
AG9: =COUNTIF(E9:AC9, 1) -> 0 | AH9: =COUNTIF(E9:AC9, 2) -> 0 | AI9: =COUNTIF(E9:AC9, 3) -> 0 | AJ9: =COUNTIF(E9:AC9, 4) -> 0 | AK9: =COUNTIF(E9:AC9, 5) -> 0 | AL9: =COUNTIF(E9:AC9, 6) -> 0 | AM9: =((AG9*2.5)+(AH9*15)+(AI9*37.5)+(AJ9*62.5)+(AK9*85)+(AL9*97.5))/25 -> 0
AG10: =COUNTIF(E10:AC10, 1) -> 0 | AH10: =COUNTIF(E10:AC10, 2) -> 0 | AI10: =COUNTIF(E10:AC10, 3) -> 0 | AJ10: =COUNTIF(E10:AC10, 4) -> 0 | AK10: =COUNTIF(E10:AC10, 5) -> 0 | AL10: =COUNTIF(E10:AC10, 6) -> 0 | AM10: =((AG10*2.5)+(AH10*15)+(AI10*37.5)+(AJ10*62.5)+(AK10*85)+(AL10*97.5))/25 -> 0
AG11: =COUNTIF(E11:AC11, 1) -> 0 | AH11: =COUNTIF(E11:AC11, 2) -> 0 | AI11: =COUNTIF(E11:AC11, 3) -> 0 | AJ11: =COUNTIF(E11:AC11, 4) -> 0 | AK11: =COUNTIF(E11:AC11, 5) -> 0 | AL11: =COUNTIF(E11:AC11, 6) -> 0 | AM11: =((AG11*2.5)+(AH11*15)+(AI11*37.5)+(AJ11*62.5)+(AK11*85)+(AL11*97.5))/25 -> 0
AG12: =COUNTIF(E12:AC12, 1) -> 0 | AH12: =COUNTIF(E12:AC12, 2) -> 0 | AI12: =COUNTIF(E12:AC12, 3) -> 0 | AJ12: =COUNTIF(E12:AC12, 4) -> 0 | AK12: =COUNTIF(E12:AC12, 5) -> 0 | AL12: =COUNTIF(E12:AC12, 6) -> 0 | AM12: =((AG12*2.5)+(AH12*15)+(AI12*37.5)+(AJ12*62.5)+(AK12*85)+(AL12*97.5))/25 -> 0
AG13: =COUNTIF(E13:AC13, 1) -> 0 | AH13: =COUNTIF(E13:AC13, 2) -> 0 | AI13: =COUNTIF(E13:AC13, 3) -> 0 | AJ13: =COUNTIF(E13:AC13, 4) -> 0 | AK13: =COUNTIF(E13:AC13, 5) -> 0 | AL13: =COUNTIF(E13:AC13, 6) -> 0 | AM13: =((AG13*2.5)+(AH13*15)+(AI13*37.5)+(AJ13*62.5)+(AK13*85)+(AL13*97.5))/25 -> 0
AG14: =COUNTIF(E14:AC14, 1) -> 0 | AH14: =COUNTIF(E14:AC14, 2) -> 0 | AI14: =COUNTIF(E14:AC14, 3) -> 0 | AJ14: =COUNTIF(E14:AC14, 4) -> 0 | AK14: =COUNTIF(E14:AC14, 5) -> 0 | AL14: =COUNTIF(E14:AC14, 6) -> 0 | AM14: =((AG14*2.5)+(AH14*15)+(AI14*37.5)+(AJ14*62.5)+(AK14*85)+(AL14*97.5))/25 -> 0
AG15: =COUNTIF(E15:AC15, 1) -> 0 | AH15: =COUNTIF(E15:AC15, 2) -> 0 | AI15: =COUNTIF(E15:AC15, 3) -> 0 | AJ15: =COUNTIF(E15:AC15, 4) -> 0 | AK15: =COUNTIF(E15:AC15, 5) -> 0 | AL15: =COUNTIF(E15:AC15, 6) -> 0 | AM15: =((AG15*2.5)+(AH15*15)+(AI15*37.5)+(AJ15*62.5)+(AK15*85)+(AL15*97.5))/25 -> 0
A16: Annual Grasses | AG16: =COUNTIF(E16:AC16, 1) -> 0 | AH16: =COUNTIF(E16:AC16, 2) -> 0 | AI16: =COUNTIF(E16:AC16, 3) -> 0 | AJ16: =COUNTIF(E16:AC16, 4) -> 0 | AK16: =COUNTIF(E16:AC16, 5) -> 0 | AL16: =COUNTIF(E16:AC16, 6) -> 0 | AM16: =((AG16*2.5)+(AH16*15)+(AI16*37.5)+(AJ16*62.5)+(AK16*85)+(AL16*97.5))/25 -> 0 | AN16: =SUM(AM16:AM21) -> 0
AG17: =COUNTIF(E17:AC17, 1) -> 0 | AH17: =COUNTIF(E17:AC17, 2) -> 0 | AI17: =COUNTIF(E17:AC17, 3) -> 0 | AJ17: =COUNTIF(E17:AC17, 4) -> 0 | AK17: =COUNTIF(E17:AC17, 5) -> 0 | AL17: =COUNTIF(E17:AC17, 6) -> 0 | AM17: =((AG17*2.5)+(AH17*15)+(AI17*37.5)+(AJ17*62.5)+(AK17*85)+(AL17*97.5))/25 -> 0
AG18: =COUNTIF(E18:AC18, 1) -> 0 | AH18: =COUNTIF(E18:AC18, 2) -> 0 | AI18: =COUNTIF(E18:AC18, 3) -> 0 | AJ18: =COUNTIF(E18:AC18, 4) -> 0 | AK18: =COUNTIF(E18:AC18, 5) -> 0 | AL18: =COUNTIF(E18:AC18, 6) -> 0 | AM18: =((AG18*2.5)+(AH18*15)+(AI18*37.5)+(AJ18*62.5)+(AK18*85)+(AL18*97.5))/25 -> 0
AG19: =COUNTIF(E19:AC19, 1) -> 0 | AH19: =COUNTIF(E19:AC19, 2) -> 0 | AI19: =COUNTIF(E19:AC19, 3) -> 0 | AJ19: =COUNTIF(E19:AC19, 4) -> 0 | AK19: =COUNTIF(E19:AC19, 5) -> 0 | AL19: =COUNTIF(E19:AC19, 6) -> 0 | AM19: =((AG19*2.5)+(AH19*15)+(AI19*37.5)+(AJ19*62.5)+(AK19*85)+(AL19*97.5))/25 -> 0
AG20: =COUNTIF(E20:AC20, 1) -> 0 | AH20: =COUNTIF(E20:AC20, 2) -> 0 | AI20: =COUNTIF(E20:AC20, 3) -> 0 | AJ20: =COUNTIF(E20:AC20, 4) -> 0 | AK20: =COUNTIF(E20:AC20, 5) -> 0 | AL20: =COUNTIF(E20:AC20, 6) -> 0 | AM20: =((AG20*2.5)+(AH20*15)+(AI20*37.5)+(AJ20*62.5)+(AK20*85)+(AL20*97.5))/25 -> 0
AG21: =COUNTIF(E21:AC21, 1) -> 0 | AH21: =COUNTIF(E21:AC21, 2) -> 0 | AI21: =COUNTIF(E21:AC21, 3) -> 0 | AJ21: =COUNTIF(E21:AC21, 4) -> 0 | AK21: =COUNTIF(E21:AC21, 5) -> 0 | AL21: =COUNTIF(E21:AC21, 6) -> 0 | AM21: =((AG21*2.5)+(AH21*15)+(AI21*37.5)+(AJ21*62.5)+(AK21*85)+(AL21*97.5))/25 -> 0
A22: Perennial Forbs | AG22: =COUNTIF(E22:AC22, 1) -> 0 | AH22: =COUNTIF(E22:AC22, 2) -> 0 | AI22: =COUNTIF(E22:AC22, 3) -> 0 | AJ22: =COUNTIF(E22:AC22, 4) -> 0 | AK22: =COUNTIF(E22:AC22, 5) -> 0 | AL22: =COUNTIF(E22:AC22, 6) -> 0 | AM22: =((AG22*2.5)+(AH22*15)+(AI22*37.5)+(AJ22*62.5)+(AK22*85)+(AL22*97.5))/25 -> 0 | AN22: =SUM(AM22:AM30) -> 0
AG23: =COUNTIF(E23:AC23, 1) -> 0 | AH23: =COUNTIF(E23:AC23, 2) -> 0 | AI23: =COUNTIF(E23:AC23, 3) -> 0 | AJ23: =COUNTIF(E23:AC23, 4) -> 0 | AK23: =COUNTIF(E23:AC23, 5) -> 0 | AL23: =COUNTIF(E23:AC23, 6) -> 0 | AM23: =((AG23*2.5)+(AH23*15)+(AI23*37.5)+(AJ23*62.5)+(AK23*85)+(AL23*97.5))/25 -> 0
AG24: =COUNTIF(E24:AC24, 1) -> 0 | AH24: =COUNTIF(E24:AC24, 2) -> 0 | AI24: =COUNTIF(E24:AC24, 3) -> 0 | AJ24: =COUNTIF(E24:AC24, 4) -> 0 | AK24: =COUNTIF(E24:AC24, 5) -> 0 | AL24: =COUNTIF(E24:AC24, 6) -> 0 | AM24: =((AG24*2.5)+(AH24*15)+(AI24*37.5)+(AJ24*62.5)+(AK24*85)+(AL24*97.5))/25 -> 0
AG25: =COUNTIF(E25:AC25, 1) -> 0 | AH25: =COUNTIF(E25:AC25, 2) -> 0 | AI25: =COUNTIF(E25:AC25, 3) -> 0 | AJ25: =COUNTIF(E25:AC25, 4) -> 0 | AK25: =COUNTIF(E25:AC25, 5) -> 0 | AL25: =COUNTIF(E25:AC25, 6) -> 0 | AM25: =((AG25*2.5)+(AH25*15)+(AI25*37.5)+(AJ25*62.5)+(AK25*85)+(AL25*97.5))/25 -> 0
AG26: =COUNTIF(E26:AC26, 1) -> 0 | AH26: =COUNTIF(E26:AC26, 2) -> 0 | AI26: =COUNTIF(E26:AC26, 3) -> 0 | AJ26: =COUNTIF(E26:AC26, 4) -> 0 | AK26: =COUNTIF(E26:AC26, 5) -> 0 | AL26: =COUNTIF(E26:AC26, 6) -> 0 | AM26: =((AG26*2.5)+(AH26*15)+(AI26*37.5)+(AJ26*62.5)+(AK26*85)+(AL26*97.5))/25 -> 0
AG27: =COUNTIF(E27:AC27, 1) -> 0 | AH27: =COUNTIF(E27:AC27, 2) -> 0 | AI27: =COUNTIF(E27:AC27, 3) -> 0 | AJ27: =COUNTIF(E27:AC27, 4) -> 0 | AK27: =COUNTIF(E27:AC27, 5) -> 0 | AL27: =COUNTIF(E27:AC27, 6) -> 0 | AM27: =((AG27*2.5)+(AH27*15)+(AI27*37.5)+(AJ27*62.5)+(AK27*85)+(AL27*97.5))/25 -> 0
AG28: =COUNTIF(E28:AC28, 1) -> 0 | AH28: =COUNTIF(E28:AC28, 2) -> 0 | AI28: =COUNTIF(E28:AC28, 3) -> 0 | AJ28: =COUNTIF(E28:AC28, 4) -> 0 | AK28: =COUNTIF(E28:AC28, 5) -> 0 | AL28: =COUNTIF(E28:AC28, 6) -> 0 | AM28: =((AG28*2.5)+(AH28*15)+(AI28*37.5)+(AJ28*62.5)+(AK28*85)+(AL28*97.5))/25 -> 0
AG29: =COUNTIF(E29:AC29, 1) -> 0 | AH29: =COUNTIF(E29:AC29, 2) -> 0 | AI29: =COUNTIF(E29:AC29, 3) -> 0 | AJ29: =COUNTIF(E29:AC29, 4) -> 0 | AK29: =COUNTIF(E29:AC29, 5) -> 0 | AL29: =COUNTIF(E29:AC29, 6) -> 0 | AM29: =((AG29*2.5)+(AH29*15)+(AI29*37.5)+(AJ29*62.5)+(AK29*85)+(AL29*97.5))/25 -> 0
AG30: =COUNTIF(E30:AC30, 1) -> 0 | AH30: =COUNTIF(E30:AC30, 2) -> 0 | AI30: =COUNTIF(E30:AC30, 3) -> 0 | AJ30: =COUNTIF(E30:AC30, 4) -> 0 | AK30: =COUNTIF(E30:AC30, 5) -> 0 | AL30: =COUNTIF(E30:AC30, 6) -> 0 | AM30: =((AG30*2.5)+(AH30*15)+(AI30*37.5)+(AJ30*62.5)+(AK30*85)+(AL30*97.5))/25 -> 0
A31: Perennial Grasses | AG31: =COUNTIF(E31:AC31, 1) -> 0 | AH31: =COUNTIF(E31:AC31, 2) -> 0 | AI31: =COUNTIF(E31:AC31, 3) -> 0 | AJ31: =COUNTIF(E31:AC31, 4) -> 0 | AK31: =COUNTIF(E31:AC31, 5) -> 0 | AL31: =COUNTIF(E31:AC31, 6) -> 0 | AM31: =((AG31*2.5)+(AH31*15)+(AI31*37.5)+(AJ31*62.5)+(AK31*85)+(AL31*97.5))/25 -> 0 | AN31: =SUM(AM31:AM39) -> 0
AG32: =COUNTIF(E32:AC32, 1) -> 0 | AH32: =COUNTIF(E32:AC32, 2) -> 0 | AI32: =COUNTIF(E32:AC32, 3) -> 0 | AJ32: =COUNTIF(E32:AC32, 4) -> 0 | AK32: =COUNTIF(E32:AC32, 5) -> 0 | AL32: =COUNTIF(E32:AC32, 6) -> 0 | AM32: =((AG32*2.5)+(AH32*15)+(AI32*37.5)+(AJ32*62.5)+(AK32*85)+(AL32*97.5))/25 -> 0
AG33: =COUNTIF(E33:AC33, 1) -> 0 | AH33: =COUNTIF(E33:AC33, 2) -> 0 | AI33: =COUNTIF(E33:AC33, 3) -> 0 | AJ33: =COUNTIF(E33:AC33, 4) -> 0 | AK33: =COUNTIF(E33:AC33, 5) -> 0 | AL33: =COUNTIF(E33:AC33, 6) -> 0 | AM33: =((AG33*2.5)+(AH33*15)+(AI33*37.5)+(AJ33*62.5)+(AK33*85)+(AL33*97.5))/25 -> 0
AG34: =COUNTIF(E34:AC34, 1) -> 0 | AH34: =COUNTIF(E34:AC34, 2) -> 0 | AI34: =COUNTIF(E34:AC34, 3) -> 0 | AJ34: =COUNTIF(E34:AC34, 4) -> 0 | AK34: =COUNTIF(E34:AC34, 5) -> 0 | AL34: =COUNTIF(E34:AC34, 6) -> 0 | AM34: =((AG34*2.5)+(AH34*15)+(AI34*37.5)+(AJ34*62.5)+(AK34*85)+(AL34*97.5))/25 -> 0
AG35: =COUNTIF(E35:AC35, 1) -> 0 | AH35: =COUNTIF(E35:AC35, 2) -> 0 | AI35: =COUNTIF(E35:AC35, 3) -> 0 | AJ35: =COUNTIF(E35:AC35, 4) -> 0 | AK35: =COUNTIF(E35:AC35, 5) -> 0 | AL35: =COUNTIF(E35:AC35, 6) -> 0 | AM35: =((AG35*2.5)+(AH35*15)+(AI35*37.5)+(AJ35*62.5)+(AK35*85)+(AL35*97.5))/25 -> 0
AG36: =COUNTIF(E36:AC36, 1) -> 0 | AH36: =COUNTIF(E36:AC36, 2) -> 0 | AI36: =COUNTIF(E36:AC36, 3) -> 0 | AJ36: =COUNTIF(E36:AC36, 4) -> 0 | AK36: =COUNTIF(E36:AC36, 5) -> 0 | AL36: =COUNTIF(E36:AC36, 6) -> 0 | AM36: =((AG36*2.5)+(AH36*15)+(AI36*37.5)+(AJ36*62.5)+(AK36*85)+(AL36*97.5))/25 -> 0
AG37: =COUNTIF(E37:AC37, 1) -> 0 | AH37: =COUNTIF(E37:AC37, 2) -> 0 | AI37: =COUNTIF(E37:AC37, 3) -> 0 | AJ37: =COUNTIF(E37:AC37, 4) -> 0 | AK37: =COUNTIF(E37:AC37, 5) -> 0 | AL37: =COUNTIF(E37:AC37, 6) -> 0 | AM37: =((AG37*2.5)+(AH37*15)+(AI37*37.5)+(AJ37*62.5)+(AK37*85)+(AL37*97.5))/25 -> 0
AG38: =COUNTIF(E38:AC38, 1) -> 0 | AH38: =COUNTIF(E38:AC38, 2) -> 0 | AI38: =COUNTIF(E38:AC38, 3) -> 0 | AJ38: =COUNTIF(E38:AC38, 4) -> 0 | AK38: =COUNTIF(E38:AC38, 5) -> 0 | AL38: =COUNTIF(E38:AC38, 6) -> 0 | AM38: =((AG38*2.5)+(AH38*15)+(AI38*37.5)+(AJ38*62.5)+(AK38*85)+(AL38*97.5))/25 -> 0
AG39: =COUNTIF(E39:AC39, 1) -> 0 | AH39: =COUNTIF(E39:AC39, 2) -> 0 | AI39: =COUNTIF(E39:AC39, 3) -> 0 | AJ39: =COUNTIF(E39:AC39, 4) -> 0 | AK39: =COUNTIF(E39:AC39, 5) -> 0 | AL39: =COUNTIF(E39:AC39, 6) -> 0 | AM39: =((AG39*2.5)+(AH39*15)+(AI39*37.5)+(AJ39*62.5)+(AK39*85)+(AL39*97.5))/25 -> 0
E40: Daubenmire Frame Number
...

Sheet LineInt
A1: Line Intercept Data Form
A2: Date: | B2: =PlotMetadata!J3 -> 0 | C2: Site: | D2: =PlotMetadata!B2 -> 0 | E2: Plot ID: | F2: =PlotMetadata!B3 -> 0 | G2: Transect: | J2: Please reference the LIDF instructions to complete this form.
A3: Evaluator(s): | B3: =PlotMetadata!C4 -> 0
A4: Azimuth: | B4: =IF($H$2=1, PlotMetadata!$B$9, IF($H$2=2, PlotMetadata!$B$10, IF($H$2=3, PlotMetadata!$B$11))) -> FALSE | F4: Min. Length: | K4: Species | L4: Total | M4: % Cover
A5: Species | B5: Start | C5: End | D5: Length | E5: Notes | J5: Sagebrush Cover | K5: ARAR8 | L5: =SUMIF($A$6:$A$99, K5, $D$6:$D$99) -> 0 | M5: =L5/5000 -> 0
D6: =ABS(C6-B6) -> 0 | K6: ARCA13 | L6: =SUMIF($A$6:$A$99, K6, $D$6:$D$99) -> 0 | M6: =L6/5000 -> 0
D7: =ABS(C7-B7) -> 0 | K7: ARLU | L7: =SUMIF($A$6:$A$99, K7, $D$6:$D$99) -> 0 | M7: =L7/5000 -> 0
D8: =ABS(C8-B8) -> 0 | K8: ARNO4 | L8: =SUMIF($A$6:$A$99, K8, $D$6:$D$99) -> 0 | M8: =L8/5000 -> 0
D9: =ABS(C9-B9) -> 0 | K9: ARPA16 | L9: =SUMIF($A$6:$A$99, K9, $D$6:$D$99) -> 0 | M9: =L9/5000 -> 0
D10: =ABS(C10-B10) -> 0 | K10: ARTRT | L10: =SUMIF($A$6:$A$99, K10, $D$6:$D$99) -> 0 | M10: =L10/5000 -> 0
D11: =ABS(C11-B11) -> 0 | K11: ARTRV | L11: =SUMIF($A$6:$A$99, K11, $D$6:$D$99) -> 0 | M11: =L11/5000 -> 0
D12: =ABS(C12-B12) -> 0 | K12: ARTRW8 | L12: =SUMIF($A$6:$A$99, K12, $D$6:$D$99) -> 0 | M12: =L12/5000 -> 0
D13: =ABS(C13-B13) -> 0 | K13: ARTRX | L13: =SUMIF($A$6:$A$99, K13, $D$6:$D$99) -> 0 | M13: =L13/5000 -> 0
D14: =ABS(C14-B14) -> 0 | K14: ARTR4 | L14: =SUMIF($A$6:$A$99, K14, $D$6:$D$99) -> 0 | M14: =L14/5000 -> 0
D15: =ABS(C15-B15) -> 0 | L15: =SUMIF($A$6:$A$99, K15, $D$6:$D$99) -> 0 | M15: =L15/5000 -> 0
D16: =ABS(C16-B16) -> 0 | L16: =SUMIF($A$6:$A$99, K16, $D$6:$D$99) -> 0 | M16: =L16/5000 -> 0
D17: =ABS(C17-B17) -> 0 | L17: =SUMIF($A$6:$A$99, K17, $D$6:$D$99) -> 0 | M17: =L17/5000 -> 0
D18: =ABS(C18-B18) -> 0 | L18: =SUMIF($A$6:$A$99, K18, $D$6:$D$99) -> 0 | M18: =L18/5000 -> 0
D19: =ABS(C19-B19) -> 0 | L19: =SUMIF($A$6:$A$99, K19, $D$6:$D$99) -> 0 | M19: =L19/5000 -> 0
D20: =ABS(C20-B20) -> 0 | J20: Other Shrub Cover | K20: CHVI8 | L20: =SUMIF($A$6:$A$99, K20, $D$6:$D$99) -> 0 | M20: =L20/5000 -> 0
D21: =ABS(C21-B21) -> 0 | K21: ERNA10 | L21: =SUMIF($A$6:$A$99, K21, $D$6:$D$99) -> 0 | M21: =L21/5000 -> 0
D22: =ABS(C22-B22) -> 0 | K22: ATCA2 | L22: =SUMIF($A$6:$A$99, K22, $D$6:$D$99) -> 0 | M22: =L22/5000 -> 0
D23: =ABS(C23-B23) -> 0 | K23: ATCO | L23: =SUMIF($A$6:$A$99, K23, $D$6:$D$99) -> 0 | M23: =L23/5000 -> 0
D24: =ABS(C24-B24) -> 0 | K24: CHHU2 | L24: =SUMIF($A$6:$A$99, K24, $D$6:$D$99) -> 0 | M24: =L24/5000 -> 0
D25: =ABS(C25-B25) -> 0 | K25: GRSP | L25: =SUMIF($A$6:$A$99, K25, $D$6:$D$99) -> 0 | M25: =L25/5000 -> 0
D26: =ABS(C26-B26) -> 0 | K26: TECA2 | L26: =SUMIF($A$6:$A$99, K26, $D$6:$D$99) -> 0 | M26: =L26/5000 -> 0
D27: =ABS(C27-B27) -> 0 | L27: =SUMIF($A$6:$A$99, K27, $D$6:$D$99) -> 0 | M27: =L27/5000 -> 0
D28: =ABS(C28-B28) -> 0 | L28: =SUMIF($A$6:$A$99, K28, $D$6:$D$99) -> 0 | M28: =L28/5000 -> 0
D29: =ABS(C29-B29) -> 0 | L29: =SUMIF($A$6:$A$99, K29, $D$6:$D$99) -> 0 | M29: =L29/5000 -> 0
D30: =ABS(C30-B30) -> 0 | L30: =SUMIF($A$6:$A$99, K30, $D$6:$D$99) -> 0 | M30: =L30/5000 -> 0
D31: =ABS(C31-B31) -> 0 | L31: =SUMIF($A$6:$A$99, K31, $D$6:$D$99) -> 0 | M31: =L31/5000 -> 0
D32: =ABS(C32-B32) -> 0 | K32: ARTR Total | L32: =SUM(L5:L19) -> 0 | M32: =SUM(M5:M19) -> 0
D33: =ABS(C33-B33) -> 0 | K33: Other Total | L33: =SUM(L20:L31) -> 0 | M33: =SUM(M20:M31) -> 0
D34: =ABS(C34-B34) -> 0 | K34: All Shrubs | L34: =SUM(L5:L31) -> 0 | M34: =SUM(M5:M31) -> 0
D35: =ABS(C35-B35) -> 0
D36: =ABS(C36-B36) -> 0
D37: =ABS(C37-B37) -> 0
D38: =ABS(C38-B38) -> 0
D39: =ABS(C39-B39) -> 0
D40: =ABS(C40-B40) -> 0
...

Sheet Forbs
A1: Sage-Grouse Forb Diversity Data Form
A2: Date: | B2: =PlotMetadata!J3 -> 0 | D2: Site: | F2: =PlotMetadata!AE8 -> 0 | K2: Plot ID: | M2: =PlotMetadata!AE9 -> 0 | P2: Evaluator(s): | S2: =PlotMetadata!C4 -> 0 | AD2: Total Pref. Species | AE2: Total # Preferred | AF2: Total # Noxious | AG2: Total # Invasive | AH2: Total # Other | AM2: N
A3: Transect: | P3: Azimuth: | S3: =IF($I$2=1, PlotMetadata!$B$9, IF($I$2=2, PlotMetadata!$B$10, IF($I$2=3, PlotMetadata!$B$11))) -> FALSE | AD3: =COUNTIF(A7:A59, "P") -> 0 | AE3: =SUMIFS($AB$7:$AB$59, $A$7:$A$59, "P") -> 0 | AF3: =SUMIFS($AB$7:$AB$59, $A$7:$A$59, "N") -> 0 | AG3: =SUMIFS($AB$7:$AB$59, $A$7:$A$59, "I") -> 0 | AH3: =SUMIFS($AB$7:$AB$59, $A$7:$A$59, "O") -> 0
A4: Forb Diversity - Record species name at 2-m intervals. Check the appropriate plot number if species is present.
A5: Type1 | B5: Species | C5: Forb Plot Number | AB5: T
C6: 1 | D6: 2 | E6: 3 | F6: 4 | G6: 5 | H6: 6 | I6: 7 | J6: 8 | K6: 9 | L6: 10 | M6: 11 | N6: 12 | O6: 13 | P6: 14 | Q6: 15 | R6: 16 | S6: 17 | T6: 18 | U6: 19 | V6: 20 | W6: 21 | X6: 22 | Y6: 23 | Z6: 24 | AA6: 25
AB7: =COUNTIF(C7:AA7, "X") -> 0
AB8: =COUNTIF(C8:AA8, "X") -> 0
AB9: =COUNTIF(C9:AA9, "X") -> 0
AB10: =COUNTIF(C10:AA10, "X") -> 0
AB11: =COUNTIF(C11:AA11, "X") -> 0
AB12: =COUNTIF(C12:AA12, "X") -> 0
AB13: =COUNTIF(C13:AA13, "X") -> 0
AB14: =COUNTIF(C14:AA14, "X") -> 0
AB15: =COUNTIF(C15:AA15, "X") -> 0
AB16: =COUNTIF(C16:AA16, "X") -> 0
AB17: =COUNTIF(C17:AA17, "X") -> 0
AB18: =COUNTIF(C18:AA18, "X") -> 0
... AB59: =COUNTIF(C59:AA59, "X") -> 0
A60: 1 Type: P = Preferred, N = Noxious, I = Invasive, O = Other. Note: The forb type can be determined later in the office or via automated approaches.

Sheet BrdngHabitat
A1: Habitat Suitability Worksheet - Breeding Habitat (Nesting/Early Brood-Rearing)
A2: Date: | B2: =PlotMetadata!J3 -> 0 | C2: County: | E2: State: | G2: Evaluator(s): | H2: =PlotMetadata!C4 -> 0
A3: Population: | C3: =PlotMetadata!C26 -> 0 | G3: Home Range Name: | H3: =PlotMetadata!I26 -> 0
A4: Land Cover Type: | C4: =PlotMetadata!C27 -> 0 | G4: Ecological Site: | H4: =PlotMetadata!I27 -> 0
A5: Associated Leks: | C5: =PlotMetadata!C28 -> 0 | G5: Number of Transects:
A6: Area Sampled (ha/ac): | C6: =PlotMetadata!J28 -> 0 | G6: Site Info:
A7: List of UTM Coordinates (coordinates, zone, datum) of All Transects:
A9: Habitat Indicator Suitability Range
A10: Habitat Indicator | D10:  | E10: Suitable | F10: ü | G10: Marginal | H10: ü | I10: Unsuitable | J10: ü
A11: Sagebrush Canopy Cover (mean) | D11: =LineInt!M32 -> 0 | E11: 15 to 25% | F11: =IF(AND(D11>=0.15, (D11<=0.25)), "X", "-") -> - | G11: 5 to <15% or >25% | H11: =IF(OR(D11>0.25, AND(D11>=0.05, (D11<0.15))), "X", "-") -> - | I11: <5 % | J11: =IF(D11<0.05, "X", "-") -> X
A12: Sagebrush Height (mean) | D12: =Daubenmire!AO45 -> #DIV/0!
A13: Mesic Site | E13: 40 to 80 cm | F13: =IF(AND(D12<=80, (D12>=40)), "X", "-") -> #DIV/0! | G13: 20 to <40 or >80 cm | H13: =IF(OR($D$12>80, AND($D$12<40, $D$12>=20)), "X", "-") -> #DIV/0! | I13: <20 cm | J13: =IF(D12<20, "X", "-") -> #DIV/0!
A14: Arid Site | E14: 30 to 80 cm | F14: =IF(AND(D12<=80, (D12>=30)), "X", "-") -> #DIV/0! | G14: 20 to <30 or >80 cm | H14: =IF(OR($D$12>80, AND($D$12<30, $D$12>=20)), "X", "-") -> #DIV/0! | I14: <20 cm | J14: =IF(D12<20, "X", "-") -> #DIV/0!
A15: Predominant Sagebrush Shape (mode) | D15: =Daubenmire!AU46 -> #DIV/0! | E15: Spreading | F15: =IF(D15="S", "X", "-") -> #DIV/0! | G15: Mix of both spreading and columnar | H15: =IF(D15="M", "X", "-") -> #DIV/0! | I15: Columnar | J15: =IF(D15="C", "X", "-") -> #DIV/0!
A16: Perennial Grass Height (mean) | D16: =Daubenmire!AO43 -> #DIV/0! | E16: ≥18 cm | F16: =IF(D16>=18, "X", "-") -> #DIV/0! | G16: 10 to <18 cm | H16: =IF(AND(D16<18,(D16>=10)),"X","-") -> #DIV/0! | I16: <10 cm | J16: =IF(D16<10, "X", "-") -> #DIV/0!
A17: Perennial Forb Height (mean) | D17: =Daubenmire!AO42 -> #DIV/0! | E17: ≥18 cm | F17: =IF(D17>=18, "X", "-") -> #DIV/0! | G17: 10 to <18 cm | H17: =IF(AND(D17<18,(D17>=10)),"X","-") -> #DIV/0! | I17: <10 cm | J17: =IF(D17<10, "X", "-") -> #DIV/0!
A18: Perennial Grass Cover | D18: =Daubenmire!AN31/100 -> 0
A19: Mesic Site | E19: ≥15% | F19: =IF(D18>=0.15, "X", "-") -> - | G19: 5 to <15% | H19: =IF(AND($D$18<0.15, ($D$18>=0.05)), "X", "-") -> - | I19: <5% | J19: =IF(D18<0.05, "X", "-") -> X
A20: Arid Site | E20: ≥10% | F20: =IF(D18>=0.1, "X", "-") -> - | G20: 5 to <10% | H20: =IF(AND($D$18<0.1, ($D$18>=0.05)), "X", "-") -> - | I20: <5% | J20: =IF(D18<0.05, "X", "-") -> X
A21: Perennial Forb Cover | D21: =Daubenmire!AN22/100 -> 0
A22: Mesic Site | E22: ≥10% | F22: =IF(D21>=0.1, "X", "-") -> - | G22: 5 to <10% | H22: =IF(AND($D$21<0.1, ($D$21>=0.05)), "X", "-") -> - | I22: <5% | J22: =IF(D21<0.05, "X", "-") -> X
A23: Arid Site | E23: ≥5% | F23: =IF(D21>=0.05, "X", "-") -> - | G23: 3 to <5% | H23: =IF(AND($D$21<0.05, ($D$21>=0.03)), "X", "-") -> - | I23: <3% | J23: =IF(D21<0.03, "X", "-") -> X
A24: Preferred Forb Availability (relative to site potential) | E24: Preferred forbs are common with several species present | G24: Preferred forbs are common but only a few species are present | I24: Preferred forbs are rare
A25: Number of Preferred Forb Species (n) | D25: =Forbs!AD3 -> 0
A26: Site-Scale Suitability | E26: Suitable | G26: Marginal | I26: Unsuitable
A27: Does ecological site potential limit suitability potential? (mark one) | F27: Yes | H27: No | J27: Unknown
A28: Drought Condition (mark the appropriate condition): | E28: Extreme Drought | G28: Severe Drought | I28: Moderate Drought
E29: Moderately Moist | G29: Very Moist | I29: Extremely Moist
E30: Mid-Range
A31: Rationale for Overall Suitability Rating:

Sheet SummerHabitat
A1: Habitat Suitability Worksheet - Upland Summer/Late Brood-Rearing Habitat
A2: Date: | B2: =PlotMetadata!J3 -> 0 | C2: County: | D2: =BrdngHabitat!D2 -> 0 | E2: State: | F2: =BrdngHabitat!F2 -> 0 | G2: Evaluator(s): | H2: =PlotMetadata!C4 -> 0
A3: Population: | C3: =PlotMetadata!C26 -> 0 | G3: Home Range Name: | H3: =PlotMetadata!I26 -> 0
A4: Land Cover Type: | C4: =PlotMetadata!C27 -> 0 | G4: Ecological Site: | H4: =PlotMetadata!I27 -> 0
A5: Associated Leks: | C5: =PlotMetadata!C28 -> 0 | G5: Number of Transects: | H5: =BrdngHabitat!H5 -> 0
A6: Area Sampled (ha/ac): | C6: =PlotMetadata!J28 -> 0 | G6: Site Info: | H6: =BrdngHabitat!H6 -> 0
A7: List of UTM Coordinates (coordinates, zone, datum) of All Transects:
A8: =BrdngHabitat!A8 -> 0
A9: Habitat Indicator Suitability Range
A10: Habitat Indicator | D10:  | E10: Suitable | F10: ü | G10: Marginal | H10: ü | I10: Unsuitable | J10: ü
A11: Sagebrush Cover (mean) | D11: =BrdngHabitat!D11 -> 0 | E11: 10 to 25% | F11: =IF(AND(D11>=0.1, (D11<=0.25)), "X", "-") -> - | G11: 5 to <10% or >25% | H11: =IF(OR(D11>0.25, AND(D11>=0.05, (D11<0.1))), "X", "-") -> - | I11: <5% | J11: =IF(D11<0.05, "X", "-") -> X
A12: Sagebrush Height (mean) | D12: =BrdngHabitat!D12 -> #DIV/0! | E12: 40 to 80 cm | F12: =IF(AND(D12<=80, (D12>=40)), "X", "-") -> #DIV/0! | G12: 20 to <40 or >80 cm | H12: =IF(OR(D12>80, AND(D12<40, D12>=20)), "X", "-") -> #DIV/0! | I12: <20 cm | J12: =IF(D12<20, "X", "-") -> #DIV/0!
A13: Perennial Grass and Forb Cover (mean) | D13: =BrdngHabitat!D18+BrdngHabitat!D21 -> 0 | E13: ≥15% | F13: =IF(D13>=0.15, "X", "-") -> - | G13: 5 to <15% | H13: =IF(AND(D13>=0.05, (D13<0.15)), "X", "-") -> - | I13: <5% | J13: =IF(D13<0.05, "X", "-") -> X
A14: Preferred Forb Availability (relative to site potential) | E14: Preferred forbs are common with appropriate numbers of species present | G14: Forbs are common but only a few preferred species are present | I14: Preferred forbs are rare
A15: Number of Preferred Forb Species (n) | D15: =BrdngHabitat!D25 -> 0
A16: Site-Scale Suitability | E16: Suitable | G16: Marginal | I16: Unsuitable
A17: Does ecological site potential limit suitability potential? (mark one) | F17: Yes | H17: No | J17: Unknown
A18: Drought Condition (mark the appropriate condition): | E18: Extreme Drought | G18: Severe Drought | I18: Moderate Drought
E19: Moderately Moist | G19: Very Moist | I19: Extremely Moist
E20: Mid-Range
A21: Rationale for Overall Suitability Rating:

Sheet WinterHabitat
A1: Habitat Suitability Worksheet - Winter Habitat
A2: Date: | B2: =PlotMetadata!J3 -> 0 | C2: County: | D2: =BrdngHabitat!D2 -> 0 | E2: State: | F2: =BrdngHabitat!F2 -> 0 | G2: Evaluator(s): | H2: =PlotMetadata!C4 -> 0
A3: Population: | C3: =PlotMetadata!C26 -> 0 | G3: Home Range Name: | H3: =PlotMetadata!I26 -> 0
A4: Land Cover Type: | C4: =PlotMetadata!C27 -> 0 | G4: Ecological Site: | H4: =PlotMetadata!I27 -> 0
A5: Associated Leks: | C5: =PlotMetadata!C28 -> 0 | G5: Number of Transects: | H5: =BrdngHabitat!H5 -> 0
A6: Area Sampled (ha/ac): | C6: =PlotMetadata!J28 -> 0 | G6: Site Info: | H6: =BrdngHabitat!H6 -> 0
A7: List of UTM Coordinates (coordinates, zone, datum) of All Transects:
A8: =BrdngHabitat!A8 -> 0
A9: Habitat Indicator Suitability Range
A10: Habitat Indicator | D10:  | E10: Suitable | F10: ü | G10: Marginal | H10: ü | I10: Unsuitable | J10: ü
A11: Sagebrush Cover (mean) | D11: =BrdngHabitat!D11 -> 0 | E11: ≥10% | F11: =IF(D11>=0.1, "X", "-") -> - | G11: 5 to <10% | H11: =IF(AND(D11<0.1, (D11>=0.05)), "X", "-") -> - | I11: <5% | J11: =IF(D11<0.05, "X", "-") -> X
A12: Sagebrush Height (above snow) (mean) | D12: =BrdngHabitat!D12 -> #DIV/0! | E12: ≥25 cm | F12: =IF(D12>25, "X", "-") -> #DIV/0! | G12: >10 to <25 cm | H12: =IF(AND(D12<=25, (D12>=10)), "X", "-") -> #DIV/0! | I12: ≤10 cm | J12: =IF(D12<10, "X", "-") -> #DIV/0!
A13: Site-Scale Suitability | E13: Suitable | G13: Marginal | I13: Unsuitable
A14: Rationale for Overall Suitability Rating:
