Workbook

Sheet Plot Tracking
A1: Plot Information | J1: Populate these fields if site WAS NOT sampled | L1: Populate these fields if site WAS sampled.
A2: Plot ID (Plot Name) | B2: Panel | C2: Plot Status | D2: Administrative State | E2: Project Office | F2: Design Stratum | G2: Project Contact Name | H2: Contact Info (Email, Phone) | I2: Comments | J2: Rejection Criteria | K2: Rejection Criteria Comments | L2: Actual Stratum | M2: Project | N2: Random or Targeted? | O2: Revisit? | P2: Original Plot ID (If Revisit) | Q2: Date Originally Visited (If Revisit) | R2: Moved? | S2: Move Comments | T2: Date Visited | U2: Actual Latitude (Y) | V2: Actual Longitude (X)
W3: =IF(C3="Sampled",F3,"Not Sampled") -> Not Sampled | X3: =TEXT(W3, "") -> Not Sampled
W4: =IF(C4="Sampled",F4,"Not Sampled") -> Not Sampled | X4: =TEXT(W4, "") -> Not Sampled
W5: =IF(C5="Sampled",F5,"Not Sampled") -> Not Sampled | X5: =TEXT(W5, "") -> Not Sampled
W6: =IF(C6="Sampled",F6,"Not Sampled") -> Not Sampled | X6: =TEXT(W6, "") -> Not Sampled
W7: =IF(C7="Sampled",F7,"Not Sampled") -> Not Sampled | X7: =TEXT(W7, "") -> Not Sampled
W8: =IF(C8="Sampled",F8,"Not Sampled") -> Not Sampled | X8: =TEXT(W8, "") -> Not Sampled
W9: =IF(C9="Sampled",F9,"Not Sampled") -> Not Sampled | X9: =TEXT(W9, "") -> Not Sampled
W10: =IF(C10="Sampled",F10,"Not Sampled") -> Not Sampled | X10: =TEXT(W10, "") -> Not Sampled
W11: =IF(C11="Sampled",F11,"Not Sampled") -> Not Sampled | X11: =TEXT(W11, "") -> Not Sampled
W12: =IF(C12="Sampled",F12,"Not Sampled") -> Not Sampled | X12: =TEXT(W12, "") -> Not Sampled
W13: =IF(C13="Sampled",F13,"Not Sampled") -> Not Sampled | X13: =TEXT(W13, "") -> Not Sampled
W14: =IF(C14="Sampled",F14,"Not Sampled") -> Not Sampled | X14: =TEXT(W14, "") -> Not Sampled
... W128: =IF(C128="Sampled",F128,"Not Sampled") -> Not Sampled | X128: =TEXT(W128, "") -> Not Sampled

Sheet Administrative State
A1: AK | B1: Alaska
A2: AZ | B2: Arizona
A3: CA | B3: California
A4: CO | B4: Colorado
A5: ES | B5: Eastern States
A6: ID | B6: Idaho
A7: MT | B7: Montana
A8: NM | B8: New Mexico
A9: NV | B9: Nevada
A10: OR | B10: Oregon
A11: UT | B11: Utah
A12: WY | B12: Wyoming
A13: XX | B13: Unknown

Sheet Adminstrative Unit Code
A1: AZP03000 | B1: AGUA FRIA NATIONAL MONUMENT
A2: AK000000 | B2: ALASKA
A3: NMA00000 | B3: ALBUQUERQUE DISTRICT OFFICE
A4: NM006000 | B4: AMARILLO FIELD OFFICE
A5: AKA00000 | B5: ANCHORAGE DISTRICT OFFICE
A6: AKA01000 | B6: ANCHORAGE FIELD OFFICE
A7: CAN02000 | B7: APPLEGATE FIELD OFFICE
A8: CAN03000 | B8: ARCATA FIELD OFFICE
A9: AKF01000 | B9: ARCTIC FIELD OFFICE
A10: AZ000000 | B10: ARIZONA
A11: AZA00000 | B11: ARIZONA STRIP DISTRICT OFFICE
A12: AZA01000 | B12: ARIZONA STRIP FIELD OFFICE
... A253: AZC02000 | B253: YUMA FIELD OFFICE

Sheet YES_NO
A1: YES
A2: NO

Sheet Rejection Criteria
A1: Office - > 3 miles walking distance
A2: Office - Access Denied
A3: Office - Non-BLM land
A4: Office - Slope > 50%
A5: Office - Transect crosses boundary
A6: Office - Unsafe to sample
A7: Field - >3 miles walking distance
A8: Field - Access Denied
A9: Field - Intersects Road
A10: Field - Intersects wetland, riparian, or aquatic feature
A11: Field - Slope > 50%
A12: Field - Unsafe to sample
... A17: Archeology Site

Sheet Plot Status
A1: Sampled
A2: Rejected
A3: Not Sampled

Sheet PROJECTS
A1: ESR | B1: ESR
A2: Terrestrial AIM | B2: TERRESTRIAL AIM
A3: Gunnison Sage Grouse | B3: GUNNISON SAGE GROUSE
A4: Habitat Assessment Framework | B4: HAF
A5: Solar Energy Zone | B5: SEZ

Sheet Plot Proportions
A1: Sample Design | G1: Collected
A2: Strata | B2: Abbreviation | C2: Proportion of Study Area | D2: Percent of Study Area | E2: Plots | F2: Plot Percentage | G2: Points Collected | H2: Proportion Collected | I2: Percent Collected
G3: =COUNTIF('Plot Tracking'!$X$3:$X$108, A3) -> 0 | H3: =G3/$G$12 -> #DIV/0! | I3: =H3*100 -> #DIV/0!
G4: =COUNTIF('Plot Tracking'!$X$3:$X$108, A4) -> 0 | H4: =G4/$G$12 -> #DIV/0! | I4: =H4*100 -> #DIV/0!
G5: =COUNTIF('Plot Tracking'!$X$3:$X$108, A5) -> 0 | H5: =G5/$G$12 -> #DIV/0! | I5: =H5*100 -> #DIV/0!
G6: =COUNTIF('Plot Tracking'!$X$3:$X$108, A6) -> 0 | H6: =G6/$G$12 -> #DIV/0! | I6: =H6*100 -> #DIV/0!
G7: =COUNTIF('Plot Tracking'!$X$3:$X$108, A7) -> 0 | H7: =G7/$G$12 -> #DIV/0! | I7: =H7*100 -> #DIV/0!
G8: =COUNTIF('Plot Tracking'!$X$3:$X$108, A8) -> 0 | H8: =G8/$G$12 -> #DIV/0! | I8: =H8*100 -> #DIV/0!
G9: =COUNTIF('Plot Tracking'!$X$3:$X$108, A9) -> 0 | H9: =G9/$G$12 -> #DIV/0! | I9: =H9*100 -> #DIV/0!
G10: =COUNTIF('Plot Tracking'!$X$3:$X$108, A10) -> 0 | H10: =G10/$G$12 -> #DIV/0! | I10: =H10*100 -> #DIV/0!
G11: =COUNTIF('Plot Tracking'!$X$3:$X$108, A11) -> 0 | H11: =G11/$G$12 -> #DIV/0! | I11: =H11*100 -> #DIV/0!
B12: Totals: | C12: =SUM(C3:C11) -> 0 | D12: =SUM(D3:D11) -> 0 | E12: =SUM(E3:E11) -> 0 | F12: =SUM(F3:F11) -> 0 | G12: =SUM(G3:G11) -> 0 | H12: =SUM(H3:H11) -> #DIV/0! | I12: =SUM(I3:I11) -> #DIV/0!

Sheet Sheet1
A1: Random - NOC or SHINY generated design
A2: Targeted
